BEGIN:VCALENDAR
VERSION:2.0
PRODID:-//GSMBA - ECPv6.11.1//NONSGML v1.0//EN
CALSCALE:GREGORIAN
METHOD:PUBLISH
X-WR-CALNAME:GSMBA
X-ORIGINAL-URL:https://gsmba.uk
X-WR-CALDESC:Events for GSMBA
REFRESH-INTERVAL;VALUE=DURATION:PT1H
X-Robots-Tag:noindex
X-PUBLISHED-TTL:PT1H
BEGIN:VTIMEZONE
TZID:Europe/London
BEGIN:DAYLIGHT
TZOFFSETFROM:+0000
TZOFFSETTO:+0100
TZNAME:BST
DTSTART:20230326T010000
END:DAYLIGHT
BEGIN:STANDARD
TZOFFSETFROM:+0100
TZOFFSETTO:+0000
TZNAME:GMT
DTSTART:20231029T010000
END:STANDARD
BEGIN:DAYLIGHT
TZOFFSETFROM:+0000
TZOFFSETTO:+0100
TZNAME:BST
DTSTART:20240331T010000
END:DAYLIGHT
BEGIN:STANDARD
TZOFFSETFROM:+0100
TZOFFSETTO:+0000
TZNAME:GMT
DTSTART:20241027T010000
END:STANDARD
END:VTIMEZONE
BEGIN:VEVENT
DTSTART;TZID=Europe/London:20240416T190000
DTEND;TZID=Europe/London:20240416T213000
DTSTAMP:20260425T002610
CREATED:20240328T223418Z
LAST-MODIFIED:20240328T223418Z
UID:10000162-1713294000-1713303000@gsmba.uk
SUMMARY:Division A @ Yorkley
DESCRIPTION:Yorkley (Kestrels)\, Westbury on Severn (Spitfires)\, Westbury on Severn (Wellingtons)\, Defford (Diamonds)  \n	\n\n		\n\n			\n			\n		\n	\n			\n\n							\n					\n				\n			\n			\n									Summer League 24 Division A\n				\n									Yorkley Community Centre\n					|\n				\n									16 Apr 2024\n											19:00\n												\n\n			\n		\n		\n	\n	\n		\n\n							\n			\n			\n				Yorkley (Kestrels)			\n\n			\n				12\n			\n\n		\n		\n\n			\n			    \n				12\n				4\n			\n\n		\n		\n\n							\n			\n			\n				Westbury (Spitfires)			\n\n			\n				4\n			\n		\n\n					\n	\n\n\n\n			\n			\n		\n	\n			\n\n							\n					\n				\n			\n			\n									Summer League 24 Division A\n				\n									Yorkley Community Centre\n					|\n				\n									16 Apr 2024\n											19:00\n												\n\n			\n		\n		\n	\n	\n		\n\n							\n			\n			\n				Westbury (Wellingtons)			\n\n			\n				3\n			\n\n		\n		\n\n			\n			    \n				3\n				5\n			\n\n		\n		\n\n							\n			\n			\n				Defford (Diamonds)			\n\n			\n				5\n			\n		\n\n					\n	\n\n\n\n			\n			\n		\n	\n			\n\n							\n					\n				\n			\n			\n									Summer League 24 Division A\n				\n									Yorkley Community Centre\n					|\n				\n									16 Apr 2024\n											19:45\n												\n\n			\n		\n		\n	\n	\n		\n\n							\n			\n			\n				Defford (Diamonds)			\n\n			\n				1\n			\n\n		\n		\n\n			\n			    \n				1\n				8\n			\n\n		\n		\n\n							\n			\n			\n				Yorkley (Kestrels)			\n\n			\n				8\n			\n		\n\n					\n	\n\n\n\n			\n			\n		\n	\n			\n\n							\n					\n				\n			\n			\n									Summer League 24 Division A\n				\n									Yorkley Community Centre\n					|\n				\n									16 Apr 2024\n											19:45\n												\n\n			\n		\n		\n	\n	\n		\n\n							\n			\n			\n				Westbury (Wellingtons)			\n\n			\n				4\n			\n\n		\n		\n\n			\n			    \n				4\n				7\n			\n\n		\n		\n\n							\n			\n			\n				Westbury (Spitfires)			\n\n			\n				7\n			\n		\n\n					\n	\n\n\n\n			\n			\n		\n	\n			\n\n							\n					\n				\n			\n			\n									Summer League 24 Division A\n				\n									Yorkley Community Centre\n					|\n				\n									16 Apr 2024\n											20:45\n												\n\n			\n		\n		\n	\n	\n		\n\n							\n			\n			\n				Westbury (Spitfires)			\n\n			\n				9\n			\n\n		\n		\n\n			\n			    \n				9\n				5\n			\n\n		\n		\n\n							\n			\n			\n				Defford (Diamonds)			\n\n			\n				5\n			\n		\n\n					\n	\n\n\n\n			\n			\n		\n	\n			\n\n							\n					\n				\n			\n			\n									Summer League 24 Division A\n				\n									Yorkley Community Centre\n					|\n				\n									16 Apr 2024\n											20:45\n												\n\n			\n		\n		\n	\n	\n		\n\n							\n			\n			\n				Westbury (Wellingtons)			\n\n			\n				4\n			\n\n		\n		\n\n			\n			    \n				4\n				7\n			\n\n		\n		\n\n							\n			\n			\n				Yorkley (Kestrels)			\n\n			\n				7
URL:/event/division-a-yorkley/
LOCATION:Yorkley Community Centre\, Bailey Hill\, Yorkley\, Gloucester\, GL15 4RS
CATEGORIES:Summer
END:VEVENT
BEGIN:VEVENT
DTSTART;TZID=Europe/London:20240414T083000
DTEND;TZID=Europe/London:20240414T170000
DTSTAMP:20260425T002610
CREATED:20230913T212634Z
LAST-MODIFIED:20230913T212634Z
UID:10000117-1713083400-1713114000@gsmba.uk
SUMMARY:National Triples
DESCRIPTION:
URL:/event/national-triples/
LOCATION:Melton & District Indoor Bowls Club\, Bowling Green\, Leicester Rd\, Melton Mowbray LE13 0LR
CATEGORIES:County/Nationals
END:VEVENT
BEGIN:VEVENT
DTSTART;TZID=Europe/London:20240413T083000
DTEND;TZID=Europe/London:20240413T170000
DTSTAMP:20260425T002610
CREATED:20230913T212038Z
LAST-MODIFIED:20230913T212038Z
UID:10000115-1712997000-1713027600@gsmba.uk
SUMMARY:National 4s
DESCRIPTION:
URL:/event/national-4s/
LOCATION:Melton & District Indoor Bowls Club\, Bowling Green\, Leicester Rd\, Melton Mowbray LE13 0LR
CATEGORIES:County/Nationals
END:VEVENT
BEGIN:VEVENT
DTSTART;TZID=Europe/London:20240412T093000
DTEND;TZID=Europe/London:20240412T170000
DTSTAMP:20260425T002610
CREATED:20230913T211310Z
LAST-MODIFIED:20230913T211310Z
UID:10000111-1712914200-1712941200@gsmba.uk
SUMMARY:National Pairs
DESCRIPTION:
URL:/event/national-pairs/
LOCATION:Melton & District Indoor Bowls Club\, Bowling Green\, Leicester Rd\, Melton Mowbray LE13 0LR
CATEGORIES:County/Nationals
END:VEVENT
BEGIN:VEVENT
DTSTART;TZID=Europe/London:20240411T093000
DTEND;TZID=Europe/London:20240411T170000
DTSTAMP:20260425T002610
CREATED:20230913T212951Z
LAST-MODIFIED:20230913T213013Z
UID:10000119-1712827800-1712854800@gsmba.uk
SUMMARY:National Singles
DESCRIPTION:
URL:/event/national-singles/
LOCATION:Melton & District Indoor Bowls Club\, Bowling Green\, Leicester Rd\, Melton Mowbray LE13 0LR
CATEGORIES:County/Nationals
END:VEVENT
BEGIN:VEVENT
DTSTART;TZID=Europe/London:20240410T191500
DTEND;TZID=Europe/London:20240410T214500
DTSTAMP:20260425T002610
CREATED:20240328T223418Z
LAST-MODIFIED:20240328T224933Z
UID:10000161-1712776500-1712785500@gsmba.uk
SUMMARY:Division B @ Kingsway
DESCRIPTION:Kingsway (Swans)\, Westbury on Severn (Hurricanes)\, Yorkley (Falcons)\, Longhope (Foxes)\n	\n\n		\n\n			\n			\n		\n	\n			\n\n							\n					\n				\n			\n			\n									Summer League 24 Division B\n				\n									Kingsway Community Centre\n					|\n				\n									10 Apr 2024\n											19:00\n												\n\n			\n		\n		\n	\n	\n		\n\n							\n			\n			\n				Kingsway (Swans)			\n\n			\n				9\n			\n\n		\n		\n\n			\n			    \n				9\n				13\n			\n\n		\n		\n\n							\n			\n			\n				Westbury (Hurricanes)			\n\n			\n				13\n			\n		\n\n					\n	\n\n\n\n			\n			\n		\n	\n			\n\n							\n					\n				\n			\n			\n									Summer League 24 Division B\n				\n									Kingsway Community Centre\n					|\n				\n									10 Apr 2024\n											19:00\n												\n\n			\n		\n		\n	\n	\n		\n\n							\n			\n			\n				Yorkley (Falcons)			\n\n			\n				2\n			\n\n		\n		\n\n			\n			    \n				2\n				6\n			\n\n		\n		\n\n							\n			\n			\n				Longhope (Foxes)			\n\n			\n				6\n			\n		\n\n					\n	\n\n\n\n			\n			\n		\n	\n			\n\n							\n					\n				\n			\n			\n									Summer League 24 Division B\n				\n									Kingsway Community Centre\n					|\n				\n									10 Apr 2024\n											19:45\n												\n\n			\n		\n		\n	\n	\n		\n\n							\n			\n			\n				Longhope (Foxes)			\n\n			\n				11\n			\n\n		\n		\n\n			\n			    \n				11\n				1\n			\n\n		\n		\n\n							\n			\n			\n				Kingsway (Swans)			\n\n			\n				1\n			\n		\n\n					\n	\n\n\n\n			\n			\n		\n	\n			\n\n							\n					\n				\n			\n			\n									Summer League 24 Division B\n				\n									Kingsway Community Centre\n					|\n				\n									10 Apr 2024\n											19:45\n												\n\n			\n		\n		\n	\n	\n		\n\n							\n			\n			\n				Yorkley (Falcons)			\n\n			\n				3\n			\n\n		\n		\n\n			\n			    \n				3\n				11\n			\n\n		\n		\n\n							\n			\n			\n				Westbury (Hurricanes)			\n\n			\n				11\n			\n		\n\n					\n	\n\n\n\n			\n			\n		\n	\n			\n\n							\n					\n				\n			\n			\n									Summer League 24 Division B\n				\n									Kingsway Community Centre\n					|\n				\n									10 Apr 2024\n											20:45\n												\n\n			\n		\n		\n	\n	\n		\n\n							\n			\n			\n				Westbury (Hurricanes)			\n\n			\n				3\n			\n\n		\n		\n\n			\n			    \n				3\n				10\n			\n\n		\n		\n\n							\n			\n			\n				Longhope (Foxes)			\n\n			\n				10\n			\n		\n\n					\n	\n\n\n\n			\n			\n		\n	\n			\n\n							\n					\n				\n			\n			\n									Summer League 24 Division B\n				\n									Kingsway Community Centre\n					|\n				\n									10 Apr 2024\n											20:45\n												\n\n			\n		\n		\n	\n	\n		\n\n							\n			\n			\n				Yorkley (Falcons)			\n\n			\n				4\n			\n\n		\n		\n\n			\n			    \n				4\n				8\n			\n\n		\n		\n\n							\n			\n			\n				Kingsway (Swans)			\n\n			\n				8
URL:/event/division-b-kingsway/
LOCATION:Kingsway Community Centre\, Thatcham Avenue\, Quedgeley\, Gloucester\, GL2 2GS
CATEGORIES:Summer
END:VEVENT
BEGIN:VEVENT
DTSTART;TZID=Europe/London:20240407T080000
DTEND;TZID=Europe/London:20240407T170000
DTSTAMP:20260425T002610
CREATED:20231130T230217Z
LAST-MODIFIED:20240527T093044Z
UID:10000134-1712476800-1712509200@gsmba.uk
SUMMARY:TLH Spring Short Mat Festival
DESCRIPTION:https://www.tlh.co.uk/breaks/bowling/bowling-breaks/
URL:/event/tlh-spring-short-mat-festival/
CATEGORIES:Open Tournament
END:VEVENT
BEGIN:VEVENT
DTSTART;TZID=Europe/London:20240403T190000
DTEND;TZID=Europe/London:20240403T213000
DTSTAMP:20260425T002610
CREATED:20240328T223420Z
LAST-MODIFIED:20240404T130934Z
UID:10000166-1712170800-1712179800@gsmba.uk
SUMMARY:Division A @ Westbury
DESCRIPTION:Westbury on Severn (Spitfires)\, Kingsway (Cygnets)\, Ripple (Rooks)\, Yorkley (Kestrels) \nPlease note change to date \n\n	\n\n		\n\n			\n			\n		\n	\n			\n\n							\n					\n				\n			\n			\n									Summer League 24 Division A\n				\n									Westbury on Severn Parish Hall\n					|\n				\n									24 Apr 2024\n											19:00\n												\n\n			\n		\n		\n	\n	\n		\n\n							\n			\n			\n				Westbury (Spitfires)			\n\n			\n				7\n			\n\n		\n		\n\n			\n			    \n				7\n				5\n			\n\n		\n		\n\n							\n			\n			\n				Kingsway (Cygnets)			\n\n			\n				5\n			\n		\n\n					\n	\n\n\n\n			\n			\n		\n	\n			\n\n							\n					\n				\n			\n			\n									Summer League 24 Division A\n				\n									Westbury on Severn Parish Hall\n					|\n				\n									24 Apr 2024\n											19:00\n												\n\n			\n		\n		\n	\n	\n		\n\n							\n			\n			\n				Ripple (Rooks)			\n\n			\n				8\n			\n\n		\n		\n\n			\n			    \n				8\n				4\n			\n\n		\n		\n\n							\n			\n			\n				Yorkley (Kestrels)			\n\n			\n				4\n			\n		\n\n					\n	\n\n\n\n			\n			\n		\n	\n			\n\n							\n					\n				\n			\n			\n									Summer League 24 Division A\n				\n									Westbury on Severn Parish Hall\n					|\n				\n									24 Apr 2024\n											19:45\n												\n\n			\n		\n		\n	\n	\n		\n\n							\n			\n			\n				Yorkley (Kestrels)			\n\n			\n				14\n			\n\n		\n		\n\n			\n			    \n				14\n				0\n			\n\n		\n		\n\n							\n			\n			\n				Westbury (Spitfires)			\n\n			\n				0\n			\n		\n\n					\n	\n\n\n\n			\n			\n		\n	\n			\n\n							\n					\n				\n			\n			\n									Summer League 24 Division A\n				\n									Westbury on Severn Parish Hall\n					|\n				\n									24 Apr 2024\n											19:45\n												\n\n			\n		\n		\n	\n	\n		\n\n							\n			\n			\n				Ripple (Rooks)			\n\n			\n				9\n			\n\n		\n		\n\n			\n			    \n				9\n				4\n			\n\n		\n		\n\n							\n			\n			\n				Kingsway (Cygnets)			\n\n			\n				4\n			\n		\n\n					\n	\n\n\n\n			\n			\n		\n	\n			\n\n							\n					\n				\n			\n			\n									Summer League 24 Division A\n				\n									Westbury on Severn Parish Hall\n					|\n				\n									24 Apr 2024\n											20:45\n												\n\n			\n		\n		\n	\n	\n		\n\n							\n			\n			\n				Kingsway (Cygnets)			\n\n			\n				3\n			\n\n		\n		\n\n			\n			    \n				3\n				7\n			\n\n		\n		\n\n							\n			\n			\n				Yorkley (Kestrels)			\n\n			\n				7\n			\n		\n\n					\n	\n\n\n\n			\n			\n		\n	\n			\n\n							\n					\n				\n			\n			\n									Summer League 24 Division A\n				\n									Westbury on Severn Parish Hall\n					|\n				\n									24 Apr 2024\n											20:45\n												\n\n			\n		\n		\n	\n	\n		\n\n							\n			\n			\n				Ripple (Rooks)			\n\n			\n				5\n			\n\n		\n		\n\n			\n			    \n				5\n				7\n			\n\n		\n		\n\n							\n			\n			\n				Westbury (Spitfires)			\n\n			\n				7
URL:/event/division-a-westbury/
LOCATION:Westbury on Severn Parish Hall\, Rodley Road\, Westbury-on-Severn\, Gloucester GL14 1PF
CATEGORIES:Summer
END:VEVENT
BEGIN:VEVENT
DTSTART;TZID=Europe/London:20240321T190000
DTEND;TZID=Europe/London:20240321T213000
DTSTAMP:20260425T002610
CREATED:20240217T001144Z
LAST-MODIFIED:20240527T093425Z
UID:10000156-1711047600-1711056600@gsmba.uk
SUMMARY:KO Final (2nd Leg): Diamonds vs Kestrels
DESCRIPTION:
URL:/event/ko-final-2nd-leg-diamonds-vs-kestrels/
LOCATION:Defford Village Hall\, Harpley Road\, Worcester\, WR8 9BL
CATEGORIES:Knockout Trophy
END:VEVENT
BEGIN:VEVENT
DTSTART;TZID=Europe/London:20240316T080000
DTEND;TZID=Europe/London:20240316T170000
DTSTAMP:20260425T002610
CREATED:20231202T180746Z
LAST-MODIFIED:20231202T181025Z
UID:10000135-1710576000-1710608400@gsmba.uk
SUMMARY:Dinton Open Tournament
DESCRIPTION:The Dinton Short Mat Bowls Open Competition is being held\non Saturday 16th March 2024 at Dinton Village Hall\, Bratch Lane\,\nDinton Wiltshire SP3 5EB. \nPlease find attached entry form for this event\, which should be\nreturned no later than Saturday 2nd March 2024. \nIf you wish to enter additional teams the entry form may be photocopied.\nAll applications will be processed on a first come first served basis. Late applications will only be considered if room is available. \nThe fixture list and competition rules will be available at registration. You will be notified by phone or email if your entry was successful. \nThe price of £28 per team of 4 includes tea\, coffee and biscuits available all day.\nPlease bring your own lunch and mug. \nA raffle will be held and a donation would be appreciated! \nI hope you will be able to join us for an enjoyable day’s bowling! \nYours Sincerely \nElsie Gale\nOpen Competition Secretary\nHoneysuckle Homestead\nCatherine Ford Road\nDinton Salisbury\nWiltshire\nSP3 5HA \n01722 717889 \n*Please note If you would like to compete but don’t have a 4 let me know\nand perhaps we can make one up.
URL:/event/dinton-open-tournament/
CATEGORIES:Open Tournament
END:VEVENT
BEGIN:VEVENT
DTSTART;TZID=Europe/London:20240310T093000
DTEND;TZID=Europe/London:20240310T170000
DTSTAMP:20260425T002610
CREATED:20230628T203607Z
LAST-MODIFIED:20231005T094648Z
UID:10000094-1710063000-1710090000@gsmba.uk
SUMMARY:Two Shires Trophy
DESCRIPTION:
URL:/event/2-shires-away/
LOCATION:Bromsgrove Indoor Bowls Club\, Austin Road\, Charford Bromsgrove\, B60 3PT
CATEGORIES:Two Shires Trophy
END:VEVENT
BEGIN:VEVENT
DTSTART;TZID=Europe/London:20240303T080000
DTEND;TZID=Europe/London:20240303T170000
DTSTAMP:20260425T002610
CREATED:20240218T111257Z
LAST-MODIFIED:20240527T093051Z
UID:10000157-1709452800-1709485200@gsmba.uk
SUMMARY:ICC Semi-Final
DESCRIPTION:
URL:/event/icc-semi-final/
LOCATION:Solihul Indoor Bowling Club\, Brick Kiln Lane\, Solihull\, B91 3LE
CATEGORIES:Inter County Cup
END:VEVENT
BEGIN:VEVENT
DTSTART;TZID=Europe/London:20240225T083000
DTEND;TZID=Europe/London:20240225T170000
DTSTAMP:20260425T002610
CREATED:20230913T211729Z
LAST-MODIFIED:20230913T211729Z
UID:10000113-1708849800-1708880400@gsmba.uk
SUMMARY:National Over 55s
DESCRIPTION:
URL:/event/national-over-55s/
LOCATION:Melton & District Indoor Bowls Club\, Bowling Green\, Leicester Rd\, Melton Mowbray LE13 0LR
CATEGORIES:County/Nationals
END:VEVENT
BEGIN:VEVENT
DTSTART;TZID=Europe/London:20240224T083000
DTEND;TZID=Europe/London:20240224T170000
DTSTAMP:20260425T002610
CREATED:20230913T205954Z
LAST-MODIFIED:20230913T210446Z
UID:10000108-1708763400-1708794000@gsmba.uk
SUMMARY:National Mixed 4s
DESCRIPTION:
URL:/event/county-mixed-4s-2/
LOCATION:Melton & District Indoor Bowls Club\, Bowling Green\, Leicester Rd\, Melton Mowbray LE13 0LR
CATEGORIES:County/Nationals
END:VEVENT
BEGIN:VEVENT
DTSTART;TZID=Europe/London:20240219T100000
DTEND;TZID=Europe/London:20240223T120000
DTSTAMP:20260425T002610
CREATED:20250821T211047Z
LAST-MODIFIED:20250821T211047Z
UID:10000312-1708336800-1708689600@gsmba.uk
SUMMARY:Dawlish Warren: Spring 2024
DESCRIPTION:Our air-conditioned Washington Ballroom is an excellent venue for Short mat bowls. With space for up to 5 mats\, you can play whatever the weather! The game is played like other forms of the sport\, with full-sized bowls being used to bowl up and down the carpet. In just a few short years\, the sport has grown in popularity to over 100\,000 players\, and this popularity shows no signs of slowing down; many other parts of the world are taking up the sport and having fun! \nMen and women compete equally together\, so techniques are truly tested. A great family sport\, the ages of players range from 9 to over 90 (that we are aware of anyway!). \nThe Short Mat Bowls holidays held at Langstone Cliff are organised by Bob Weafer at www.short-mat-holidays.com.
URL:/event/dawlish-warren-spring-2024/
LOCATION:Langstone Cliff\, Mount Pleasant Road\, Dawlish Warren\, Dawlish\, Devon\, EX7 0NA
CATEGORIES:TLH
ATTACH;FMTTYPE=image/png:/wp-content/uploads/2024/10/output-onlinepngtools-5-e1755811754809.png
END:VEVENT
BEGIN:VEVENT
DTSTART;TZID=Europe/London:20240217T100000
DTEND;TZID=Europe/London:20240217T170000
DTSTAMP:20260425T002610
CREATED:20240206T080657Z
LAST-MODIFIED:20240527T093037Z
UID:10000154-1708164000-1708189200@gsmba.uk
SUMMARY:ICC: Cambridgshire
DESCRIPTION:
URL:/event/icc-cambridgshire/
LOCATION:Solihul Indoor Bowling Club\, Brick Kiln Lane\, Solihull\, B91 3LE
CATEGORIES:Inter County Cup
END:VEVENT
BEGIN:VEVENT
DTSTART;TZID=Europe/London:20240216T190000
DTEND;TZID=Europe/London:20240216T213000
DTSTAMP:20260425T002610
CREATED:20240131T193134Z
LAST-MODIFIED:20240527T093425Z
UID:10000140-1708110000-1708119000@gsmba.uk
SUMMARY:KO Final (First Leg): Kestrels vs Diamonds
DESCRIPTION:
URL:/event/ko-final-first-leg-kestrels-vs-diamonds/
LOCATION:Yorkley Community Centre\, Bailey Hill\, Yorkley\, Gloucester\, GL15 4RS
CATEGORIES:Knockout Trophy
END:VEVENT
BEGIN:VEVENT
DTSTART;VALUE=DATE:20240210
DTEND;VALUE=DATE:20240212
DTSTAMP:20260425T002610
CREATED:20230505T151605Z
LAST-MODIFIED:20230914T073321Z
UID:10000086-1707523200-1707695999@gsmba.uk
SUMMARY:English Masters
DESCRIPTION:The English Masters is the fifth of six ranking events of the Short Mat Players Tour 2023-24 season. \nFormat\n\nPlayers will be in groups of 5 or 6.\nThe top 2 players from each group will qualify for the main Cup.\nThird and Fourth placed players will qualify for the Plate.\nThe remaining players will qualify for the Shield.\nRegistration is from 7.45am-8.45am Practice is allowed from 8am-8.45am. Play commences at 9am.\nGroup games will be played on Saturday and Sunday morning with the knock-out stages following on Sunday afternoon.
URL:/event/english-masters/
LOCATION:Falcon Bowling and Social Club\, Channels Dr\, Broomfield\, Chelmsford\, CM3 3FB
CATEGORIES:SMPT
END:VEVENT
BEGIN:VEVENT
DTSTART;TZID=Europe/London:20240204T093000
DTEND;TZID=Europe/London:20240204T170000
DTSTAMP:20260425T002610
CREATED:20240121T163205Z
LAST-MODIFIED:20240121T163404Z
UID:10000139-1707039000-1707066000@gsmba.uk
SUMMARY:ICC Humberside
DESCRIPTION:
URL:/event/icc-humberside/
LOCATION:Solihul Indoor Bowling Club\, Brick Kiln Lane\, Solihull\, B91 3LE
CATEGORIES:Inter County Cup
END:VEVENT
BEGIN:VEVENT
DTSTART;TZID=Europe/London:20240127T080000
DTEND;TZID=Europe/London:20240127T170000
DTSTAMP:20260425T002610
CREATED:20230914T072106Z
LAST-MODIFIED:20230914T072106Z
UID:10000122-1706342400-1706374800@gsmba.uk
SUMMARY:ESMBA Open Triples
DESCRIPTION:
URL:/event/esmba-open-triples-2/
LOCATION:Oxford & District IBC\, Sandy Ln W\, Littlemore\, Oxford OX4 6NA
CATEGORIES:ESMBA Open
END:VEVENT
BEGIN:VEVENT
DTSTART;TZID=Europe/London:20240125T190000
DTEND;TZID=Europe/London:20240125T213000
DTSTAMP:20260425T002610
CREATED:20240108T145127Z
LAST-MODIFIED:20240527T093425Z
UID:10000138-1706209200-1706218200@gsmba.uk
SUMMARY:KO Semi Final: Rooks vs Kestrels
DESCRIPTION:
URL:/event/ko-semi-final-rooks-vs-kestrels/
LOCATION:Ripple Parish Hall\, School Lane\, Ripple\, Tewkesbury\, GL20 6EU
CATEGORIES:Knockout Trophy
END:VEVENT
BEGIN:VEVENT
DTSTART;TZID=Europe/London:20240120T090000
DTEND;TZID=Europe/London:20240120T170000
DTSTAMP:20260425T002610
CREATED:20230913T210938Z
LAST-MODIFIED:20230913T211834Z
UID:10000109-1705741200-1705770000@gsmba.uk
SUMMARY:County 4s
DESCRIPTION:To be played at Kingsway Community Centre on 20th January 2024. Start time\n9am. Entry fee: £40.00 per TEAM. Entries must include the fee Closing date\nfor entries: 31st October. \nCounty & Nationals Entry Forms – 4s 2023-24
URL:/event/county-4s-23/
LOCATION:Kingsway Community Centre\, Thatcham Avenue\, Quedgeley\, Gloucester\, GL2 2GS
CATEGORIES:County/Nationals
END:VEVENT
BEGIN:VEVENT
DTSTART;TZID=Europe/London:20240120T080000
DTEND;TZID=Europe/London:20240120T170000
DTSTAMP:20260425T002610
CREATED:20231114T121341Z
LAST-MODIFIED:20231114T121341Z
UID:10000131-1705737600-1705770000@gsmba.uk
SUMMARY:White Horse SMBC Open 4's Tournament
DESCRIPTION:White Horse Short Mat Bowls Club are holding another Open Fours Tournament on Saturday 20th January 2024 and would like to invite you to submit a team for this event. \nOur venue is as follows\nThe Codford Village Hall Broadleaze\nCodford Saint Peter\, Wiltshire\, BA12 0PP\nEntry Fees will be £30 per team. Meals are available for £6. \nTeas & coffees will be available all day\, plus the bar will be open from 12pm \nEntries will be on a first come first served basis. \nFull rules and point system will be supplied separately prior to the Tournament. \nPlease see application form and food options should you wish to submit a team.\nWe look forward to hearing from you. \nRegards \nKaren Kirby\nSecretary\nWhite Horse Short Mat Bowls Club \nTournament Application
URL:/event/white-horse-smbc-open-4s-tournament/
CATEGORIES:Open Tournament
END:VEVENT
BEGIN:VEVENT
DTSTART;TZID=Europe/London:20240107T093000
DTEND;TZID=Europe/London:20240107T170000
DTSTAMP:20260425T002610
CREATED:20230628T203121Z
LAST-MODIFIED:20230724T204944Z
UID:10000093-1704619800-1704646800@gsmba.uk
SUMMARY:ICC Wiltshire
DESCRIPTION:
URL:/event/icc-wiltshire-2/
LOCATION:Springfield Community Campus\, Beechfield Road\, Corsham\, SN13 9DN
CATEGORIES:Inter County Cup
END:VEVENT
BEGIN:VEVENT
DTSTART;VALUE=DATE:20240106
DTEND;VALUE=DATE:20240107
DTSTAMP:20260425T002610
CREATED:20230505T151235Z
LAST-MODIFIED:20230914T073413Z
UID:10000085-1704499200-1704585599@gsmba.uk
SUMMARY:British Open
DESCRIPTION:The British Open is the fourth of six ranking events of the Short Mat Players Tour 2023-24 season. \nFormat\n\nPlayers will be in groups of 5 or 6.\nThe top 2 players from each group will qualify for the main Cup.\nThird and Fourth placed players will qualify for the Plate.\nThe remaining players will qualify for the Shield.\nRegistration is from 7.45am-8.45am Practice is allowed from 8am-8.45am. Play commences at 9am.\nGroup games will be played on Saturday and Sunday morning with the knock-out stages following on Sunday afternoon.
URL:/event/british-open/
LOCATION:York & District Indoor Bowls Club\, 302 Thanet Rd\, Dringhouses\, York\, YO24 2NW
CATEGORIES:Open Tournament,SMPT
END:VEVENT
BEGIN:VEVENT
DTSTART;TZID=Europe/London:20240105T190000
DTEND;TZID=Europe/London:20240105T220000
DTSTAMP:20260425T002610
CREATED:20231125T194957Z
LAST-MODIFIED:20240527T093425Z
UID:10000132-1704481200-1704492000@gsmba.uk
SUMMARY:KO Second Round: Kestrels vs Swans
DESCRIPTION:
URL:/event/ko-second-round-kestrels-vs-swans/
LOCATION:Yorkley Community Centre\, Bailey Hill\, Yorkley\, Gloucester\, GL15 4RS
CATEGORIES:Knockout Trophy
END:VEVENT
BEGIN:VEVENT
DTSTART;TZID=Europe/London:20240104T080000
DTEND;TZID=Europe/London:20240104T170000
DTSTAMP:20260425T002611
CREATED:20231211T222200Z
LAST-MODIFIED:20240527T093425Z
UID:10000137-1704355200-1704387600@gsmba.uk
SUMMARY:KO Second Round: Ravens vs Sapphires
DESCRIPTION:
URL:/event/ko-second-round-ravens-vs-sapphires/
LOCATION:Ripple Parish Hall\, School Lane\, Ripple\, Tewkesbury\, GL20 6EU
CATEGORIES:Knockout Trophy
END:VEVENT
BEGIN:VEVENT
DTSTART;TZID=Europe/London:20240103T080000
DTEND;TZID=Europe/London:20240103T170000
DTSTAMP:20260425T002611
CREATED:20231211T222039Z
LAST-MODIFIED:20240527T093425Z
UID:10000136-1704268800-1704301200@gsmba.uk
SUMMARY:KO Second Round: Swallows vs Diamonds
DESCRIPTION:
URL:/event/ko-second-round-swallows-vs-diamonds/
LOCATION:Westbury on Severn Parish Hall\, Rodley Road\, Westbury-on-Severn\, Gloucester GL14 1PF
CATEGORIES:Knockout Trophy
END:VEVENT
BEGIN:VEVENT
DTSTART;TZID=Europe/London:20231216T090000
DTEND;TZID=Europe/London:20231216T170000
DTSTAMP:20260425T002611
CREATED:20230913T211949Z
LAST-MODIFIED:20230913T211949Z
UID:10000114-1702717200-1702746000@gsmba.uk
SUMMARY:County Mixed 4s
DESCRIPTION:To be played at Kingsway Community Centre on 16th December 2023. Start\ntime 9am. Entry fee: £40.00 per TEAM. Entries must include the fee Closing date\nfor entries: 31st October. \nCounty & Nationals Entry Forms – Mixed 4s 2023-24
URL:/event/county-mixed-4s-3/
LOCATION:Kingsway Community Centre\, Thatcham Avenue\, Quedgeley\, Gloucester\, GL2 2GS
CATEGORIES:County/Nationals
END:VEVENT
BEGIN:VEVENT
DTSTART;TZID=Europe/London:20231210T090000
DTEND;TZID=Europe/London:20231210T170000
DTSTAMP:20260425T002611
CREATED:20230913T212527Z
LAST-MODIFIED:20230913T212904Z
UID:10000116-1702198800-1702227600@gsmba.uk
SUMMARY:County Triples
DESCRIPTION:To be played at Churchdown Community Centre on 10th\nDecember 2023 Start time 9am. Entry fee: £30.00 per TEAM. Entries\nmust include the fee. Closing date for entries: 31st October. \nCounty & Nationals Entry Forms – Triples 2023-24 \n 
URL:/event/county-triples-23/
LOCATION:Churchdown Community Centre\, Parton Road\, Churchdown\, GL3 2JH
CATEGORIES:County/Nationals
END:VEVENT
END:VCALENDAR