BEGIN:VCALENDAR
VERSION:2.0
PRODID:-//GSMBA - ECPv6.11.1//NONSGML v1.0//EN
CALSCALE:GREGORIAN
METHOD:PUBLISH
X-WR-CALNAME:GSMBA
X-ORIGINAL-URL:https://gsmba.uk
X-WR-CALDESC:Events for GSMBA
REFRESH-INTERVAL;VALUE=DURATION:PT1H
X-Robots-Tag:noindex
X-PUBLISHED-TTL:PT1H
BEGIN:VTIMEZONE
TZID:Europe/London
BEGIN:DAYLIGHT
TZOFFSETFROM:+0000
TZOFFSETTO:+0100
TZNAME:BST
DTSTART:20260329T010000
END:DAYLIGHT
BEGIN:STANDARD
TZOFFSETFROM:+0100
TZOFFSETTO:+0000
TZNAME:GMT
DTSTART:20261025T010000
END:STANDARD
END:VTIMEZONE
BEGIN:VEVENT
DTSTART;TZID=Europe/London:20260805T190000
DTEND;TZID=Europe/London:20260805T220000
DTSTAMP:20260423T170603
CREATED:20260405T170508Z
LAST-MODIFIED:20260411T004645Z
UID:10000349-1785956400-1785967200@gsmba.uk
SUMMARY:Summer @ Longhope
DESCRIPTION:Longhope (Foxes)\, Ripple (Rooks)\, Kingsway (Cobbs)\, Sharpness (Otters) \n	\n\n		\n\n			\n			\n		\n	\n			\n\n							\n					\n				\n			\n			\n									Summer League 26 League 1\n				\n									Latchen Room\n					|\n				\n									5 Aug 2026\n											19:00\n												\n\n			\n		\n		\n	\n	\n		\n\n							\n			\n			\n				Longhope (Foxes)			\n\n			\n				-\n			\n\n		\n		\n\n			\n			    \n				-\n				-\n			\n\n		\n		\n\n							\n			\n			\n				Ripple (Rooks)			\n\n			\n				-\n			\n		\n\n					\n	\n\n\n\n			\n			\n		\n	\n			\n\n							\n					\n				\n			\n			\n									Summer League 26 League 1\n				\n									Latchen Room\n					|\n				\n									5 Aug 2026\n											19:00\n												\n\n			\n		\n		\n	\n	\n		\n\n							\n			\n			\n				Kingsway (Cobbs)			\n\n			\n				-\n			\n\n		\n		\n\n			\n			    \n				-\n				-\n			\n\n		\n		\n\n							\n			\n			\n				Sharpness (Otters)			\n\n			\n				-\n			\n		\n\n					\n	\n\n\n\n			\n			\n		\n	\n			\n\n							\n					\n				\n			\n			\n									Summer League 26 League 1\n				\n									Latchen Room\n					|\n				\n									5 Aug 2026\n											19:50\n												\n\n			\n		\n		\n	\n	\n		\n\n							\n			\n			\n				Ripple (Rooks)			\n\n			\n				-\n			\n\n		\n		\n\n			\n			    \n				-\n				-\n			\n\n		\n		\n\n							\n			\n			\n				Sharpness (Otters)			\n\n			\n				-\n			\n		\n\n					\n	\n\n\n\n			\n			\n		\n	\n			\n\n							\n					\n				\n			\n			\n									Summer League 26 League 1\n				\n									Latchen Room\n					|\n				\n									5 Aug 2026\n											19:50\n												\n\n			\n		\n		\n	\n	\n		\n\n							\n			\n			\n				Longhope (Foxes)			\n\n			\n				-\n			\n\n		\n		\n\n			\n			    \n				-\n				-\n			\n\n		\n		\n\n							\n			\n			\n				Kingsway (Cobbs)			\n\n			\n				-\n			\n		\n\n					\n	\n\n\n\n			\n			\n		\n	\n			\n\n							\n					\n				\n			\n			\n									Summer League 26 League 1\n				\n									Latchen Room\n					|\n				\n									5 Aug 2026\n											20:55\n												\n\n			\n		\n		\n	\n	\n		\n\n							\n			\n			\n				Sharpness (Otters)			\n\n			\n				-\n			\n\n		\n		\n\n			\n			    \n				-\n				-\n			\n\n		\n		\n\n							\n			\n			\n				Longhope (Foxes)			\n\n			\n				-\n			\n		\n\n					\n	\n\n\n\n			\n			\n		\n	\n			\n\n							\n					\n				\n			\n			\n									Summer League 26 League 1\n				\n									Latchen Room\n					|\n				\n									5 Aug 2026\n											20:55\n												\n\n			\n		\n		\n	\n	\n		\n\n							\n			\n			\n				Ripple (Rooks)			\n\n			\n				-\n			\n\n		\n		\n\n			\n			    \n				-\n				-\n			\n\n		\n		\n\n							\n			\n			\n				Kingsway (Cobbs)			\n\n			\n				-\n			\n		\n\n					\n	\n\n	\n\n	\n\n\nPrint Cards
URL:/event/summer-longhope-2/
LOCATION:Latchen Room\, Longhope\, Gloucester GL17 0QE
CATEGORIES:Summer
ATTACH;FMTTYPE=image/png:/wp-content/uploads/2026/04/output-onlinepngtools-35.png
END:VEVENT
BEGIN:VEVENT
DTSTART;TZID=Europe/London:20260811T190000
DTEND;TZID=Europe/London:20260811T190000
DTSTAMP:20260423T170603
CREATED:20260405T170536Z
LAST-MODIFIED:20260411T004745Z
UID:10000361-1786474800-1786474800@gsmba.uk
SUMMARY:Summer @ Huntley
DESCRIPTION:Huntley (Oaks)\, Woolaston (Woodsiders)\, Woolaston (Commoners)\, Westbury (Hurricanes) \n	\n\n		\n\n			\n			\n		\n	\n			\n\n							\n					\n				\n			\n			\n									Summer League 26 League 2\n				\n									Huntley Village Hall\n					|\n				\n									11 Aug 2026\n											19:00\n												\n\n			\n		\n		\n	\n	\n		\n\n							\n			\n			\n				Huntley (Oaks)			\n\n			\n				-\n			\n\n		\n		\n\n			\n			    \n				-\n				-\n			\n\n		\n		\n\n							\n			\n			\n				Woolaston (Woodsiders)			\n\n			\n				-\n			\n		\n\n					\n	\n\n\n\n			\n			\n		\n	\n			\n\n							\n					\n				\n			\n			\n									Summer League 26 League 2\n				\n									Huntley Village Hall\n					|\n				\n									11 Aug 2026\n											19:00\n												\n\n			\n		\n		\n	\n	\n		\n\n							\n			\n			\n				Woolaston (Commoners)			\n\n			\n				-\n			\n\n		\n		\n\n			\n			    \n				-\n				-\n			\n\n		\n		\n\n							\n			\n			\n				Westbury (Hurricanes)			\n\n			\n				-\n			\n		\n\n					\n	\n\n\n\n			\n			\n		\n	\n			\n\n							\n					\n				\n			\n			\n									Summer League 26 League 2\n				\n									Huntley Village Hall\n					|\n				\n									11 Aug 2026\n											19:50\n												\n\n			\n		\n		\n	\n	\n		\n\n							\n			\n			\n				Woolaston (Woodsiders)			\n\n			\n				-\n			\n\n		\n		\n\n			\n			    \n				-\n				-\n			\n\n		\n		\n\n							\n			\n			\n				Westbury (Hurricanes)			\n\n			\n				-\n			\n		\n\n					\n	\n\n\n\n			\n			\n		\n	\n			\n\n							\n					\n				\n			\n			\n									Summer League 26 League 2\n				\n									Huntley Village Hall\n					|\n				\n									11 Aug 2026\n											19:50\n												\n\n			\n		\n		\n	\n	\n		\n\n							\n			\n			\n				Huntley (Oaks)			\n\n			\n				-\n			\n\n		\n		\n\n			\n			    \n				-\n				-\n			\n\n		\n		\n\n							\n			\n			\n				Woolaston (Commoners)			\n\n			\n				-\n			\n		\n\n					\n	\n\n\n\n			\n			\n		\n	\n			\n\n							\n					\n				\n			\n			\n									Summer League 26 League 2\n				\n									Huntley Village Hall\n					|\n				\n									11 Aug 2026\n											20:55\n												\n\n			\n		\n		\n	\n	\n		\n\n							\n			\n			\n				Westbury (Hurricanes)			\n\n			\n				-\n			\n\n		\n		\n\n			\n			    \n				-\n				-\n			\n\n		\n		\n\n							\n			\n			\n				Huntley (Oaks)			\n\n			\n				-\n			\n		\n\n					\n	\n\n\n\n			\n			\n		\n	\n			\n\n							\n					\n				\n			\n			\n									Summer League 26 League 2\n				\n									Huntley Village Hall\n					|\n				\n									11 Aug 2026\n											20:55\n												\n\n			\n		\n		\n	\n	\n		\n\n							\n			\n			\n				Woolaston (Woodsiders)			\n\n			\n				-\n			\n\n		\n		\n\n			\n			    \n				-\n				-\n			\n\n		\n		\n\n							\n			\n			\n				Woolaston (Commoners)			\n\n			\n				-\n			\n		\n\n					\n	\n\n	\n\n	\n\n\nPrint Cards
URL:/event/summer-huntley-3/
LOCATION:Huntley Village Hall\, North Rd\, Huntley\, Gloucester\, GL19 3DU
CATEGORIES:Summer
ATTACH;FMTTYPE=image/png:/wp-content/uploads/2026/04/output-onlinepngtools-35.png
END:VEVENT
BEGIN:VEVENT
DTSTART;TZID=Europe/London:20260812T190000
DTEND;TZID=Europe/London:20260812T190000
DTSTAMP:20260423T170603
CREATED:20260405T170508Z
LAST-MODIFIED:20260405T171101Z
UID:10000350-1786561200-1786561200@gsmba.uk
SUMMARY:Summer @ Westbury
DESCRIPTION:Westbury (Spitfires)\, Wotton Hall (Javelins)\, Defford (Diamonds)\, Longhope (Foxes) \n	\n\n		\n\n			\n			\n		\n	\n			\n\n							\n					\n				\n			\n			\n									Summer League 26 League 1\n				\n									Westbury on Severn Parish Hall\n					|\n				\n									12 Aug 2026\n											19:00\n												\n\n			\n		\n		\n	\n	\n		\n\n							\n			\n			\n				Wotton Hall (Javelins)			\n\n			\n				-\n			\n\n		\n		\n\n			\n			    \n				-\n				-\n			\n\n		\n		\n\n							\n			\n			\n				Westbury (Spitfires)			\n\n			\n				-\n			\n		\n\n					\n	\n\n\n\n			\n			\n		\n	\n			\n\n							\n					\n				\n			\n			\n									Summer League 26 League 1\n				\n									Westbury on Severn Parish Hall\n					|\n				\n									12 Aug 2026\n											19:00\n												\n\n			\n		\n		\n	\n	\n		\n\n							\n			\n			\n				Defford (Diamonds)			\n\n			\n				-\n			\n\n		\n		\n\n			\n			    \n				-\n				-\n			\n\n		\n		\n\n							\n			\n			\n				Longhope (Foxes)			\n\n			\n				-\n			\n		\n\n					\n	\n\n\n\n			\n			\n		\n	\n			\n\n							\n					\n				\n			\n			\n									Summer League 26 League 1\n				\n									Westbury on Severn Parish Hall\n					|\n				\n									12 Aug 2026\n											19:50\n												\n\n			\n		\n		\n	\n	\n		\n\n							\n			\n			\n				Wotton Hall (Javelins)			\n\n			\n				-\n			\n\n		\n		\n\n			\n			    \n				-\n				-\n			\n\n		\n		\n\n							\n			\n			\n				Longhope (Foxes)			\n\n			\n				-\n			\n		\n\n					\n	\n\n\n\n			\n			\n		\n	\n			\n\n							\n					\n				\n			\n			\n									Summer League 26 League 1\n				\n									Westbury on Severn Parish Hall\n					|\n				\n									12 Aug 2026\n											19:50\n												\n\n			\n		\n		\n	\n	\n		\n\n							\n			\n			\n				Westbury (Spitfires)			\n\n			\n				-\n			\n\n		\n		\n\n			\n			    \n				-\n				-\n			\n\n		\n		\n\n							\n			\n			\n				Defford (Diamonds)			\n\n			\n				-\n			\n		\n\n					\n	\n\n\n\n			\n			\n		\n	\n			\n\n							\n					\n				\n			\n			\n									Summer League 26 League 1\n				\n									Westbury on Severn Parish Hall\n					|\n				\n									12 Aug 2026\n											20:55\n												\n\n			\n		\n		\n	\n	\n		\n\n							\n			\n			\n				Longhope (Foxes)			\n\n			\n				-\n			\n\n		\n		\n\n			\n			    \n				-\n				-\n			\n\n		\n		\n\n							\n			\n			\n				Westbury (Spitfires)			\n\n			\n				-\n			\n		\n\n					\n	\n\n\n\n			\n			\n		\n	\n			\n\n							\n					\n				\n			\n			\n									Summer League 26 League 1\n				\n									Westbury on Severn Parish Hall\n					|\n				\n									12 Aug 2026\n											20:55\n												\n\n			\n		\n		\n	\n	\n		\n\n							\n			\n			\n				Wotton Hall (Javelins)			\n\n			\n				-\n			\n\n		\n		\n\n			\n			    \n				-\n				-\n			\n\n		\n		\n\n							\n			\n			\n				Defford (Diamonds)			\n\n			\n				-
URL:/event/summer-westbury-2/
LOCATION:Westbury on Severn Parish Hall\, Rodley Road\, Westbury-on-Severn\, Gloucester GL14 1PF
CATEGORIES:Summer
ATTACH;FMTTYPE=image/png:/wp-content/uploads/2026/04/output-onlinepngtools-35.png
END:VEVENT
BEGIN:VEVENT
DTSTART;TZID=Europe/London:20260813T190000
DTEND;TZID=Europe/London:20260813T220000
DTSTAMP:20260423T170603
CREATED:20260405T170508Z
LAST-MODIFIED:20260405T182902Z
UID:10000351-1786647600-1786658400@gsmba.uk
SUMMARY:Summer @ Yorkley
DESCRIPTION:Yorkley (Canaries)\, Huntley (Elms)\, Yorkley (Kestrels)\, Yorkley (Falcons) \n	\n\n		\n\n			\n			\n		\n	\n			\n\n							\n					\n				\n			\n			\n									Summer League 26 League 2\n				\n									Yorkley Community Centre\n					|\n				\n									13 Aug 2026\n											19:00\n												\n\n			\n		\n		\n	\n	\n		\n\n							\n			\n			\n				Yorkley (Canaries)			\n\n			\n				-\n			\n\n		\n		\n\n			\n			    \n				-\n				-\n			\n\n		\n		\n\n							\n			\n			\n				Huntley (Elms)			\n\n			\n				-\n			\n		\n\n					\n	\n\n\n\n			\n			\n		\n	\n			\n\n							\n					\n				\n			\n			\n									Summer League 26 League 2\n				\n									Yorkley Community Centre\n					|\n				\n									13 Aug 2026\n											19:00\n												\n\n			\n		\n		\n	\n	\n		\n\n							\n			\n			\n				Yorkley (Kestrels)			\n\n			\n				-\n			\n\n		\n		\n\n			\n			    \n				-\n				-\n			\n\n		\n		\n\n							\n			\n			\n				Yorkley (Falcons)			\n\n			\n				-\n			\n		\n\n					\n	\n\n\n\n			\n			\n		\n	\n			\n\n							\n					\n				\n			\n			\n									Summer League 26 League 2\n				\n									Yorkley Community Centre\n					|\n				\n									13 Aug 2026\n											19:50\n												\n\n			\n		\n		\n	\n	\n		\n\n							\n			\n			\n				Huntley (Elms)			\n\n			\n				-\n			\n\n		\n		\n\n			\n			    \n				-\n				-\n			\n\n		\n		\n\n							\n			\n			\n				Yorkley (Falcons)			\n\n			\n				-\n			\n		\n\n					\n	\n\n\n\n			\n			\n		\n	\n			\n\n							\n					\n				\n			\n			\n									Summer League 26 League 2\n				\n									Yorkley Community Centre\n					|\n				\n									13 Aug 2026\n											19:50\n												\n\n			\n		\n		\n	\n	\n		\n\n							\n			\n			\n				Yorkley (Canaries)			\n\n			\n				-\n			\n\n		\n		\n\n			\n			    \n				-\n				-\n			\n\n		\n		\n\n							\n			\n			\n				Yorkley (Kestrels)			\n\n			\n				-\n			\n		\n\n					\n	\n\n\n\n			\n			\n		\n	\n			\n\n							\n					\n				\n			\n			\n									Summer League 26 League 2\n				\n									Yorkley Community Centre\n					|\n				\n									13 Aug 2026\n											20:55\n												\n\n			\n		\n		\n	\n	\n		\n\n							\n			\n			\n				Yorkley (Falcons)			\n\n			\n				-\n			\n\n		\n		\n\n			\n			    \n				-\n				-\n			\n\n		\n		\n\n							\n			\n			\n				Yorkley (Canaries)			\n\n			\n				-\n			\n		\n\n					\n	\n\n\n\n			\n			\n		\n	\n			\n\n							\n					\n				\n			\n			\n									Summer League 26 League 2\n				\n									Yorkley Community Centre\n					|\n				\n									13 Aug 2026\n											20:55\n												\n\n			\n		\n		\n	\n	\n		\n\n							\n			\n			\n				Huntley (Elms)			\n\n			\n				-\n			\n\n		\n		\n\n			\n			    \n				-\n				-\n			\n\n		\n		\n\n							\n			\n			\n				Yorkley (Kestrels)			\n\n			\n				-
URL:/event/summer-yorkley/
LOCATION:Yorkley Community Centre\, Bailey Hill\, Yorkley\, Gloucester\, GL15 4RS
CATEGORIES:Summer
ATTACH;FMTTYPE=image/png:/wp-content/uploads/2026/04/output-onlinepngtools-35.png
END:VEVENT
BEGIN:VEVENT
DTSTART;TZID=Europe/London:20260814T190000
DTEND;TZID=Europe/London:20260814T220000
DTSTAMP:20260423T170603
CREATED:20260405T192107Z
LAST-MODIFIED:20260411T004840Z
UID:10000364-1786734000-1786744800@gsmba.uk
SUMMARY:Summer @ Woolaston
DESCRIPTION:Woolaston (Woodsiders)\, Yorkley (Canaries)\, Forest of Dean (Squirrels)\, Woolaston (Commoners) \n	\n\n		\n\n			\n			\n		\n	\n			\n\n							\n					\n				\n			\n			\n									Summer League 26 League 2\n				\n									Woolaston Memorial Hall\n					|\n				\n									14 Aug 2026\n											19:00\n												\n\n			\n		\n		\n	\n	\n		\n\n							\n			\n			\n				Woolaston (Woodsiders)			\n\n			\n				-\n			\n\n		\n		\n\n			\n			    \n				-\n				-\n			\n\n		\n		\n\n							\n			\n			\n				Yorkley (Canaries)			\n\n			\n				-\n			\n		\n\n					\n	\n\n\n\n			\n			\n		\n	\n			\n\n							\n					\n				\n			\n			\n									Summer League 26 League 2\n				\n									Woolaston Memorial Hall\n					|\n				\n									14 Aug 2026\n											19:50\n												\n\n			\n		\n		\n	\n	\n		\n\n							\n			\n			\n				Yorkley (Canaries)			\n\n			\n				-\n			\n\n		\n		\n\n			\n			    \n				-\n				-\n			\n\n		\n		\n\n							\n			\n			\n				Woolaston (Commoners)			\n\n			\n				-\n			\n		\n\n					\n	\n\n\n\n			\n			\n		\n	\n			\n\n							\n					\n				\n			\n			\n									Summer League 26 League 2\n				\n									Woolaston Memorial Hall\n					|\n				\n									14 Aug 2026\n											19:50\n												\n\n			\n		\n		\n	\n	\n		\n\n							\n			\n			\n				Woolaston (Woodsiders)			\n\n			\n				-\n			\n\n		\n		\n\n			\n			    \n				-\n				-\n			\n\n		\n		\n\n							\n			\n			\n				Forest of Dean (Squirrels)			\n\n			\n				-\n			\n		\n\n					\n	\n\n\n\n			\n			\n		\n	\n			\n\n							\n					\n				\n			\n			\n									Summer League 26 League 2\n				\n									Woolaston Memorial Hall\n					|\n				\n									14 Aug 2026\n											20:55\n												\n\n			\n		\n		\n	\n	\n		\n\n							\n			\n			\n				Woolaston (Commoners)			\n\n			\n				-\n			\n\n		\n		\n\n			\n			    \n				-\n				-\n			\n\n		\n		\n\n							\n			\n			\n				Woolaston (Woodsiders)			\n\n			\n				-\n			\n		\n\n					\n	\n\n\n\n			\n			\n		\n	\n			\n\n							\n					\n				\n			\n			\n									Summer League 26 League 2\n				\n									Woolaston Memorial Hall\n					|\n				\n									14 Aug 2026\n											20:55\n												\n\n			\n		\n		\n	\n	\n		\n\n							\n			\n			\n				Yorkley (Canaries)			\n\n			\n				-\n			\n\n		\n		\n\n			\n			    \n				-\n				-\n			\n\n		\n		\n\n							\n			\n			\n				Forest of Dean (Squirrels)			\n\n			\n				-\n			\n		\n\n					\n	\n\n	\n\n	\n\n\nPrint Cards
URL:/event/summer-woolaston-3/
LOCATION:Woolaston Memorial Hall\, Swains Fld\, Woolaston\, Lydney\, GL15 6SU
CATEGORIES:Summer
ATTACH;FMTTYPE=image/png:/wp-content/uploads/2026/04/output-onlinepngtools-35.png
END:VEVENT
BEGIN:VEVENT
DTSTART;TZID=Europe/London:20260818T190000
DTEND;TZID=Europe/London:20260818T220000
DTSTAMP:20260423T170603
CREATED:20260405T170522Z
LAST-MODIFIED:20260411T004923Z
UID:10000355-1787079600-1787090400@gsmba.uk
SUMMARY:Summer @ Huntley
DESCRIPTION:Huntley (Elms)\, Yorkley (Kestrels)\, Woolaston (Woodsiders)\, Huntley (Oaks) \n	\n\n		\n\n			\n			\n		\n	\n			\n\n							\n					\n				\n			\n			\n									Summer League 26 League 2\n				\n									Huntley Village Hall\n					|\n				\n									18 Aug 2026\n											19:00\n												\n\n			\n		\n		\n	\n	\n		\n\n							\n			\n			\n				Huntley (Elms)			\n\n			\n				-\n			\n\n		\n		\n\n			\n			    \n				-\n				-\n			\n\n		\n		\n\n							\n			\n			\n				Yorkley (Kestrels)			\n\n			\n				-\n			\n		\n\n					\n	\n\n\n\n			\n			\n		\n	\n			\n\n							\n					\n				\n			\n			\n									Summer League 26 League 2\n				\n									Huntley Village Hall\n					|\n				\n									18 Aug 2026\n											19:00\n												\n\n			\n		\n		\n	\n	\n		\n\n							\n			\n			\n				Woolaston (Woodsiders)			\n\n			\n				-\n			\n\n		\n		\n\n			\n			    \n				-\n				-\n			\n\n		\n		\n\n							\n			\n			\n				Huntley (Oaks)			\n\n			\n				-\n			\n		\n\n					\n	\n\n\n\n			\n			\n		\n	\n			\n\n							\n					\n				\n			\n			\n									Summer League 26 League 2\n				\n									Huntley Village Hall\n					|\n				\n									18 Aug 2026\n											19:50\n												\n\n			\n		\n		\n	\n	\n		\n\n							\n			\n			\n				Yorkley (Kestrels)			\n\n			\n				-\n			\n\n		\n		\n\n			\n			    \n				-\n				-\n			\n\n		\n		\n\n							\n			\n			\n				Huntley (Oaks)			\n\n			\n				-\n			\n		\n\n					\n	\n\n\n\n			\n			\n		\n	\n			\n\n							\n					\n				\n			\n			\n									Summer League 26 League 2\n				\n									Huntley Village Hall\n					|\n				\n									18 Aug 2026\n											19:50\n												\n\n			\n		\n		\n	\n	\n		\n\n							\n			\n			\n				Huntley (Elms)			\n\n			\n				-\n			\n\n		\n		\n\n			\n			    \n				-\n				-\n			\n\n		\n		\n\n							\n			\n			\n				Woolaston (Woodsiders)			\n\n			\n				-\n			\n		\n\n					\n	\n\n\n\n			\n			\n		\n	\n			\n\n							\n					\n				\n			\n			\n									Summer League 26 League 2\n				\n									Huntley Village Hall\n					|\n				\n									18 Aug 2026\n											20:55\n												\n\n			\n		\n		\n	\n	\n		\n\n							\n			\n			\n				Huntley (Oaks)			\n\n			\n				-\n			\n\n		\n		\n\n			\n			    \n				-\n				-\n			\n\n		\n		\n\n							\n			\n			\n				Huntley (Elms)			\n\n			\n				-\n			\n		\n\n					\n	\n\n\n\n			\n			\n		\n	\n			\n\n							\n					\n				\n			\n			\n									Summer League 26 League 2\n				\n									Huntley Village Hall\n					|\n				\n									18 Aug 2026\n											20:55\n												\n\n			\n		\n		\n	\n	\n		\n\n							\n			\n			\n				Yorkley (Kestrels)			\n\n			\n				-\n			\n\n		\n		\n\n			\n			    \n				-\n				-\n			\n\n		\n		\n\n							\n			\n			\n				Woolaston (Woodsiders)			\n\n			\n				-\n			\n		\n\n					\n	\n\n	\n\n	\n\n\nPrint Cards
URL:/event/summer-huntley/
LOCATION:Huntley Village Hall\, North Rd\, Huntley\, Gloucester\, GL19 3DU
CATEGORIES:Summer
ATTACH;FMTTYPE=image/png:/wp-content/uploads/2026/04/output-onlinepngtools-35.png
END:VEVENT
BEGIN:VEVENT
DTSTART;TZID=Europe/London:20260819T191500
DTEND;TZID=Europe/London:20260819T220000
DTSTAMP:20260423T170603
CREATED:20260405T193441Z
LAST-MODIFIED:20260411T005004Z
UID:10000373-1787166900-1787176800@gsmba.uk
SUMMARY:Summer @ Kingsway
DESCRIPTION:Kingsway (Cobbs)\, Ripple (Rooks)\, Kingsway (Cygnets)\, Westbury (Spitfires) \n	\n\n		\n\n			\n			\n		\n	\n			\n\n							\n					\n				\n			\n			\n									Summer League 26 League 1\n				\n									Kingsway Community Centre\n					|\n				\n									19 Aug 2026\n											19:15\n												\n\n			\n		\n		\n	\n	\n		\n\n							\n			\n			\n				Kingsway (Cobbs)			\n\n			\n				-\n			\n\n		\n		\n\n			\n			    \n				-\n				-\n			\n\n		\n		\n\n							\n			\n			\n				Ripple (Rooks)			\n\n			\n				-\n			\n		\n\n					\n	\n\n\n\n			\n			\n		\n	\n			\n\n							\n					\n				\n			\n			\n									Summer League 26 League 1\n				\n									Kingsway Community Centre\n					|\n				\n									19 Aug 2026\n											19:15\n												\n\n			\n		\n		\n	\n	\n		\n\n							\n			\n			\n				Kingsway (Cygnets)			\n\n			\n				-\n			\n\n		\n		\n\n			\n			    \n				-\n				-\n			\n\n		\n		\n\n							\n			\n			\n				Westbury (Spitfires)			\n\n			\n				-\n			\n		\n\n					\n	\n\n\n\n			\n			\n		\n	\n			\n\n							\n					\n				\n			\n			\n									Summer League 26 League 1\n				\n									Kingsway Community Centre\n					|\n				\n									19 Aug 2026\n											20:05\n												\n\n			\n		\n		\n	\n	\n		\n\n							\n			\n			\n				Ripple (Rooks)			\n\n			\n				-\n			\n\n		\n		\n\n			\n			    \n				-\n				-\n			\n\n		\n		\n\n							\n			\n			\n				Westbury (Spitfires)			\n\n			\n				-\n			\n		\n\n					\n	\n\n\n\n			\n			\n		\n	\n			\n\n							\n					\n				\n			\n			\n									Summer League 26 League 1\n				\n									Kingsway Community Centre\n					|\n				\n									19 Aug 2026\n											20:05\n												\n\n			\n		\n		\n	\n	\n		\n\n							\n			\n			\n				Kingsway (Cobbs)			\n\n			\n				-\n			\n\n		\n		\n\n			\n			    \n				-\n				-\n			\n\n		\n		\n\n							\n			\n			\n				Kingsway (Cygnets)			\n\n			\n				-\n			\n		\n\n					\n	\n\n\n\n			\n			\n		\n	\n			\n\n							\n					\n				\n			\n			\n									Summer League 26 League 1\n				\n									Kingsway Community Centre\n					|\n				\n									19 Aug 2026\n											21:10\n												\n\n			\n		\n		\n	\n	\n		\n\n							\n			\n			\n				Westbury (Spitfires)			\n\n			\n				-\n			\n\n		\n		\n\n			\n			    \n				-\n				-\n			\n\n		\n		\n\n							\n			\n			\n				Kingsway (Cobbs)			\n\n			\n				-\n			\n		\n\n					\n	\n\n\n\n			\n			\n		\n	\n			\n\n							\n					\n				\n			\n			\n									Summer League 26 League 1\n				\n									Kingsway Community Centre\n					|\n				\n									19 Aug 2026\n											21:10\n												\n\n			\n		\n		\n	\n	\n		\n\n							\n			\n			\n				Ripple (Rooks)			\n\n			\n				-\n			\n\n		\n		\n\n			\n			    \n				-\n				-\n			\n\n		\n		\n\n							\n			\n			\n				Kingsway (Cygnets)			\n\n			\n				-\n			\n		\n\n					\n	\n\n	\n\n	\n\n\nPrint Cards
URL:/event/summer-kingsway-7/
LOCATION:Kingsway Community Centre\, Thatcham Avenue\, Quedgeley\, Gloucester\, GL2 2GS
CATEGORIES:Summer
ATTACH;FMTTYPE=image/png:/wp-content/uploads/2026/04/output-onlinepngtools-35.png
END:VEVENT
BEGIN:VEVENT
DTSTART;TZID=Europe/London:20260824T190000
DTEND;TZID=Europe/London:20260824T220000
DTSTAMP:20260423T170603
CREATED:20260405T193526Z
LAST-MODIFIED:20260411T005049Z
UID:10000374-1787598000-1787608800@gsmba.uk
SUMMARY:Summer @ Sharpness
DESCRIPTION:Sharpness (Otters)\, Kingsway (Swans)\, Kingsway (Cygnets)\, Kingsway (Cobbs) \n	\n\n		\n\n			\n			\n		\n	\n			\n\n							\n					\n				\n			\n			\n									Summer League 26 League 1\n				\n									Sharpness Village Hall\n					|\n				\n									24 Aug 2026\n											19:00\n												\n\n			\n		\n		\n	\n	\n		\n\n							\n			\n			\n				Sharpness (Otters)			\n\n			\n				-\n			\n\n		\n		\n\n			\n			    \n				-\n				-\n			\n\n		\n		\n\n							\n			\n			\n				Kingsway (Swans)			\n\n			\n				-\n			\n		\n\n					\n	\n\n\n\n			\n			\n		\n	\n			\n\n							\n					\n				\n			\n			\n									Summer League 26 League 1\n				\n									Sharpness Village Hall\n					|\n				\n									24 Aug 2026\n											19:00\n												\n\n			\n		\n		\n	\n	\n		\n\n							\n			\n			\n				Kingsway (Cygnets)			\n\n			\n				-\n			\n\n		\n		\n\n			\n			    \n				-\n				-\n			\n\n		\n		\n\n							\n			\n			\n				Kingsway (Cobbs)			\n\n			\n				-\n			\n		\n\n					\n	\n\n\n\n			\n			\n		\n	\n			\n\n							\n					\n				\n			\n			\n									Summer League 26 League 1\n				\n									Sharpness Village Hall\n					|\n				\n									24 Aug 2026\n											19:50\n												\n\n			\n		\n		\n	\n	\n		\n\n							\n			\n			\n				Kingsway (Swans)			\n\n			\n				-\n			\n\n		\n		\n\n			\n			    \n				-\n				-\n			\n\n		\n		\n\n							\n			\n			\n				Kingsway (Cobbs)			\n\n			\n				-\n			\n		\n\n					\n	\n\n\n\n			\n			\n		\n	\n			\n\n							\n					\n				\n			\n			\n									Summer League 26 League 1\n				\n									Sharpness Village Hall\n					|\n				\n									24 Aug 2026\n											19:50\n												\n\n			\n		\n		\n	\n	\n		\n\n							\n			\n			\n				Sharpness (Otters)			\n\n			\n				-\n			\n\n		\n		\n\n			\n			    \n				-\n				-\n			\n\n		\n		\n\n							\n			\n			\n				Kingsway (Cygnets)			\n\n			\n				-\n			\n		\n\n					\n	\n\n\n\n			\n			\n		\n	\n			\n\n							\n					\n				\n			\n			\n									Summer League 26 League 1\n				\n									Sharpness Village Hall\n					|\n				\n									24 Aug 2026\n											20:55\n												\n\n			\n		\n		\n	\n	\n		\n\n							\n			\n			\n				Kingsway (Cobbs)			\n\n			\n				-\n			\n\n		\n		\n\n			\n			    \n				-\n				-\n			\n\n		\n		\n\n							\n			\n			\n				Sharpness (Otters)			\n\n			\n				-\n			\n		\n\n					\n	\n\n\n\n			\n			\n		\n	\n			\n\n							\n					\n				\n			\n			\n									Summer League 26 League 1\n				\n									Sharpness Village Hall\n					|\n				\n									24 Aug 2026\n											20:55\n												\n\n			\n		\n		\n	\n	\n		\n\n							\n			\n			\n				Kingsway (Swans)			\n\n			\n				-\n			\n\n		\n		\n\n			\n			    \n				-\n				-\n			\n\n		\n		\n\n							\n			\n			\n				Kingsway (Cygnets)			\n\n			\n				-\n			\n		\n\n					\n	\n\n	\n\n	\n\n\nPrint Cards
URL:/event/summer-sharpness-2/
LOCATION:Sharpness Village Hall\, Oldminster Road\, nr Berkeley\, GL13 9NA
CATEGORIES:Summer
ATTACH;FMTTYPE=image/png:/wp-content/uploads/2026/04/output-onlinepngtools-35.png
END:VEVENT
BEGIN:VEVENT
DTSTART;TZID=Europe/London:20260828T080000
DTEND;TZID=Europe/London:20260828T170000
DTSTAMP:20260423T170603
CREATED:20260209T231801Z
LAST-MODIFIED:20260209T232134Z
UID:10000328-1787904000-1787936400@gsmba.uk
SUMMARY:World Cup
DESCRIPTION:World Cup qualification is determined by a player’s position in the Order of Merit after the completion of the six world ranking events in the season. \nPlayers can accumulate ranking points by competing in any number of these open events. Full details are shown here: http://shortmatplayerstour.com/rankings/world-rankings-works/. \nThe top four ranked players for each country featured in the Order of Merit after the final ranking event of the season are invited to take their place at the World Cup. \nA ‘Rest Of The World’ team can also qualify. This team will consist of the top four ranked players from the countries who do not have enough players included on the Order of Merit to field a team in their own right. \nA player’s country is determined one of three ways. \n\nPlace of residency\nPlace of birth\nParent’s nationality\n\nIn the first instance the SMPT will use the place of residency as the default country for who a player will represent. A player may change this by submitting proof to the SMPT of either their place of birth or their parent’s nationality. Once verified\, the player may change their country of representation. All relevant evidence must be given to the SMPT no later than the completion of that player’s first ranking event in any given season. \nIf a player who has qualified cannot take part in the World Cup they will be replaced by the next highest qualifying player from that country on the Order of Merit list. The new player will take the 4th spot in the team\, with any of the original qualifiers moving up one spot. \nIf no replacement player is available from the Order of Merit then the SMPT may\, at its discretion\, invite another player from outside of the Order of Merit\, who also meets one of the three criteria above for the same country. \nThe SMPT may\, at its discretion\, invite teams from countries not listed in the SMPT Order of Merit. This will be permitted to promote the sport in these countries.
URL:/event/world-cup/
LOCATION:Falcon Bowling and Social Club\, Channels Dr\, Broomfield\, Chelmsford\, CM3 3FB
CATEGORIES:SMPT
ATTACH;FMTTYPE=image/png:/wp-content/uploads/2024/04/smpt-logo.png
END:VEVENT
BEGIN:VEVENT
DTSTART;TZID=Europe/London:20260829T080000
DTEND;TZID=Europe/London:20260829T170000
DTSTAMP:20260423T170603
CREATED:20260209T232041Z
LAST-MODIFIED:20260209T232041Z
UID:10000329-1787990400-1788022800@gsmba.uk
SUMMARY:UK Open
DESCRIPTION:The UK Open was first played in 2012 in Guildford before moving to Bromsgrove in 2013. 2017 saw the tournament move again\, this time to Chelmsford. \nIt is traditionally the first ranking event of the season. \nFormat \n\nPlayers will be in groups of 5 or 6.\nThe top 2 players from each group will qualify for the main Cup.\nThird and Fourth placed players will qualify for the Plate.\nThe remaining players will qualify for the Shield.\nSaturday: Registration is from 7.45am-8.45am.\nPractice is allowed from 8am-8.45am and play commences at 9am on both days.\nGroup games will be played on Saturday and Sunday morning with the knock-out stages following on Sunday afternoon.\nPlayers will be required to mark up to 3 games during the group stage and a knockout game.
URL:/event/uk-open-3/
LOCATION:Falcon Bowling and Social Club\, Channels Dr\, Broomfield\, Chelmsford\, CM3 3FB
CATEGORIES:SMPT
ATTACH;FMTTYPE=image/png:/wp-content/uploads/2024/04/smpt-logo.png
END:VEVENT
END:VCALENDAR