BEGIN:VCALENDAR
VERSION:2.0
PRODID:-//GSMBA - ECPv6.11.1//NONSGML v1.0//EN
CALSCALE:GREGORIAN
METHOD:PUBLISH
X-ORIGINAL-URL:https://gsmba.uk
X-WR-CALDESC:Events for GSMBA
REFRESH-INTERVAL;VALUE=DURATION:PT1H
X-Robots-Tag:noindex
X-PUBLISHED-TTL:PT1H
BEGIN:VTIMEZONE
TZID:Europe/London
BEGIN:DAYLIGHT
TZOFFSETFROM:+0000
TZOFFSETTO:+0100
TZNAME:BST
DTSTART:20260329T010000
END:DAYLIGHT
BEGIN:STANDARD
TZOFFSETFROM:+0100
TZOFFSETTO:+0000
TZNAME:GMT
DTSTART:20261025T010000
END:STANDARD
END:VTIMEZONE
BEGIN:VEVENT
DTSTART;TZID=Europe/London:20260201T100000
DTEND;TZID=Europe/London:20260201T170000
DTSTAMP:20260419T173723
CREATED:20260201T090331Z
LAST-MODIFIED:20260201T090625Z
UID:10000325-1769940000-1769965200@gsmba.uk
SUMMARY:ICC Knockout: Oxfordshire (away)
DESCRIPTION:
URL:/event/icc-knockout-oxfordshire-away/
LOCATION:Oxford & District IBC\, Sandy Ln W\, Littlemore\, Oxford OX4 6NA
CATEGORIES:Inter County Cup
ATTACH;FMTTYPE=image/png:/wp-content/uploads/2025/02/images-e1769937491957.png
END:VEVENT
BEGIN:VEVENT
DTSTART;VALUE=DATE:20260207
DTEND;VALUE=DATE:20260208
DTSTAMP:20260419T173723
CREATED:20251213T073716Z
LAST-MODIFIED:20251213T080549Z
UID:10000320-1770422400-1770508799@gsmba.uk
SUMMARY:WSMBA Charity Cup
DESCRIPTION:We are holding a short mat bowls tournament to raise funds for the British Heart Foundation on Saturday 7th February 2026 at Bromsgrove Indoor Bowls Club\, with a start time of 9.30am. \nThis event will be 3 bowl triples with maximum capacity for 16 teams to enter and all supporters welcome to come along and support your team on the day. \nAn entry fee of £30 will apply to secure your space in our first ever Charity Cup. \nWe will also be running a Raffle on the day to Raise Funds. We have a Just Giving page for this event and have a target of £1000\, so even if you don’t want to enter\, why not donate to a charity that strives towards a world where everyone has a healthier heart. \nIf you would like to enter\, please email: philat98@icloud.com \nPayment instructions for entry will be given via email and a team name will be asked for. \nIf you would like to donate this wonderful charity and support our event please visit: https://www.justgiving.com/page/charitycup26 \n 
URL:/event/wsmba-charity-cup/
LOCATION:Bromsgrove Indoor Bowls Club\, Austin Road\, Charford Bromsgrove\, B60 3PT
CATEGORIES:Open Tournament
ATTACH;FMTTYPE=image/png:/wp-content/uploads/2024/10/logo-header1-crop-e1728285475691.png
END:VEVENT
BEGIN:VEVENT
DTSTART;TZID=Europe/London:20260209T100000
DTEND;TZID=Europe/London:20260213T120000
DTSTAMP:20260419T173723
CREATED:20250216T113414Z
LAST-MODIFIED:20250821T210837Z
UID:10000255-1770631200-1770984000@gsmba.uk
SUMMARY:Dawlish Warren: Spring 2026
DESCRIPTION:Our air-conditioned Washington Ballroom is an excellent venue for Short mat bowls. With space for up to 5 mats\, you can play whatever the weather! The game is played like other forms of the sport\, with full-sized bowls being used to bowl up and down the carpet. In just a few short years\, the sport has grown in popularity to over 100\,000 players\, and this popularity shows no signs of slowing down; many other parts of the world are taking up the sport and having fun! \nMen and women compete equally together\, so techniques are truly tested. A great family sport\, the ages of players range from 9 to over 90 (that we are aware of anyway!). \nThe Short Mat Bowls holidays held at Langstone Cliff are organised by Bob Weafer at www.short-mat-holidays.com.
URL:/event/dawlish-warren-spring-2026/
LOCATION:Langstone Cliff\, Mount Pleasant Road\, Dawlish Warren\, Dawlish\, Devon\, EX7 0NA
CATEGORIES:TLH
ATTACH;FMTTYPE=image/png:/wp-content/uploads/2024/10/output-onlinepngtools-5-e1755811754809.png
END:VEVENT
BEGIN:VEVENT
DTSTART;TZID=Europe/London:20260215T080000
DTEND;TZID=Europe/London:20260219T170000
DTSTAMP:20260419T173723
CREATED:20250821T205007Z
LAST-MODIFIED:20250821T205539Z
UID:10000309-1771142400-1771520400@gsmba.uk
SUMMARY:4321 Short Mat 2026
DESCRIPTION:This break includes lots of bowling – you will be playing twice a day. For this reason\, each team can have a substitute if required. \nYou will be staying at the TLH Toorak Hotel which is restricted to adults only or TLH Derwent Hotel on a dinner bed and breakfast basis. You can enjoy a choice of entertainment venues – we have our Adults Only entertainment programme at the TLH Toorak hotel or the Showtime Spectacular programme in the Starlight Lounge in the TLH Derwent – whichever venue you choose you can be sure of some memorable evenings of the best quality entertainment. \n\nPlay in teams of five people\nPlay Fours and singles in the mornings\nPlay Pairs and Triples in the afternoons\nInitial Round Robin matches leading up to semi-finals and finals\nSemi-Finals & Finals on Thursday afternoon\nFormal presentation of prizes with a glass of bubbly
URL:/event/4321-short-mat-club-2026/
LOCATION:TLH Leisure Resort\, Belgrave Road\, Torquay\, TQ2 5HS
CATEGORIES:TLH
ATTACH;FMTTYPE=image/png:/wp-content/uploads/2024/05/output-onlinepngtools-3-e1755811731319.png
END:VEVENT
BEGIN:VEVENT
DTSTART;TZID=Europe/London:20260215T100000
DTEND;TZID=Europe/London:20260215T170000
DTSTAMP:20260419T173723
CREATED:20260201T090537Z
LAST-MODIFIED:20260201T090929Z
UID:10000326-1771149600-1771174800@gsmba.uk
SUMMARY:ICC Knockout: Cambridgeshire (away)
DESCRIPTION:
URL:/event/icc-knockout-cambridgeshire-away/
CATEGORIES:Inter County Cup
ATTACH;FMTTYPE=image/jpeg:/wp-content/uploads/2026/02/cambridgeshire-logo-1.jpg
END:VEVENT
BEGIN:VEVENT
DTSTART;VALUE=DATE:20260221
DTEND;VALUE=DATE:20260223
DTSTAMP:20260419T173723
CREATED:20250821T204413Z
LAST-MODIFIED:20250821T204527Z
UID:10000308-1771632000-1771804799@gsmba.uk
SUMMARY:English Masters
DESCRIPTION:The English Masters is the fifth of six ranking events of the Short Mat Players Tour 2025-26 season. \n \n\nPlayers will be in groups of 5 or 6.\nThe top 2 players from each group will qualify for the main Cup.\nThird and Fourth placed players will qualify for the Plate.\nThe remaining players will qualify for the Shield.\nRegistration is from 7.45am-8.45am Practice is allowed from 8am-8.45am. Play commences at 9am.\nGroup games will be played on Saturday and Sunday morning with the knock-out stages following on Sunday afternoon.
URL:/event/english-masters-3/
LOCATION:Falcon Bowling and Social Club\, Channels Dr\, Broomfield\, Chelmsford\, CM3 3FB
CATEGORIES:SMPT
ATTACH;FMTTYPE=image/png:/wp-content/uploads/2024/04/smpt-logo.png
END:VEVENT
END:VCALENDAR