BEGIN:VCALENDAR
VERSION:2.0
PRODID:-//GSMBA - ECPv6.11.1//NONSGML v1.0//EN
CALSCALE:GREGORIAN
METHOD:PUBLISH
X-ORIGINAL-URL:https://gsmba.uk
X-WR-CALDESC:Events for GSMBA
REFRESH-INTERVAL;VALUE=DURATION:PT1H
X-Robots-Tag:noindex
X-PUBLISHED-TTL:PT1H
BEGIN:VTIMEZONE
TZID:Europe/London
BEGIN:DAYLIGHT
TZOFFSETFROM:+0000
TZOFFSETTO:+0100
TZNAME:BST
DTSTART:20250330T010000
END:DAYLIGHT
BEGIN:STANDARD
TZOFFSETFROM:+0100
TZOFFSETTO:+0000
TZNAME:GMT
DTSTART:20251026T010000
END:STANDARD
END:VTIMEZONE
BEGIN:VEVENT
DTSTART;TZID=Europe/London:20250928T120000
DTEND;TZID=Europe/London:20251003T120000
DTSTAMP:20260419T234634
CREATED:20241007T073647Z
LAST-MODIFIED:20241007T074617Z
UID:10000224-1759060800-1759492800@gsmba.uk
SUMMARY:Autumn Short Mat Festival 2025
DESCRIPTION:Our Autumn Short Mat Festival is another major event of the short mat calendar. You can choose to stay at either the TLH Derwent or the TLH Toorak Hotel while bowling daily on our indoor arena. We lay up to 16 mats on the arena which gives an excellent playing surface. There is lots of opportunity to bowl both as part of the triples competition as well as the optional pairs competition. \nWhichever hotel you choose to stay at you will enjoy dinner\, bed and breakfast. \nIncluded in the break is a welcome drinks reception giving you a chance to mix and mingle with your fellow competitors. \nOur evening entertainment features our great cabaret acts plus the TLH Entertainment Team’s show. With the added advantage of bingo\, day time activities and some of the best leisure facilities in Torquay you can be sure that every moment of your stay will be enjoyable and create lasting memories. \nIf you bowl as a pair or an individual our bowls co-ordinator will be happy to discuss creating a team of 3 for you. \n\nArrive on Sunday with roll ups and registration\nWelcome Drinks Reception\nBowling on up to 16 mats on the arena\nMain competition – 2 wood triples\nOptional pairs competition\nPlate competitions to ensure bowling every day\nPrize money for triples and pairs competitions\nAll finals played on Thursday
URL:/event/autumn-short-mat-festival-2025/
LOCATION:TLH Leisure Resort\, Belgrave Road\, Torquay\, TQ2 5HS
CATEGORIES:Open Tournament
ATTACH;FMTTYPE=image/png:/wp-content/uploads/2024/05/output-onlinepngtools-3-e1755811731319.png
END:VEVENT
BEGIN:VEVENT
DTSTART;TZID=Europe/London:20251002T080000
DTEND;TZID=Europe/London:20251002T170000
DTSTAMP:20260419T234634
CREATED:20250905T170218Z
LAST-MODIFIED:20250918T231124Z
UID:10000315-1759392000-1759424400@gsmba.uk
SUMMARY:Summer League: Finals
DESCRIPTION:Defford (Diamonds)\, Yorkley (Falcons) plus two Semi-finalists…\nYorkley (Kestrels)\, Kingsway (Swans)
URL:/event/summer-league-finals/
LOCATION:Ripple Parish Hall\, School Lane\, Ripple\, Tewkesbury\, GL20 6EU
CATEGORIES:Summer
ATTACH;FMTTYPE=image/png:/wp-content/uploads/2024/09/Summer-league-e1755705151357.png
END:VEVENT
BEGIN:VEVENT
DTSTART;TZID=Europe/London:20251004T100000
DTEND;TZID=Europe/London:20251004T150000
DTSTAMP:20260419T234634
CREATED:20250124T233901Z
LAST-MODIFIED:20250125T001415Z
UID:10000238-1759572000-1759590000@gsmba.uk
SUMMARY:ICC: West Midlands (Home)
DESCRIPTION:
URL:/event/icc-west-midlands-home/
LOCATION:Kingsway Community Centre\, Thatcham Avenue\, Quedgeley\, Gloucester\, GL2 2GS
CATEGORIES:Inter County Cup
ATTACH;FMTTYPE=image/jpeg:/wp-content/uploads/2025/01/imgonline-com-ua-twotoone-4JGQJl3KIZ.jpg
END:VEVENT
BEGIN:VEVENT
DTSTART;TZID=Europe/London:20251018T090000
DTEND;TZID=Europe/London:20251018T163000
DTSTAMP:20260419T234634
CREATED:20250125T004622Z
LAST-MODIFIED:20250706T194829Z
UID:10000248-1760778000-1760805000@gsmba.uk
SUMMARY:Over 55s Pairs: Championships 2025/26
DESCRIPTION:Please make sure all entries\, both County Championships and National entries\, are sent to Chris Evans (Competition Organiser) not ESMBA.\nThe closing date for entries is the 26th September 2025\nCosts for entry per discipline per player is £5:00 only. No additional fee for National entries.
URL:/event/gsmba-championships-2025-26/
LOCATION:Kingsway Community Centre\, Thatcham Avenue\, Quedgeley\, Gloucester\, GL2 2GS
CATEGORIES:County/Nationals
ATTACH;FMTTYPE=image/png:/wp-content/uploads/2024/10/GSMBA-over-55s-pairs-e1728240338832.png
ORGANIZER;CN="Chris Evans":MAILTO:chrisevansbowler@hotmail.com
END:VEVENT
BEGIN:VEVENT
DTSTART;TZID=Europe/London:20251020T190000
DTEND;TZID=Europe/London:20251020T210000
DTSTAMP:20260419T234634
CREATED:20250821T231811Z
LAST-MODIFIED:20251009T161811Z
UID:10000292-1760986800-1760994000@gsmba.uk
SUMMARY:GSMBA: Management Committee Meeting
DESCRIPTION:Agenda\n\nApologies\nMinutes of previous meeting\nMatters arising from minutes\nReports\n\nSecretary (including correspondence)\nTreasurer\nMembership Secretary\nCompetition Secretary\nLeague Secretary\nCounty Team Captain\n\n\nAny other business not requiring advance notice to the Committee\nDate of next meeting
URL:/event/gsmba-management-committee-meeting-4/
LOCATION:Kingsway Community Centre\, Thatcham Avenue\, Quedgeley\, Gloucester\, GL2 2GS
CATEGORIES:GSMBA Committee
END:VEVENT
BEGIN:VEVENT
DTSTART;TZID=Europe/London:20251025T100000
DTEND;TZID=Europe/London:20251025T150000
DTSTAMP:20260419T234634
CREATED:20250124T234955Z
LAST-MODIFIED:20251018T103927Z
UID:10000239-1761386400-1761404400@gsmba.uk
SUMMARY:Brunel Cup: Gloucester vs Avon
DESCRIPTION:
URL:/event/brunel-cup-gloucester-vs-avon-2/
LOCATION:Kingsway Community Centre\, Thatcham Avenue\, Quedgeley\, Gloucester\, GL2 2GS
CATEGORIES:Brunell Cup
ATTACH;FMTTYPE=image/png:/wp-content/uploads/2024/08/output-onlinepngtools-12-e1758439625138-imageonline.co-merged.png
END:VEVENT
END:VCALENDAR