BEGIN:VCALENDAR
VERSION:2.0
PRODID:-//GSMBA - ECPv6.11.1//NONSGML v1.0//EN
CALSCALE:GREGORIAN
METHOD:PUBLISH
X-ORIGINAL-URL:https://gsmba.uk
X-WR-CALDESC:Events for GSMBA
REFRESH-INTERVAL;VALUE=DURATION:PT1H
X-Robots-Tag:noindex
X-PUBLISHED-TTL:PT1H
BEGIN:VTIMEZONE
TZID:Europe/London
BEGIN:DAYLIGHT
TZOFFSETFROM:+0000
TZOFFSETTO:+0100
TZNAME:BST
DTSTART:20250330T010000
END:DAYLIGHT
BEGIN:STANDARD
TZOFFSETFROM:+0100
TZOFFSETTO:+0000
TZNAME:GMT
DTSTART:20251026T010000
END:STANDARD
END:VTIMEZONE
BEGIN:VEVENT
DTSTART;TZID=Europe/London:20250805T190000
DTEND;TZID=Europe/London:20250805T214000
DTSTAMP:20260420T024827
CREATED:20250218T003140Z
LAST-MODIFIED:20250312T211108Z
UID:10000285-1754420400-1754430000@gsmba.uk
SUMMARY:Summer League @ Yorkley
DESCRIPTION:Yorkley (Canaries)\, Kingsway (Swans)\, Ripple (Ravens)\, Defford (Sapphires) \n	\n\n		\n\n			\n			\n		\n	\n			\n\n							\n					\n				\n			\n			\n									Summer League 25 Division Bee\n				\n									Yorkley Community Centre\n					|\n				\n									5 Aug 2025\n											19:00\n												\n\n			\n		\n		\n	\n	\n		\n\n							\n			\n			\n				Yorkley (Canaries)			\n\n			\n				4\n			\n\n		\n		\n\n			\n			    \n				4\n				9\n			\n\n		\n		\n\n							\n			\n			\n				Kingsway (Swans)			\n\n			\n				9\n			\n		\n\n					\n	\n\n\n\n			\n			\n		\n	\n			\n\n							\n					\n				\n			\n			\n									Summer League 25 Division Bee\n				\n									Yorkley Community Centre\n					|\n				\n									5 Aug 2025\n											19:00\n												\n\n			\n		\n		\n	\n	\n		\n\n							\n			\n			\n				Ripple (Ravens)			\n\n			\n				3\n			\n\n		\n		\n\n			\n			    \n				3\n				4\n			\n\n		\n		\n\n							\n			\n			\n				Defford (Sapphires)			\n\n			\n				4\n			\n		\n\n					\n	\n\n\n\n			\n			\n		\n	\n			\n\n							\n					\n				\n			\n			\n									Summer League 25 Division Bee\n				\n									Yorkley Community Centre\n					|\n				\n									5 Aug 2025\n											19:50\n												\n\n			\n		\n		\n	\n	\n		\n\n							\n			\n			\n				Kingsway (Swans)			\n\n			\n				4\n			\n\n		\n		\n\n			\n			    \n				4\n				7\n			\n\n		\n		\n\n							\n			\n			\n				Ripple (Ravens)			\n\n			\n				7\n			\n		\n\n					\n	\n\n\n\n			\n			\n		\n	\n			\n\n							\n					\n				\n			\n			\n									Summer League 25 Division Bee\n				\n									Yorkley Community Centre\n					|\n				\n									5 Aug 2025\n											19:50\n												\n\n			\n		\n		\n	\n	\n		\n\n							\n			\n			\n				Defford (Sapphires)			\n\n			\n				5\n			\n\n		\n		\n\n			\n			    \n				5\n				6\n			\n\n		\n		\n\n							\n			\n			\n				Yorkley (Canaries)			\n\n			\n				6\n			\n		\n\n					\n	\n\n\n\n			\n			\n		\n	\n			\n\n							\n					\n				\n			\n			\n									Summer League 25 Division Bee\n				\n									Yorkley Community Centre\n					|\n				\n									5 Aug 2025\n											20:55\n												\n\n			\n		\n		\n	\n	\n		\n\n							\n			\n			\n				Kingsway (Swans)			\n\n			\n				16\n			\n\n		\n		\n\n			\n			    \n				16\n				0\n			\n\n		\n		\n\n							\n			\n			\n				Defford (Sapphires)			\n\n			\n				0\n			\n		\n\n					\n	\n\n\n\n			\n			\n		\n	\n			\n\n							\n					\n				\n			\n			\n									Summer League 25 Division Bee\n				\n									Yorkley Community Centre\n					|\n				\n									5 Aug 2025\n											20:55\n												\n\n			\n		\n		\n	\n	\n		\n\n							\n			\n			\n				Yorkley (Canaries)			\n\n			\n				2\n			\n\n		\n		\n\n			\n			    \n				2\n				9\n			\n\n		\n		\n\n							\n			\n			\n				Ripple (Ravens)			\n\n			\n				9
URL:/event/summer-league-yorkley-14/
LOCATION:Yorkley Community Centre\, Bailey Hill\, Yorkley\, Gloucester\, GL15 4RS
CATEGORIES:Summer
END:VEVENT
BEGIN:VEVENT
DTSTART;TZID=Europe/London:20250811T190000
DTEND;TZID=Europe/London:20250811T210000
DTSTAMP:20260420T024827
CREATED:20250821T231501Z
LAST-MODIFIED:20250821T232212Z
UID:10000314-1754938800-1754946000@gsmba.uk
SUMMARY:GSMBA: Management Committee Meeting
DESCRIPTION:GLOUCESTERSHIRE SHORT MAT BOWLING ASSOCIATION \nMANAGEMENT COMMITTEE MEETING \nTo be held on Monday 11 August 2025 at 7.00pm \nat \nKingsway Community Centre\, Thatcham Avenue\, Quedgeley GL2 2GS \nAGENDA \nAPOLOGIES \nMinutes of previous meeting on 23 June 2025 (circulated with agenda) \nMatters arising from minutes. \nReports \na. Secretary (including correspondence) \nb. Treasurer \nc. Membership Secretary \nd. Competition Secretary \ne. League Secretary \nf. County Team Captain \nAOB not requiring advance notice to the Committee \nDate of next meeting
URL:/event/gsmba-management-committee-meeting-3/
LOCATION:Kingsway Community Centre\, Thatcham Avenue\, Quedgeley\, Gloucester\, GL2 2GS
CATEGORIES:GSMBA Committee
END:VEVENT
BEGIN:VEVENT
DTSTART;TZID=Europe/London:20250812T190000
DTEND;TZID=Europe/London:20250812T214000
DTSTAMP:20260420T024827
CREATED:20250218T003055Z
LAST-MODIFIED:20250326T214009Z
UID:10000269-1755025200-1755034800@gsmba.uk
SUMMARY:Summer League @ Ripple
DESCRIPTION:Ripple (Rooks)\, Yorkley (Kestrels)\, Defford (Diamonds)\, Longhope (Foxes) \n	\n\n		\n\n			\n			\n		\n	\n			\n\n							\n					\n				\n			\n			\n									Summer League 25 Division Aye\n				\n									Ripple Parish Hall\n					|\n				\n									12 Aug 2025\n											19:00\n												\n\n			\n		\n		\n	\n	\n		\n\n							\n			\n			\n				Ripple (Rooks)			\n\n			\n				8\n			\n\n		\n		\n\n			\n			    \n				8\n				4\n			\n\n		\n		\n\n							\n			\n			\n				Yorkley (Kestrels)			\n\n			\n				4\n			\n		\n\n					\n	\n\n\n\n			\n			\n		\n	\n			\n\n							\n					\n				\n			\n			\n									Summer League 25 Division Aye\n				\n									Ripple Parish Hall\n					|\n				\n									12 Aug 2025\n											19:00\n												\n\n			\n		\n		\n	\n	\n		\n\n							\n			\n			\n				Defford (Diamonds)			\n\n			\n				8\n			\n\n		\n		\n\n			\n			    \n				8\n				4\n			\n\n		\n		\n\n							\n			\n			\n				Longhope (Foxes)			\n\n			\n				4\n			\n		\n\n					\n	\n\n\n\n			\n			\n		\n	\n			\n\n							\n					\n				\n			\n			\n									Summer League 25 Division Aye\n				\n									Ripple Parish Hall\n					|\n				\n									12 Aug 2025\n											19:50\n												\n\n			\n		\n		\n	\n	\n		\n\n							\n			\n			\n				Yorkley (Kestrels)			\n\n			\n				2\n			\n\n		\n		\n\n			\n			    \n				2\n				7\n			\n\n		\n		\n\n							\n			\n			\n				Defford (Diamonds)			\n\n			\n				7\n			\n		\n\n					\n	\n\n\n\n			\n			\n		\n	\n			\n\n							\n					\n				\n			\n			\n									Summer League 25 Division Aye\n				\n									Ripple Parish Hall\n					|\n				\n									12 Aug 2025\n											19:50\n												\n\n			\n		\n		\n	\n	\n		\n\n							\n			\n			\n				Longhope (Foxes)			\n\n			\n				5\n			\n\n		\n		\n\n			\n			    \n				5\n				6\n			\n\n		\n		\n\n							\n			\n			\n				Ripple (Rooks)			\n\n			\n				6\n			\n		\n\n					\n	\n\n\n\n			\n			\n		\n	\n			\n\n							\n					\n				\n			\n			\n									Summer League 25 Division Aye\n				\n									Ripple Parish Hall\n					|\n				\n									12 Aug 2025\n											20:55\n												\n\n			\n		\n		\n	\n	\n		\n\n							\n			\n			\n				Yorkley (Kestrels)			\n\n			\n				7\n			\n\n		\n		\n\n			\n			    \n				7\n				6\n			\n\n		\n		\n\n							\n			\n			\n				Longhope (Foxes)			\n\n			\n				6\n			\n		\n\n					\n	\n\n\n\n			\n			\n		\n	\n			\n\n							\n					\n				\n			\n			\n									Summer League 25 Division Aye\n				\n									Ripple Parish Hall\n					|\n				\n									12 Aug 2025\n											20:55\n												\n\n			\n		\n		\n	\n	\n		\n\n							\n			\n			\n				Ripple (Rooks)			\n\n			\n				2\n			\n\n		\n		\n\n			\n			    \n				2\n				5\n			\n\n		\n		\n\n							\n			\n			\n				Defford (Diamonds)			\n\n			\n				5
URL:/event/summer-league-ripple-6/
LOCATION:Ripple Parish Hall\, School Lane\, Ripple\, Tewkesbury\, GL20 6EU
CATEGORIES:Summer
END:VEVENT
BEGIN:VEVENT
DTSTART;TZID=Europe/London:20250813T190000
DTEND;TZID=Europe/London:20250813T214000
DTSTAMP:20260420T024827
CREATED:20250218T003055Z
LAST-MODIFIED:20250326T215215Z
UID:10000270-1755111600-1755121200@gsmba.uk
SUMMARY:Summer League @ Westbury
DESCRIPTION:Westbury (Wellingtons)\, Longhope (Foxes)\, Huntley (Oaks)\, Ripple (Rooks) \n	\n\n		\n\n			\n			\n		\n	\n			\n\n							\n					\n				\n			\n			\n									Summer League 25 Division Aye\n				\n									Westbury on Severn Parish Hall\n					|\n				\n									13 Aug 2025\n											19:00\n												\n\n			\n		\n		\n	\n	\n		\n\n							\n			\n			\n				Westbury (Wellingtons)			\n\n			\n				6\n			\n\n		\n		\n\n			\n			    \n				6\n				6\n			\n\n		\n		\n\n							\n			\n			\n				Longhope (Foxes)			\n\n			\n				6\n			\n		\n\n					\n	\n\n\n\n			\n			\n		\n	\n			\n\n							\n					\n				\n			\n			\n									Summer League 25 Division Aye\n				\n									Westbury on Severn Parish Hall\n					|\n				\n									13 Aug 2025\n											19:00\n												\n\n			\n		\n		\n	\n	\n		\n\n							\n			\n			\n				Huntley (Oaks)			\n\n			\n				4\n			\n\n		\n		\n\n			\n			    \n				4\n				10\n			\n\n		\n		\n\n							\n			\n			\n				Ripple (Rooks)			\n\n			\n				10\n			\n		\n\n					\n	\n\n\n\n			\n			\n		\n	\n			\n\n							\n					\n				\n			\n			\n									Summer League 25 Division Aye\n				\n									Westbury on Severn Parish Hall\n					|\n				\n									13 Aug 2025\n											19:50\n												\n\n			\n		\n		\n	\n	\n		\n\n							\n			\n			\n				Longhope (Foxes)			\n\n			\n				10\n			\n\n		\n		\n\n			\n			    \n				10\n				5\n			\n\n		\n		\n\n							\n			\n			\n				Huntley (Oaks)			\n\n			\n				5\n			\n		\n\n					\n	\n\n\n\n			\n			\n		\n	\n			\n\n							\n					\n				\n			\n			\n									Summer League 25 Division Aye\n				\n									Westbury on Severn Parish Hall\n					|\n				\n									13 Aug 2025\n											19:50\n												\n\n			\n		\n		\n	\n	\n		\n\n							\n			\n			\n				Ripple (Rooks)			\n\n			\n				2\n			\n\n		\n		\n\n			\n			    \n				2\n				8\n			\n\n		\n		\n\n							\n			\n			\n				Westbury (Wellingtons)			\n\n			\n				8\n			\n		\n\n					\n	\n\n\n\n			\n			\n		\n	\n			\n\n							\n					\n				\n			\n			\n									Summer League 25 Division Aye\n				\n									Westbury on Severn Parish Hall\n					|\n				\n									13 Aug 2025\n											20:55\n												\n\n			\n		\n		\n	\n	\n		\n\n							\n			\n			\n				Longhope (Foxes)			\n\n			\n				13\n			\n\n		\n		\n\n			\n			    \n				13\n				2\n			\n\n		\n		\n\n							\n			\n			\n				Ripple (Rooks)			\n\n			\n				2\n			\n		\n\n					\n	\n\n\n\n			\n			\n		\n	\n			\n\n							\n					\n				\n			\n			\n									Summer League 25 Division Aye\n				\n									Westbury on Severn Parish Hall\n					|\n				\n									13 Aug 2025\n											20:55\n												\n\n			\n		\n		\n	\n	\n		\n\n							\n			\n			\n				Westbury (Wellingtons)			\n\n			\n				15\n			\n\n		\n		\n\n			\n			    \n				15\n				1\n			\n\n		\n		\n\n							\n			\n			\n				Huntley (Oaks)			\n\n			\n				1
URL:/event/summer-league-westbury-12/
LOCATION:Westbury on Severn Parish Hall\, Rodley Road\, Westbury-on-Severn\, Gloucester GL14 1PF
CATEGORIES:Summer
END:VEVENT
BEGIN:VEVENT
DTSTART;TZID=Europe/London:20250814T190000
DTEND;TZID=Europe/London:20250814T214000
DTSTAMP:20260420T024827
CREATED:20250218T011235Z
LAST-MODIFIED:20250821T075333Z
UID:10000286-1755198000-1755207600@gsmba.uk
SUMMARY:Summer League @ Defford
DESCRIPTION:Defford (Sapphires)\, Westbury (Hurricanes)\, Wotton Hall\, Kingsway (Swans) \n	\n\n		\n\n			\n			\n		\n	\n			\n\n							\n					\n				\n			\n			\n									Summer League 25 Division Bee\n				\n									Defford Village Hall\n					|\n				\n									14 Aug 2025\n											19:00\n												\n\n			\n		\n		\n	\n	\n		\n\n							\n			\n			\n				Defford (Sapphires)			\n\n			\n				10\n			\n\n		\n		\n\n			\n			    \n				10\n				3\n			\n\n		\n		\n\n							\n			\n			\n				Westbury (Hurricanes)			\n\n			\n				3\n			\n		\n\n					\n	\n\n\n\n			\n			\n		\n	\n			\n\n							\n					\n				\n			\n			\n									Summer League 25 Division Bee\n				\n									Defford Village Hall\n					|\n				\n									14 Aug 2025\n											19:00\n												\n\n			\n		\n		\n	\n	\n		\n\n							\n			\n			\n				Wotton Hall			\n\n			\n				3\n			\n\n		\n		\n\n			\n			    \n				3\n				6\n			\n\n		\n		\n\n							\n			\n			\n				Kingsway (Swans)			\n\n			\n				6\n			\n		\n\n					\n	\n\n\n\n			\n			\n		\n	\n			\n\n							\n					\n				\n			\n			\n									Summer League 25 Division Bee\n				\n									Defford Village Hall\n					|\n				\n									14 Aug 2025\n											19:50\n												\n\n			\n		\n		\n	\n	\n		\n\n							\n			\n			\n				Westbury (Hurricanes)			\n\n			\n				3\n			\n\n		\n		\n\n			\n			    \n				3\n				10\n			\n\n		\n		\n\n							\n			\n			\n				Wotton Hall			\n\n			\n				10\n			\n		\n\n					\n	\n\n\n\n			\n			\n		\n	\n			\n\n							\n					\n				\n			\n			\n									Summer League 25 Division Bee\n				\n									Defford Village Hall\n					|\n				\n									14 Aug 2025\n											19:50\n												\n\n			\n		\n		\n	\n	\n		\n\n							\n			\n			\n				Kingsway (Swans)			\n\n			\n				5\n			\n\n		\n		\n\n			\n			    \n				5\n				8\n			\n\n		\n		\n\n							\n			\n			\n				Defford (Sapphires)			\n\n			\n				8\n			\n		\n\n					\n	\n\n\n\n			\n			\n		\n	\n			\n\n							\n					\n				\n			\n			\n									Summer League 25 Division Bee\n				\n									Defford Village Hall\n					|\n				\n									14 Aug 2025\n											20:55\n												\n\n			\n		\n		\n	\n	\n		\n\n							\n			\n			\n				Westbury (Hurricanes)			\n\n			\n				9\n			\n\n		\n		\n\n			\n			    \n				9\n				4\n			\n\n		\n		\n\n							\n			\n			\n				Kingsway (Swans)			\n\n			\n				4\n			\n		\n\n					\n	\n\n\n\n			\n			\n		\n	\n			\n\n							\n					\n				\n			\n			\n									Summer League 25 Division Bee\n				\n									Defford Village Hall\n					|\n				\n									14 Aug 2025\n											20:55\n												\n\n			\n		\n		\n	\n	\n		\n\n							\n			\n			\n				Defford (Sapphires)			\n\n			\n				9\n			\n\n		\n		\n\n			\n			    \n				9\n				5\n			\n\n		\n		\n\n							\n			\n			\n				Wotton Hall			\n\n			\n				5
URL:/event/summer-league-defford-6/
LOCATION:Defford Village Hall\, Harpley Road\, Worcester\, WR8 9BL
CATEGORIES:Summer
ATTACH;FMTTYPE=image/jpeg:/wp-content/uploads/2025/08/IMG_5494-768x512-1.jpg
END:VEVENT
BEGIN:VEVENT
DTSTART;TZID=Europe/London:20250819T190000
DTEND;TZID=Europe/London:20250819T214000
DTSTAMP:20260420T024827
CREATED:20250218T011328Z
LAST-MODIFIED:20250821T075509Z
UID:10000287-1755630000-1755639600@gsmba.uk
SUMMARY:Summer League @ Ripple
DESCRIPTION:Ripple (Ravens)\, Forest of Dean (Stags)\, Yorkley (Canaries)\, Yorkley (Falcons) \n	\n\n		\n\n			\n			\n		\n	\n			\n\n							\n					\n				\n			\n			\n									Summer League 25 Division Bee\n				\n									Ripple Parish Hall\n					|\n				\n									19 Aug 2025\n											19:00\n												\n\n			\n		\n		\n	\n	\n		\n\n							\n			\n			\n				Ripple (Ravens)			\n\n			\n				5\n			\n\n		\n		\n\n			\n			    \n				5\n				6\n			\n\n		\n		\n\n							\n			\n			\n				Forest of Dean (Stags)			\n\n			\n				6\n			\n		\n\n					\n	\n\n\n\n			\n			\n		\n	\n			\n\n							\n					\n				\n			\n			\n									Summer League 25 Division Bee\n				\n									Ripple Parish Hall\n					|\n				\n									19 Aug 2025\n											19:00\n												\n\n			\n		\n		\n	\n	\n		\n\n							\n			\n			\n				Yorkley (Canaries)			\n\n			\n				4\n			\n\n		\n		\n\n			\n			    \n				4\n				7\n			\n\n		\n		\n\n							\n			\n			\n				Yorkley (Falcons)			\n\n			\n				7\n			\n		\n\n					\n	\n\n\n\n			\n			\n		\n	\n			\n\n							\n					\n				\n			\n			\n									Summer League 25 Division Bee\n				\n									Ripple Parish Hall\n					|\n				\n									19 Aug 2025\n											19:50\n												\n\n			\n		\n		\n	\n	\n		\n\n							\n			\n			\n				Forest of Dean (Stags)			\n\n			\n				7\n			\n\n		\n		\n\n			\n			    \n				7\n				7\n			\n\n		\n		\n\n							\n			\n			\n				Yorkley (Canaries)			\n\n			\n				7\n			\n		\n\n					\n	\n\n\n\n			\n			\n		\n	\n			\n\n							\n					\n				\n			\n			\n									Summer League 25 Division Bee\n				\n									Ripple Parish Hall\n					|\n				\n									19 Aug 2025\n											19:50\n												\n\n			\n		\n		\n	\n	\n		\n\n							\n			\n			\n				Yorkley (Falcons)			\n\n			\n				8\n			\n\n		\n		\n\n			\n			    \n				8\n				4\n			\n\n		\n		\n\n							\n			\n			\n				Ripple (Ravens)			\n\n			\n				4\n			\n		\n\n					\n	\n\n\n\n			\n			\n		\n	\n			\n\n							\n					\n				\n			\n			\n									Summer League 25 Division Bee\n				\n									Ripple Parish Hall\n					|\n				\n									19 Aug 2025\n											20:55\n												\n\n			\n		\n		\n	\n	\n		\n\n							\n			\n			\n				Forest of Dean (Stags)			\n\n			\n				6\n			\n\n		\n		\n\n			\n			    \n				6\n				7\n			\n\n		\n		\n\n							\n			\n			\n				Yorkley (Falcons)			\n\n			\n				7\n			\n		\n\n					\n	\n\n\n\n			\n			\n		\n	\n			\n\n							\n					\n				\n			\n			\n									Summer League 25 Division Bee\n				\n									Ripple Parish Hall\n					|\n				\n									19 Aug 2025\n											20:55\n												\n\n			\n		\n		\n	\n	\n		\n\n							\n			\n			\n				Ripple (Ravens)			\n\n			\n				6\n			\n\n		\n		\n\n			\n			    \n				6\n				2\n			\n\n		\n		\n\n							\n			\n			\n				Yorkley (Canaries)			\n\n			\n				2
URL:/event/summer-league-ripple-8/
LOCATION:Ripple Parish Hall\, School Lane\, Ripple\, Tewkesbury\, GL20 6EU
CATEGORIES:Summer
ATTACH;FMTTYPE=image/jpeg:/wp-content/uploads/2025/08/IMG_5494-768x512-1.jpg
END:VEVENT
END:VCALENDAR