BEGIN:VCALENDAR
VERSION:2.0
PRODID:-//GSMBA - ECPv6.11.1//NONSGML v1.0//EN
CALSCALE:GREGORIAN
METHOD:PUBLISH
X-WR-CALNAME:GSMBA
X-ORIGINAL-URL:https://gsmba.uk
X-WR-CALDESC:Events for GSMBA
REFRESH-INTERVAL;VALUE=DURATION:PT1H
X-Robots-Tag:noindex
X-PUBLISHED-TTL:PT1H
BEGIN:VTIMEZONE
TZID:Europe/London
BEGIN:DAYLIGHT
TZOFFSETFROM:+0000
TZOFFSETTO:+0100
TZNAME:BST
DTSTART:20250330T010000
END:DAYLIGHT
BEGIN:STANDARD
TZOFFSETFROM:+0100
TZOFFSETTO:+0000
TZNAME:GMT
DTSTART:20251026T010000
END:STANDARD
END:VTIMEZONE
BEGIN:VEVENT
DTSTART;TZID=Europe/London:20250702T190000
DTEND;TZID=Europe/London:20250702T214000
DTSTAMP:20260420T042315
CREATED:20250218T003140Z
LAST-MODIFIED:20250326T215441Z
UID:10000282-1751482800-1751492400@gsmba.uk
SUMMARY:Summer League @ Westbury
DESCRIPTION:Westbury (Hurricanes)\, Yorkley (Canaries)\, Kingsway (Swans)\, Forest of Dean (Stags) \n	\n\n		\n\n			\n			\n		\n	\n			\n\n							\n					\n				\n			\n			\n									Summer League 25 Division Bee\n				\n									Westbury on Severn Parish Hall\n					|\n				\n									2 Jul 2025\n											19:00\n												\n\n			\n		\n		\n	\n	\n		\n\n							\n			\n			\n				Westbury (Hurricanes)			\n\n			\n				7\n			\n\n		\n		\n\n			\n			    \n				7\n				5\n			\n\n		\n		\n\n							\n			\n			\n				Yorkley (Canaries)			\n\n			\n				5\n			\n		\n\n					\n	\n\n\n\n			\n			\n		\n	\n			\n\n							\n					\n				\n			\n			\n									Summer League 25 Division Bee\n				\n									Westbury on Severn Parish Hall\n					|\n				\n									2 Jul 2025\n											19:00\n												\n\n			\n		\n		\n	\n	\n		\n\n							\n			\n			\n				Kingsway (Swans)			\n\n			\n				11\n			\n\n		\n		\n\n			\n			    \n				11\n				5\n			\n\n		\n		\n\n							\n			\n			\n				Forest of Dean (Stags)			\n\n			\n				5\n			\n		\n\n					\n	\n\n\n\n			\n			\n		\n	\n			\n\n							\n					\n				\n			\n			\n									Summer League 25 Division Bee\n				\n									Westbury on Severn Parish Hall\n					|\n				\n									2 Jul 2025\n											19:50\n												\n\n			\n		\n		\n	\n	\n		\n\n							\n			\n			\n				Yorkley (Canaries)			\n\n			\n				6\n			\n\n		\n		\n\n			\n			    \n				6\n				6\n			\n\n		\n		\n\n							\n			\n			\n				Kingsway (Swans)			\n\n			\n				6\n			\n		\n\n					\n	\n\n\n\n			\n			\n		\n	\n			\n\n							\n					\n				\n			\n			\n									Summer League 25 Division Bee\n				\n									Westbury on Severn Parish Hall\n					|\n				\n									2 Jul 2025\n											19:50\n												\n\n			\n		\n		\n	\n	\n		\n\n							\n			\n			\n				Forest of Dean (Stags)			\n\n			\n				2\n			\n\n		\n		\n\n			\n			    \n				2\n				10\n			\n\n		\n		\n\n							\n			\n			\n				Westbury (Hurricanes)			\n\n			\n				10\n			\n		\n\n					\n	\n\n\n\n			\n			\n		\n	\n			\n\n							\n					\n				\n			\n			\n									Summer League 25 Division Bee\n				\n									Westbury on Severn Parish Hall\n					|\n				\n									2 Jul 2025\n											20:55\n												\n\n			\n		\n		\n	\n	\n		\n\n							\n			\n			\n				Yorkley (Canaries)			\n\n			\n				3\n			\n\n		\n		\n\n			\n			    \n				3\n				8\n			\n\n		\n		\n\n							\n			\n			\n				Forest of Dean (Stags)			\n\n			\n				8\n			\n		\n\n					\n	\n\n\n\n			\n			\n		\n	\n			\n\n							\n					\n				\n			\n			\n									Summer League 25 Division Bee\n				\n									Westbury on Severn Parish Hall\n					|\n				\n									2 Jul 2025\n											20:55\n												\n\n			\n		\n		\n	\n	\n		\n\n							\n			\n			\n				Westbury (Hurricanes)			\n\n			\n				5\n			\n\n		\n		\n\n			\n			    \n				5\n				14\n			\n\n		\n		\n\n							\n			\n			\n				Kingsway (Swans)			\n\n			\n				14
URL:/event/summer-league-westbury-14/
LOCATION:Westbury on Severn Parish Hall\, Rodley Road\, Westbury-on-Severn\, Gloucester GL14 1PF
CATEGORIES:Summer
END:VEVENT
BEGIN:VEVENT
DTSTART;TZID=Europe/London:20250702T191500
DTEND;TZID=Europe/London:20250702T215500
DTSTAMP:20260420T042315
CREATED:20250218T003055Z
LAST-MODIFIED:20250326T215504Z
UID:10000266-1751483700-1751493300@gsmba.uk
SUMMARY:Summer League @ Kingsway
DESCRIPTION:Kingsway (Cygnets)\, Defford (Diamonds)\, Westbury (Spitfires)\, Yorkley (Kestrels) \n	\n\n		\n\n			\n			\n		\n	\n			\n\n							\n					\n				\n			\n			\n									Summer League 25 Division Aye\n				\n									Kingsway Community Centre\n					|\n				\n									2 Jul 2025\n											19:15\n												\n\n			\n		\n		\n	\n	\n		\n\n							\n			\n			\n				Kingsway (Cygnets)			\n\n			\n				6\n			\n\n		\n		\n\n			\n			    \n				6\n				8\n			\n\n		\n		\n\n							\n			\n			\n				Defford (Diamonds)			\n\n			\n				8\n			\n		\n\n					\n	\n\n\n\n			\n			\n		\n	\n			\n\n							\n					\n				\n			\n			\n									Summer League 25 Division Aye\n				\n									Kingsway Community Centre\n					|\n				\n									2 Jul 2025\n											19:15\n												\n\n			\n		\n		\n	\n	\n		\n\n							\n			\n			\n				Westbury (Spitfires)			\n\n			\n				0\n			\n\n		\n		\n\n			\n			    \n				0\n				7\n			\n\n		\n		\n\n							\n			\n			\n				Yorkley (Kestrels)			\n\n			\n				7\n			\n		\n\n					\n	\n\n\n\n			\n			\n		\n	\n			\n\n							\n					\n				\n			\n			\n									Summer League 25 Division Aye\n				\n									Kingsway Community Centre\n					|\n				\n									2 Jul 2025\n											20:05\n												\n\n			\n		\n		\n	\n	\n		\n\n							\n			\n			\n				Defford (Diamonds)			\n\n			\n				4\n			\n\n		\n		\n\n			\n			    \n				4\n				4\n			\n\n		\n		\n\n							\n			\n			\n				Westbury (Spitfires)			\n\n			\n				4\n			\n		\n\n					\n	\n\n\n\n			\n			\n		\n	\n			\n\n							\n					\n				\n			\n			\n									Summer League 25 Division Aye\n				\n									Kingsway Community Centre\n					|\n				\n									2 Jul 2025\n											20:05\n												\n\n			\n		\n		\n	\n	\n		\n\n							\n			\n			\n				Yorkley (Kestrels)			\n\n			\n				3\n			\n\n		\n		\n\n			\n			    \n				3\n				10\n			\n\n		\n		\n\n							\n			\n			\n				Kingsway (Cygnets)			\n\n			\n				10\n			\n		\n\n					\n	\n\n\n\n			\n			\n		\n	\n			\n\n							\n					\n				\n			\n			\n									Summer League 25 Division Aye\n				\n									Kingsway Community Centre\n					|\n				\n									2 Jul 2025\n											21:10\n												\n\n			\n		\n		\n	\n	\n		\n\n							\n			\n			\n				Defford (Diamonds)			\n\n			\n				8\n			\n\n		\n		\n\n			\n			    \n				8\n				5\n			\n\n		\n		\n\n							\n			\n			\n				Yorkley (Kestrels)			\n\n			\n				5\n			\n		\n\n					\n	\n\n\n\n			\n			\n		\n	\n			\n\n							\n					\n				\n			\n			\n									Summer League 25 Division Aye\n				\n									Kingsway Community Centre\n					|\n				\n									2 Jul 2025\n											21:10\n												\n\n			\n		\n		\n	\n	\n		\n\n							\n			\n			\n				Kingsway (Cygnets)			\n\n			\n				7\n			\n\n		\n		\n\n			\n			    \n				7\n				2\n			\n\n		\n		\n\n							\n			\n			\n				Westbury (Spitfires)			\n\n			\n				2
URL:/event/summer-league-kingsway-6/
LOCATION:Kingsway Community Centre\, Thatcham Avenue\, Quedgeley\, Gloucester\, GL2 2GS
CATEGORIES:Summer
END:VEVENT
BEGIN:VEVENT
DTSTART;TZID=Europe/London:20250708T190000
DTEND;TZID=Europe/London:20250708T214000
DTSTAMP:20260420T042315
CREATED:20250218T003140Z
LAST-MODIFIED:20250312T211108Z
UID:10000283-1752001200-1752010800@gsmba.uk
SUMMARY:Summer League @ Yorkley
DESCRIPTION:Yorkley (Falcons)\, Ripple (Ravens)\, Defford (Sapphires)\, Wotton Hall \n	\n\n		\n\n			\n			\n		\n	\n			\n\n							\n					\n				\n			\n			\n									Summer League 25 Division Bee\n				\n									Yorkley Community Centre\n					|\n				\n									8 Jul 2025\n											19:00\n												\n\n			\n		\n		\n	\n	\n		\n\n							\n			\n			\n				Yorkley (Falcons)			\n\n			\n				6\n			\n\n		\n		\n\n			\n			    \n				6\n				3\n			\n\n		\n		\n\n							\n			\n			\n				Ripple (Ravens)			\n\n			\n				3\n			\n		\n\n					\n	\n\n\n\n			\n			\n		\n	\n			\n\n							\n					\n				\n			\n			\n									Summer League 25 Division Bee\n				\n									Yorkley Community Centre\n					|\n				\n									8 Jul 2025\n											19:00\n												\n\n			\n		\n		\n	\n	\n		\n\n							\n			\n			\n				Defford (Sapphires)			\n\n			\n				9\n			\n\n		\n		\n\n			\n			    \n				9\n				4\n			\n\n		\n		\n\n							\n			\n			\n				Wotton Hall			\n\n			\n				4\n			\n		\n\n					\n	\n\n\n\n			\n			\n		\n	\n			\n\n							\n					\n				\n			\n			\n									Summer League 25 Division Bee\n				\n									Yorkley Community Centre\n					|\n				\n									8 Jul 2025\n											19:50\n												\n\n			\n		\n		\n	\n	\n		\n\n							\n			\n			\n				Ripple (Ravens)			\n\n			\n				4\n			\n\n		\n		\n\n			\n			    \n				4\n				4\n			\n\n		\n		\n\n							\n			\n			\n				Defford (Sapphires)			\n\n			\n				4\n			\n		\n\n					\n	\n\n\n\n			\n			\n		\n	\n			\n\n							\n					\n				\n			\n			\n									Summer League 25 Division Bee\n				\n									Yorkley Community Centre\n					|\n				\n									8 Jul 2025\n											19:50\n												\n\n			\n		\n		\n	\n	\n		\n\n							\n			\n			\n				Wotton Hall			\n\n			\n				4\n			\n\n		\n		\n\n			\n			    \n				4\n				13\n			\n\n		\n		\n\n							\n			\n			\n				Yorkley (Falcons)			\n\n			\n				13\n			\n		\n\n					\n	\n\n\n\n			\n			\n		\n	\n			\n\n							\n					\n				\n			\n			\n									Summer League 25 Division Bee\n				\n									Yorkley Community Centre\n					|\n				\n									8 Jul 2025\n											20:55\n												\n\n			\n		\n		\n	\n	\n		\n\n							\n			\n			\n				Ripple (Ravens)			\n\n			\n				9\n			\n\n		\n		\n\n			\n			    \n				9\n				4\n			\n\n		\n		\n\n							\n			\n			\n				Wotton Hall			\n\n			\n				4\n			\n		\n\n					\n	\n\n\n\n			\n			\n		\n	\n			\n\n							\n					\n				\n			\n			\n									Summer League 25 Division Bee\n				\n									Yorkley Community Centre\n					|\n				\n									8 Jul 2025\n											20:55\n												\n\n			\n		\n		\n	\n	\n		\n\n							\n			\n			\n				Yorkley (Falcons)			\n\n			\n				3\n			\n\n		\n		\n\n			\n			    \n				3\n				4\n			\n\n		\n		\n\n							\n			\n			\n				Defford (Sapphires)			\n\n			\n				4
URL:/event/summer-league-yorkley-13/
LOCATION:Yorkley Community Centre\, Bailey Hill\, Yorkley\, Gloucester\, GL15 4RS
CATEGORIES:Summer
END:VEVENT
BEGIN:VEVENT
DTSTART;TZID=Europe/London:20250719T100000
DTEND;TZID=Europe/London:20250719T170000
DTSTAMP:20260420T042315
CREATED:20250621T110719Z
LAST-MODIFIED:20250621T110846Z
UID:10000297-1752919200-1752944400@gsmba.uk
SUMMARY:ESMBA AGM
DESCRIPTION:Dear County Secretaries \nPlease find enclosed documents for the ESMBA Annual General Meeting which will start at 10.30 am on Saturday 19 July 2025 at the Holiday Inn\, Hinckley Road\, Coventry\, CV2 2HP. \nWithin this pack there is:- \nAgenda for AGM 2025 and Open Forum\nMinutes from Special General Meeting 2024 and AGM 2024\nAttendance register from management meetings\nAccounts for 2024/2025\nOfficers’ reports\nProposed management fees\nProposals for ESMBA Management Committee\nProposal from North Yorkshire SMBA re National place allocation (for Open Forum) \nYou will see from the enclosed paperwork that we do have three vacancies to fill but anyone interested needs to be present at the meeting.  A reminder also that only members that were registered by 30 June 2025 are permitted to vote. \nTea and coffee will be available and a buffet lunch provided.  Can you please let us know of any dietary requirements/allergies so that we can inform the hotel.   \nShould you have any questions please do not hesitate to contact me. \nKind regards. \nLinda White\nESMBA General Secretary
URL:/event/esmba-agm/
CATEGORIES:GSMBA Committee
ATTACH;FMTTYPE=image/png:/wp-content/uploads/2024/07/output-onlinepngtools-29.png
END:VEVENT
BEGIN:VEVENT
DTSTART;TZID=Europe/London:20250722T190000
DTEND;TZID=Europe/London:20250722T214000
DTSTAMP:20260420T042315
CREATED:20250218T003055Z
LAST-MODIFIED:20250326T215614Z
UID:10000267-1753210800-1753220400@gsmba.uk
SUMMARY:Summer League @ Longhope
DESCRIPTION:Longhope (Foxes)\, Westbury (Wellingtons)\, Defford (Diamonds)\, Westbury (Spitfires) \n	\n\n		\n\n			\n			\n		\n	\n			\n\n							\n					\n				\n			\n			\n									Summer League 25 Division Aye\n				\n									Latchen Room\n					|\n				\n									22 Jul 2025\n											19:00\n												\n\n			\n		\n		\n	\n	\n		\n\n							\n			\n			\n				Longhope (Foxes)			\n\n			\n				4\n			\n\n		\n		\n\n			\n			    \n				4\n				9\n			\n\n		\n		\n\n							\n			\n			\n				Westbury (Wellingtons)			\n\n			\n				9\n			\n		\n\n					\n	\n\n\n\n			\n			\n		\n	\n			\n\n							\n					\n				\n			\n			\n									Summer League 25 Division Aye\n				\n									Latchen Room\n					|\n				\n									22 Jul 2025\n											19:00\n												\n\n			\n		\n		\n	\n	\n		\n\n							\n			\n			\n				Defford (Diamonds)			\n\n			\n				9\n			\n\n		\n		\n\n			\n			    \n				9\n				5\n			\n\n		\n		\n\n							\n			\n			\n				Westbury (Spitfires)			\n\n			\n				5\n			\n		\n\n					\n	\n\n\n\n			\n			\n		\n	\n			\n\n							\n					\n				\n			\n			\n									Summer League 25 Division Aye\n				\n									Latchen Room\n					|\n				\n									22 Jul 2025\n											19:50\n												\n\n			\n		\n		\n	\n	\n		\n\n							\n			\n			\n				Westbury (Wellingtons)			\n\n			\n				1\n			\n\n		\n		\n\n			\n			    \n				1\n				10\n			\n\n		\n		\n\n							\n			\n			\n				Defford (Diamonds)			\n\n			\n				10\n			\n		\n\n					\n	\n\n\n\n			\n			\n		\n	\n			\n\n							\n					\n				\n			\n			\n									Summer League 25 Division Aye\n				\n									Latchen Room\n					|\n				\n									22 Jul 2025\n											19:50\n												\n\n			\n		\n		\n	\n	\n		\n\n							\n			\n			\n				Westbury (Spitfires)			\n\n			\n				5\n			\n\n		\n		\n\n			\n			    \n				5\n				9\n			\n\n		\n		\n\n							\n			\n			\n				Longhope (Foxes)			\n\n			\n				9\n			\n		\n\n					\n	\n\n\n\n			\n			\n		\n	\n			\n\n							\n					\n				\n			\n			\n									Summer League 25 Division Aye\n				\n									Latchen Room\n					|\n				\n									22 Jul 2025\n											20:55\n												\n\n			\n		\n		\n	\n	\n		\n\n							\n			\n			\n				Westbury (Wellingtons)			\n\n			\n				7\n			\n\n		\n		\n\n			\n			    \n				7\n				7\n			\n\n		\n		\n\n							\n			\n			\n				Westbury (Spitfires)			\n\n			\n				7\n			\n		\n\n					\n	\n\n\n\n			\n			\n		\n	\n			\n\n							\n					\n				\n			\n			\n									Summer League 25 Division Aye\n				\n									Latchen Room\n					|\n				\n									22 Jul 2025\n											20:55\n												\n\n			\n		\n		\n	\n	\n		\n\n							\n			\n			\n				Longhope (Foxes)			\n\n			\n				3\n			\n\n		\n		\n\n			\n			    \n				3\n				8\n			\n\n		\n		\n\n							\n			\n			\n				Defford (Diamonds)			\n\n			\n				8
URL:/event/summer-league-longhope-6/
LOCATION:Latchen Room\, Longhope\, Gloucester GL17 0QE
CATEGORIES:Summer
END:VEVENT
BEGIN:VEVENT
DTSTART;TZID=Europe/London:20250728T190000
DTEND;TZID=Europe/London:20250728T214000
DTSTAMP:20260420T042315
CREATED:20250218T003140Z
LAST-MODIFIED:20250704T082828Z
UID:10000284-1753729200-1753738800@gsmba.uk
SUMMARY:Summer League @ FoD
DESCRIPTION:**Rearranged Date (New Floor)** \nForest of Dean (Stags)\, Wotton Hall\, Yorkley (Falcons)\, Westbury (Hurricanes) \n	\n\n		\n\n			\n			\n		\n	\n			\n\n							\n					\n				\n			\n			\n									Summer League 25 Division Bee\n				\n									Berry Hill Social Club\n					|\n				\n									14 Jul 2025\n											19:00\n												\n\n			\n		\n		\n	\n	\n		\n\n							\n			\n			\n				Forest of Dean (Stags)			\n\n			\n				8\n			\n\n		\n		\n\n			\n			    \n				8\n				5\n			\n\n		\n		\n\n							\n			\n			\n				Wotton Hall			\n\n			\n				5\n			\n		\n\n					\n	\n\n\n\n			\n			\n		\n	\n			\n\n							\n					\n				\n			\n			\n									Summer League 25 Division Bee\n				\n									Berry Hill Social Club\n					|\n				\n									14 Jul 2025\n											19:00\n												\n\n			\n		\n		\n	\n	\n		\n\n							\n			\n			\n				Yorkley (Falcons)			\n\n			\n				10\n			\n\n		\n		\n\n			\n			    \n				10\n				4\n			\n\n		\n		\n\n							\n			\n			\n				Westbury (Hurricanes)			\n\n			\n				4\n			\n		\n\n					\n	\n\n\n\n			\n			\n		\n	\n			\n\n							\n					\n				\n			\n			\n									Summer League 25 Division Bee\n				\n									Berry Hill Social Club\n					|\n				\n									14 Jul 2025\n											19:50\n												\n\n			\n		\n		\n	\n	\n		\n\n							\n			\n			\n				Wotton Hall			\n\n			\n				4\n			\n\n		\n		\n\n			\n			    \n				4\n				10\n			\n\n		\n		\n\n							\n			\n			\n				Yorkley (Falcons)			\n\n			\n				10\n			\n		\n\n					\n	\n\n\n\n			\n			\n		\n	\n			\n\n							\n					\n				\n			\n			\n									Summer League 25 Division Bee\n				\n									Berry Hill Social Club\n					|\n				\n									14 Jul 2025\n											19:50\n												\n\n			\n		\n		\n	\n	\n		\n\n							\n			\n			\n				Westbury (Hurricanes)			\n\n			\n				8\n			\n\n		\n		\n\n			\n			    \n				8\n				3\n			\n\n		\n		\n\n							\n			\n			\n				Forest of Dean (Stags)			\n\n			\n				3\n			\n		\n\n					\n	\n\n\n\n			\n			\n		\n	\n			\n\n							\n					\n				\n			\n			\n									Summer League 25 Division Bee\n				\n									Berry Hill Social Club\n					|\n				\n									14 Jul 2025\n											20:55\n												\n\n			\n		\n		\n	\n	\n		\n\n							\n			\n			\n				Wotton Hall			\n\n			\n				4\n			\n\n		\n		\n\n			\n			    \n				4\n				8\n			\n\n		\n		\n\n							\n			\n			\n				Westbury (Hurricanes)			\n\n			\n				8\n			\n		\n\n					\n	\n\n\n\n			\n			\n		\n	\n			\n\n							\n					\n				\n			\n			\n									Summer League 25 Division Bee\n				\n									Berry Hill Social Club\n					|\n				\n									14 Jul 2025\n											20:55\n												\n\n			\n		\n		\n	\n	\n		\n\n							\n			\n			\n				Forest of Dean (Stags)			\n\n			\n				5\n			\n\n		\n		\n\n			\n			    \n				5\n				8\n			\n\n		\n		\n\n							\n			\n			\n				Yorkley (Falcons)			\n\n			\n				8
URL:/event/summer-league-fod-4/
LOCATION:Berry Hill Social Club\, Kells Meend\, Berry Hill\, Coleford GL16 7AD
CATEGORIES:Summer
END:VEVENT
BEGIN:VEVENT
DTSTART;TZID=Europe/London:20250730T190000
DTEND;TZID=Europe/London:20250730T214000
DTSTAMP:20260420T042315
CREATED:20250218T003055Z
LAST-MODIFIED:20250326T215142Z
UID:10000268-1753902000-1753911600@gsmba.uk
SUMMARY:Summer League @ Westbury
DESCRIPTION:Westbury (Spitfires)\, Hutley (Oaks)\, Ripple (Rooks)\, Defford (Diamonds) \n	\n\n		\n\n			\n			\n		\n	\n			\n\n							\n					\n				\n			\n			\n									Summer League 25 Division Aye\n				\n									Westbury on Severn Parish Hall\n					|\n				\n									30 Jul 2025\n											19:00\n												\n\n			\n		\n		\n	\n	\n		\n\n							\n			\n			\n				Westbury (Spitfires)			\n\n			\n				13\n			\n\n		\n		\n\n			\n			    \n				13\n				4\n			\n\n		\n		\n\n							\n			\n			\n				Huntley (Oaks)			\n\n			\n				4\n			\n		\n\n					\n	\n\n\n\n			\n			\n		\n	\n			\n\n							\n					\n				\n			\n			\n									Summer League 25 Division Aye\n				\n									Westbury on Severn Parish Hall\n					|\n				\n									30 Jul 2025\n											19:00\n												\n\n			\n		\n		\n	\n	\n		\n\n							\n			\n			\n				Ripple (Rooks)			\n\n			\n				7\n			\n\n		\n		\n\n			\n			    \n				7\n				4\n			\n\n		\n		\n\n							\n			\n			\n				Defford (Diamonds)			\n\n			\n				4\n			\n		\n\n					\n	\n\n\n\n			\n			\n		\n	\n			\n\n							\n					\n				\n			\n			\n									Summer League 25 Division Aye\n				\n									Westbury on Severn Parish Hall\n					|\n				\n									30 Jul 2025\n											19:50\n												\n\n			\n		\n		\n	\n	\n		\n\n							\n			\n			\n				Huntley (Oaks)			\n\n			\n				4\n			\n\n		\n		\n\n			\n			    \n				4\n				11\n			\n\n		\n		\n\n							\n			\n			\n				Ripple (Rooks)			\n\n			\n				11\n			\n		\n\n					\n	\n\n\n\n			\n			\n		\n	\n			\n\n							\n					\n				\n			\n			\n									Summer League 25 Division Aye\n				\n									Westbury on Severn Parish Hall\n					|\n				\n									30 Jul 2025\n											19:50\n												\n\n			\n		\n		\n	\n	\n		\n\n							\n			\n			\n				Defford (Diamonds)			\n\n			\n				10\n			\n\n		\n		\n\n			\n			    \n				10\n				4\n			\n\n		\n		\n\n							\n			\n			\n				Westbury (Spitfires)			\n\n			\n				4\n			\n		\n\n					\n	\n\n\n\n			\n			\n		\n	\n			\n\n							\n					\n				\n			\n			\n									Summer League 25 Division Aye\n				\n									Westbury on Severn Parish Hall\n					|\n				\n									30 Jul 2025\n											20:55\n												\n\n			\n		\n		\n	\n	\n		\n\n							\n			\n			\n				Huntley (Oaks)			\n\n			\n				3\n			\n\n		\n		\n\n			\n			    \n				3\n				8\n			\n\n		\n		\n\n							\n			\n			\n				Defford (Diamonds)			\n\n			\n				8\n			\n		\n\n					\n	\n\n\n\n			\n			\n		\n	\n			\n\n							\n					\n				\n			\n			\n									Summer League 25 Division Aye\n				\n									Westbury on Severn Parish Hall\n					|\n				\n									30 Jul 2025\n											20:55\n												\n\n			\n		\n		\n	\n	\n		\n\n							\n			\n			\n				Westbury (Spitfires)			\n\n			\n				9\n			\n\n		\n		\n\n			\n			    \n				9\n				4\n			\n\n		\n		\n\n							\n			\n			\n				Ripple (Rooks)			\n\n			\n				4
URL:/event/summer-league-westbury-11/
LOCATION:Westbury on Severn Parish Hall\, Rodley Road\, Westbury-on-Severn\, Gloucester GL14 1PF
CATEGORIES:Summer
END:VEVENT
END:VCALENDAR