BEGIN:VCALENDAR
VERSION:2.0
PRODID:-//GSMBA - ECPv6.11.1//NONSGML v1.0//EN
CALSCALE:GREGORIAN
METHOD:PUBLISH
X-ORIGINAL-URL:https://gsmba.uk
X-WR-CALDESC:Events for GSMBA
REFRESH-INTERVAL;VALUE=DURATION:PT1H
X-Robots-Tag:noindex
X-PUBLISHED-TTL:PT1H
BEGIN:VTIMEZONE
TZID:Europe/London
BEGIN:DAYLIGHT
TZOFFSETFROM:+0000
TZOFFSETTO:+0100
TZNAME:BST
DTSTART:20250330T010000
END:DAYLIGHT
BEGIN:STANDARD
TZOFFSETFROM:+0100
TZOFFSETTO:+0000
TZNAME:GMT
DTSTART:20251026T010000
END:STANDARD
END:VTIMEZONE
BEGIN:VEVENT
DTSTART;TZID=Europe/London:20250604T190000
DTEND;TZID=Europe/London:20250604T214000
DTSTAMP:20260420T061114
CREATED:20250312T205842Z
LAST-MODIFIED:20250326T212739Z
UID:10000290-1749063600-1749073200@gsmba.uk
SUMMARY:Summer League @ Huntley
DESCRIPTION:Huntley (Oaks)\, Kingsway (Cygnets)\, Westbury (Wellingtons)\, Westbury (Spitfires) \n	\n\n		\n\n			\n			\n		\n	\n			\n\n							\n					\n				\n			\n			\n									Summer League 25 Division Aye\n				\n									Huntley Village Hall\n					|\n				\n									4 Jun 2025\n											19:00\n												\n\n			\n		\n		\n	\n	\n		\n\n							\n			\n			\n				Huntley (Oaks)			\n\n			\n				4\n			\n\n		\n		\n\n			\n			    \n				4\n				12\n			\n\n		\n		\n\n							\n			\n			\n				Kingsway (Cygnets)			\n\n			\n				12\n			\n		\n\n					\n	\n\n\n\n			\n			\n		\n	\n			\n\n							\n					\n				\n			\n			\n									Summer League 25 Division Aye\n				\n									Huntley Village Hall\n					|\n				\n									4 Jun 2025\n											19:00\n												\n\n			\n		\n		\n	\n	\n		\n\n							\n			\n			\n				Westbury (Wellingtons)			\n\n			\n				5\n			\n\n		\n		\n\n			\n			    \n				5\n				5\n			\n\n		\n		\n\n							\n			\n			\n				Westbury (Spitfires)			\n\n			\n				5\n			\n		\n\n					\n	\n\n\n\n			\n			\n		\n	\n			\n\n							\n					\n				\n			\n			\n									Summer League 25 Division Aye\n				\n									Huntley Village Hall\n					|\n				\n									4 Jun 2025\n											19:50\n												\n\n			\n		\n		\n	\n	\n		\n\n							\n			\n			\n				Kingsway (Cygnets)			\n\n			\n				6\n			\n\n		\n		\n\n			\n			    \n				6\n				3\n			\n\n		\n		\n\n							\n			\n			\n				Westbury (Wellingtons)			\n\n			\n				3\n			\n		\n\n					\n	\n\n\n\n			\n			\n		\n	\n			\n\n							\n					\n				\n			\n			\n									Summer League 25 Division Aye\n				\n									Huntley Village Hall\n					|\n				\n									4 Jun 2025\n											19:50\n												\n\n			\n		\n		\n	\n	\n		\n\n							\n			\n			\n				Westbury (Spitfires)			\n\n			\n				6\n			\n\n		\n		\n\n			\n			    \n				6\n				13\n			\n\n		\n		\n\n							\n			\n			\n				Huntley (Oaks)			\n\n			\n				13\n			\n		\n\n					\n	\n\n\n\n			\n			\n		\n	\n			\n\n							\n					\n				\n			\n			\n									Summer League 25 Division Aye\n				\n									Huntley Village Hall\n					|\n				\n									4 Jun 2025\n											20:55\n												\n\n			\n		\n		\n	\n	\n		\n\n							\n			\n			\n				Kingsway (Cygnets)			\n\n			\n				3\n			\n\n		\n		\n\n			\n			    \n				3\n				7\n			\n\n		\n		\n\n							\n			\n			\n				Westbury (Spitfires)			\n\n			\n				7\n			\n		\n\n					\n	\n\n\n\n			\n			\n		\n	\n			\n\n							\n					\n				\n			\n			\n									Summer League 25 Division Aye\n				\n									Huntley Village Hall\n					|\n				\n									4 Jun 2025\n											20:55\n												\n\n			\n		\n		\n	\n	\n		\n\n							\n			\n			\n				Huntley (Oaks)			\n\n			\n				2\n			\n\n		\n		\n\n			\n			    \n				2\n				10\n			\n\n		\n		\n\n							\n			\n			\n				Westbury (Wellingtons)			\n\n			\n				10
URL:/event/summer-league-huntley-2/
LOCATION:Huntley Village Hall\, North Rd\, Huntley\, Gloucester\, GL19 3DU
CATEGORIES:Summer
END:VEVENT
BEGIN:VEVENT
DTSTART;TZID=Europe/London:20250604T191500
DTEND;TZID=Europe/London:20250604T215500
DTSTAMP:20260420T061114
CREATED:20250218T003126Z
LAST-MODIFIED:20250312T211022Z
UID:10000279-1749064500-1749074100@gsmba.uk
SUMMARY:Summer League @ Kingsway
DESCRIPTION:Kingsway (Swans)\, Yorkley (Canaries)\, Wotton Hall\, Yorkley (Falcons) \n	\n\n		\n\n			\n			\n		\n	\n			\n\n							\n					\n				\n			\n			\n									Summer League 25 Division Bee\n				\n									Kingsway Community Centre\n					|\n				\n									4 Jun 2025\n											19:15\n												\n\n			\n		\n		\n	\n	\n		\n\n							\n			\n			\n				Kingsway (Swans)			\n\n			\n				8\n			\n\n		\n		\n\n			\n			    \n				8\n				8\n			\n\n		\n		\n\n							\n			\n			\n				Yorkley (Canaries)			\n\n			\n				8\n			\n		\n\n					\n	\n\n\n\n			\n			\n		\n	\n			\n\n							\n					\n				\n			\n			\n									Summer League 25 Division Bee\n				\n									Kingsway Community Centre\n					|\n				\n									4 Jun 2025\n											19:15\n												\n\n			\n		\n		\n	\n	\n		\n\n							\n			\n			\n				Wotton Hall			\n\n			\n				1\n			\n\n		\n		\n\n			\n			    \n				1\n				14\n			\n\n		\n		\n\n							\n			\n			\n				Yorkley (Falcons)			\n\n			\n				14\n			\n		\n\n					\n	\n\n\n\n			\n			\n		\n	\n			\n\n							\n					\n				\n			\n			\n									Summer League 25 Division Bee\n				\n									Kingsway Community Centre\n					|\n				\n									4 Jun 2025\n											20:05\n												\n\n			\n		\n		\n	\n	\n		\n\n							\n			\n			\n				Yorkley (Canaries)			\n\n			\n				8\n			\n\n		\n		\n\n			\n			    \n				8\n				5\n			\n\n		\n		\n\n							\n			\n			\n				Wotton Hall			\n\n			\n				5\n			\n		\n\n					\n	\n\n\n\n			\n			\n		\n	\n			\n\n							\n					\n				\n			\n			\n									Summer League 25 Division Bee\n				\n									Kingsway Community Centre\n					|\n				\n									4 Jun 2025\n											20:05\n												\n\n			\n		\n		\n	\n	\n		\n\n							\n			\n			\n				Yorkley (Falcons)			\n\n			\n				3\n			\n\n		\n		\n\n			\n			    \n				3\n				7\n			\n\n		\n		\n\n							\n			\n			\n				Kingsway (Swans)			\n\n			\n				7\n			\n		\n\n					\n	\n\n\n\n			\n			\n		\n	\n			\n\n							\n					\n				\n			\n			\n									Summer League 25 Division Bee\n				\n									Kingsway Community Centre\n					|\n				\n									4 Jun 2025\n											21:10\n												\n\n			\n		\n		\n	\n	\n		\n\n							\n			\n			\n				Yorkley (Canaries)			\n\n			\n				5\n			\n\n		\n		\n\n			\n			    \n				5\n				4\n			\n\n		\n		\n\n							\n			\n			\n				Yorkley (Falcons)			\n\n			\n				4\n			\n		\n\n					\n	\n\n\n\n			\n			\n		\n	\n			\n\n							\n					\n				\n			\n			\n									Summer League 25 Division Bee\n				\n									Kingsway Community Centre\n					|\n				\n									4 Jun 2025\n											21:10\n												\n\n			\n		\n		\n	\n	\n		\n\n							\n			\n			\n				Kingsway (Swans)			\n\n			\n				6\n			\n\n		\n		\n\n			\n			    \n				6\n				4\n			\n\n		\n		\n\n							\n			\n			\n				Wotton Hall			\n\n			\n				4
URL:/event/summer-league-kingsway-8/
LOCATION:Kingsway Community Centre\, Thatcham Avenue\, Quedgeley\, Gloucester\, GL2 2GS
CATEGORIES:Summer
END:VEVENT
BEGIN:VEVENT
DTSTART;TZID=Europe/London:20250607T080000
DTEND;TZID=Europe/London:20250607T170000
DTSTAMP:20260420T061114
CREATED:20250510T111626Z
LAST-MODIFIED:20250510T111728Z
UID:10000295-1749283200-1749315600@gsmba.uk
SUMMARY:Avon 3 Wood Pairs
DESCRIPTION:Avon County SMBA\nOPEN 3 WOOD PAIRS\nBRISTOL INDOOR BOWLS CENTRE\nSOUTH LIBERTY LANE\, BEDMINSTER\, BRISTOL BS3 2TY\nSATURDAY 7th JUNE 2025\n£16 PER TEAM\n3 WOODS\nENTRIES LIMITED TO 36 TEAMS\nClosing date FRIDAY 9th MAY 2025\nMenu to be advised\nTo: Dave Sawyer\, 10 Kingston Avenue\, Saltford\, Bristol BS31 3LF\ndave.sawyer@live.co.uk Tel 07940980287\nPlease email players names.\nCLUB………………………………….LEAD………………………SKIP……………………….\nContact Name/Address …………………………………………………….…………………………..\n…………………………………………………………………………………\n…………………………………………………………………………………\nPost Code…………………. Tel………………………….\nEmail…………………………..…. …..   Mobile………………………….\nPlease send entry fees to Geoff Simmons\, 16 Martock Road\, Keynsham\, Bristol BS31 1XA\ne-mail: treas.acmbas1@oulook. Tel:07711278302\nALL FEES TO BE MADE IN ADVANCE OF CLOSING DATE\nPlease send entry fee to Avon County SMBA a/c no. 21167456 sort code 40-32-13\nReference — Your Club Name\nCheques to be made payable to Avon County SMBA
URL:/event/avon-3-wood-pairs/
LOCATION:Bristol Indoor Bowls Club\, South Liberty Lane\, Bedminster Bristol\, BS3 2TY
CATEGORIES:Open Tournament
ATTACH;FMTTYPE=image/png:/wp-content/uploads/2024/07/output-onlinepngtools-12-e1758439625138.png
END:VEVENT
BEGIN:VEVENT
DTSTART;TZID=Europe/London:20250610T190000
DTEND;TZID=Europe/London:20250610T214000
DTSTAMP:20260420T061115
CREATED:20250218T003040Z
LAST-MODIFIED:20250326T215338Z
UID:10000263-1749582000-1749591600@gsmba.uk
SUMMARY:Summer League @ Yorkley
DESCRIPTION:Yorkley (Kestrels)\, Westbury (Wellingtons)\, Longhope (Foxes)\, Kingsway (Cygnets) \n	\n\n		\n\n			\n			\n		\n	\n			\n\n							\n					\n				\n			\n			\n									Summer League 25 Division Aye\n				\n									Yorkley Community Centre\n					|\n				\n									10 Jun 2025\n											19:00\n												\n\n			\n		\n		\n	\n	\n		\n\n							\n			\n			\n				Yorkley (Kestrels)			\n\n			\n				12\n			\n\n		\n		\n\n			\n			    \n				12\n				10\n			\n\n		\n		\n\n							\n			\n			\n				Westbury (Wellingtons)			\n\n			\n				10\n			\n		\n\n					\n	\n\n\n\n			\n			\n		\n	\n			\n\n							\n					\n				\n			\n			\n									Summer League 25 Division Aye\n				\n									Yorkley Community Centre\n					|\n				\n									10 Jun 2025\n											19:00\n												\n\n			\n		\n		\n	\n	\n		\n\n							\n			\n			\n				Longhope (Foxes)			\n\n			\n				13\n			\n\n		\n		\n\n			\n			    \n				13\n				6\n			\n\n		\n		\n\n							\n			\n			\n				Kingsway (Cygnets)			\n\n			\n				6\n			\n		\n\n					\n	\n\n\n\n			\n			\n		\n	\n			\n\n							\n					\n				\n			\n			\n									Summer League 25 Division Aye\n				\n									Yorkley Community Centre\n					|\n				\n									10 Jun 2025\n											19:50\n												\n\n			\n		\n		\n	\n	\n		\n\n							\n			\n			\n				Westbury (Wellingtons)			\n\n			\n				7\n			\n\n		\n		\n\n			\n			    \n				7\n				2\n			\n\n		\n		\n\n							\n			\n			\n				Longhope (Foxes)			\n\n			\n				2\n			\n		\n\n					\n	\n\n\n\n			\n			\n		\n	\n			\n\n							\n					\n				\n			\n			\n									Summer League 25 Division Aye\n				\n									Yorkley Community Centre\n					|\n				\n									10 Jun 2025\n											19:50\n												\n\n			\n		\n		\n	\n	\n		\n\n							\n			\n			\n				Kingsway (Cygnets)			\n\n			\n				10\n			\n\n		\n		\n\n			\n			    \n				10\n				3\n			\n\n		\n		\n\n							\n			\n			\n				Yorkley (Kestrels)			\n\n			\n				3\n			\n		\n\n					\n	\n\n\n\n			\n			\n		\n	\n			\n\n							\n					\n				\n			\n			\n									Summer League 25 Division Aye\n				\n									Yorkley Community Centre\n					|\n				\n									10 Jun 2025\n											20:55\n												\n\n			\n		\n		\n	\n	\n		\n\n							\n			\n			\n				Westbury (Wellingtons)			\n\n			\n				6\n			\n\n		\n		\n\n			\n			    \n				6\n				9\n			\n\n		\n		\n\n							\n			\n			\n				Kingsway (Cygnets)			\n\n			\n				9\n			\n		\n\n					\n	\n\n\n\n			\n			\n		\n	\n			\n\n							\n					\n				\n			\n			\n									Summer League 25 Division Aye\n				\n									Yorkley Community Centre\n					|\n				\n									10 Jun 2025\n											20:55\n												\n\n			\n		\n		\n	\n	\n		\n\n							\n			\n			\n				Yorkley (Kestrels)			\n\n			\n				8\n			\n\n		\n		\n\n			\n			    \n				8\n				5\n			\n\n		\n		\n\n							\n			\n			\n				Longhope (Foxes)			\n\n			\n				5
URL:/event/summer-league-yorkley-9/
LOCATION:Yorkley Community Centre\, Bailey Hill\, Yorkley\, Gloucester\, GL15 4RS
CATEGORIES:Summer
END:VEVENT
BEGIN:VEVENT
DTSTART;TZID=Europe/London:20250616T190000
DTEND;TZID=Europe/London:20250616T214000
DTSTAMP:20260420T061115
CREATED:20250218T003126Z
LAST-MODIFIED:20250326T215316Z
UID:10000280-1750100400-1750110000@gsmba.uk
SUMMARY:Summer League @ FoD
DESCRIPTION:Forest of Dean (Stags)\, Yorkley (Falcons)\, Westbury (Hurricanes)\, Ripple (Ravens) \n	\n\n		\n\n			\n			\n		\n	\n			\n\n							\n					\n				\n			\n			\n									Summer League 25 Division Bee\n				\n									Berry Hill Social Club\n					|\n				\n									16 Jun 2025\n											19:00\n												\n\n			\n		\n		\n	\n	\n		\n\n							\n			\n			\n				Forest of Dean (Stags)			\n\n			\n				4\n			\n\n		\n		\n\n			\n			    \n				4\n				7\n			\n\n		\n		\n\n							\n			\n			\n				Yorkley (Falcons)			\n\n			\n				7\n			\n		\n\n					\n	\n\n\n\n			\n			\n		\n	\n			\n\n							\n					\n				\n			\n			\n									Summer League 25 Division Bee\n				\n									Berry Hill Social Club\n					|\n				\n									16 Jun 2025\n											19:00\n												\n\n			\n		\n		\n	\n	\n		\n\n							\n			\n			\n				Westbury (Hurricanes)			\n\n			\n				1\n			\n\n		\n		\n\n			\n			    \n				1\n				11\n			\n\n		\n		\n\n							\n			\n			\n				Ripple (Ravens)			\n\n			\n				11\n			\n		\n\n					\n	\n\n\n\n			\n			\n		\n	\n			\n\n							\n					\n				\n			\n			\n									Summer League 25 Division Bee\n				\n									Berry Hill Social Club\n					|\n				\n									16 Jun 2025\n											19:50\n												\n\n			\n		\n		\n	\n	\n		\n\n							\n			\n			\n				Yorkley (Falcons)			\n\n			\n				5\n			\n\n		\n		\n\n			\n			    \n				5\n				4\n			\n\n		\n		\n\n							\n			\n			\n				Westbury (Hurricanes)			\n\n			\n				4\n			\n		\n\n					\n	\n\n\n\n			\n			\n		\n	\n			\n\n							\n					\n				\n			\n			\n									Summer League 25 Division Bee\n				\n									Berry Hill Social Club\n					|\n				\n									16 Jun 2025\n											19:50\n												\n\n			\n		\n		\n	\n	\n		\n\n							\n			\n			\n				Ripple (Ravens)			\n\n			\n				12\n			\n\n		\n		\n\n			\n			    \n				12\n				6\n			\n\n		\n		\n\n							\n			\n			\n				Forest of Dean (Stags)			\n\n			\n				6\n			\n		\n\n					\n	\n\n\n\n			\n			\n		\n	\n			\n\n							\n					\n				\n			\n			\n									Summer League 25 Division Bee\n				\n									Berry Hill Social Club\n					|\n				\n									16 Jun 2025\n											20:55\n												\n\n			\n		\n		\n	\n	\n		\n\n							\n			\n			\n				Yorkley (Falcons)			\n\n			\n				12\n			\n\n		\n		\n\n			\n			    \n				12\n				3\n			\n\n		\n		\n\n							\n			\n			\n				Ripple (Ravens)			\n\n			\n				3\n			\n		\n\n					\n	\n\n\n\n			\n			\n		\n	\n			\n\n							\n					\n				\n			\n			\n									Summer League 25 Division Bee\n				\n									Berry Hill Social Club\n					|\n				\n									16 Jun 2025\n											20:55\n												\n\n			\n		\n		\n	\n	\n		\n\n							\n			\n			\n				Forest of Dean (Stags)			\n\n			\n				4\n			\n\n		\n		\n\n			\n			    \n				4\n				9\n			\n\n		\n		\n\n							\n			\n			\n				Westbury (Hurricanes)			\n\n			\n				9
URL:/event/summer-league-fod-3/
LOCATION:Berry Hill Social Club\, Kells Meend\, Berry Hill\, Coleford GL16 7AD
CATEGORIES:Summer
END:VEVENT
BEGIN:VEVENT
DTSTART;TZID=Europe/London:20250618T190000
DTEND;TZID=Europe/London:20250618T214000
DTSTAMP:20260420T061115
CREATED:20250218T003040Z
LAST-MODIFIED:20250326T215355Z
UID:10000264-1750273200-1750282800@gsmba.uk
SUMMARY:Summer League @ Westbury
DESCRIPTION:Westbury (Spitfires)\, Kingsway (Cygnets)\, Ripple (Rooks)\, Longhope (Foxes) \n	\n\n		\n\n			\n			\n		\n	\n			\n\n							\n					\n				\n			\n			\n									Summer League 25 Division Aye\n				\n									Westbury on Severn Parish Hall\n					|\n				\n									18 Jun 2025\n											19:00\n												\n\n			\n		\n		\n	\n	\n		\n\n							\n			\n			\n				Westbury (Spitfires)			\n\n			\n				2\n			\n\n		\n		\n\n			\n			    \n				2\n				8\n			\n\n		\n		\n\n							\n			\n			\n				Kingsway (Cygnets)			\n\n			\n				8\n			\n		\n\n					\n	\n\n\n\n			\n			\n		\n	\n			\n\n							\n					\n				\n			\n			\n									Summer League 25 Division Aye\n				\n									Westbury on Severn Parish Hall\n					|\n				\n									18 Jun 2025\n											19:00\n												\n\n			\n		\n		\n	\n	\n		\n\n							\n			\n			\n				Ripple (Rooks)			\n\n			\n				14\n			\n\n		\n		\n\n			\n			    \n				14\n				7\n			\n\n		\n		\n\n							\n			\n			\n				Longhope (Foxes)			\n\n			\n				7\n			\n		\n\n					\n	\n\n\n\n			\n			\n		\n	\n			\n\n							\n					\n				\n			\n			\n									Summer League 25 Division Aye\n				\n									Westbury on Severn Parish Hall\n					|\n				\n									18 Jun 2025\n											19:50\n												\n\n			\n		\n		\n	\n	\n		\n\n							\n			\n			\n				Kingsway (Cygnets)			\n\n			\n				10\n			\n\n		\n		\n\n			\n			    \n				10\n				3\n			\n\n		\n		\n\n							\n			\n			\n				Ripple (Rooks)			\n\n			\n				3\n			\n		\n\n					\n	\n\n\n\n			\n			\n		\n	\n			\n\n							\n					\n				\n			\n			\n									Summer League 25 Division Aye\n				\n									Westbury on Severn Parish Hall\n					|\n				\n									18 Jun 2025\n											19:50\n												\n\n			\n		\n		\n	\n	\n		\n\n							\n			\n			\n				Longhope (Foxes)			\n\n			\n				2\n			\n\n		\n		\n\n			\n			    \n				2\n				10\n			\n\n		\n		\n\n							\n			\n			\n				Westbury (Spitfires)			\n\n			\n				10\n			\n		\n\n					\n	\n\n\n\n			\n			\n		\n	\n			\n\n							\n					\n				\n			\n			\n									Summer League 25 Division Aye\n				\n									Westbury on Severn Parish Hall\n					|\n				\n									18 Jun 2025\n											20:55\n												\n\n			\n		\n		\n	\n	\n		\n\n							\n			\n			\n				Kingsway (Cygnets)			\n\n			\n				8\n			\n\n		\n		\n\n			\n			    \n				8\n				7\n			\n\n		\n		\n\n							\n			\n			\n				Longhope (Foxes)			\n\n			\n				7\n			\n		\n\n					\n	\n\n\n\n			\n			\n		\n	\n			\n\n							\n					\n				\n			\n			\n									Summer League 25 Division Aye\n				\n									Westbury on Severn Parish Hall\n					|\n				\n									18 Jun 2025\n											20:55\n												\n\n			\n		\n		\n	\n	\n		\n\n							\n			\n			\n				Westbury (Spitfires)			\n\n			\n				6\n			\n\n		\n		\n\n			\n			    \n				6\n				6\n			\n\n		\n		\n\n							\n			\n			\n				Ripple (Rooks)			\n\n			\n				6
URL:/event/summer-league-westbury-10/
LOCATION:Westbury on Severn Parish Hall\, Rodley Road\, Westbury-on-Severn\, Gloucester GL14 1PF
CATEGORIES:Summer
END:VEVENT
BEGIN:VEVENT
DTSTART;TZID=Europe/London:20250619T190000
DTEND;TZID=Europe/London:20250619T214000
DTSTAMP:20260420T061115
CREATED:20250218T003040Z
LAST-MODIFIED:20250326T215420Z
UID:10000265-1750359600-1750369200@gsmba.uk
SUMMARY:Summer League @ Defford
DESCRIPTION:Defford (Diamonds)\, Ripple (Rooks)\, Longhope (Foxes)\, Westbury (Wellingtons) \n	\n\n		\n\n			\n			\n		\n	\n			\n\n							\n					\n				\n			\n			\n									Summer League 25 Division Aye\n				\n									Defford Village Hall\n					|\n				\n									19 Jun 2025\n											19:00\n												\n\n			\n		\n		\n	\n	\n		\n\n							\n			\n			\n				Defford (Diamonds)			\n\n			\n				4\n			\n\n		\n		\n\n			\n			    \n				4\n				8\n			\n\n		\n		\n\n							\n			\n			\n				Ripple (Rooks)			\n\n			\n				8\n			\n		\n\n					\n	\n\n\n\n			\n			\n		\n	\n			\n\n							\n					\n				\n			\n			\n									Summer League 25 Division Aye\n				\n									Defford Village Hall\n					|\n				\n									19 Jun 2025\n											19:00\n												\n\n			\n		\n		\n	\n	\n		\n\n							\n			\n			\n				Longhope (Foxes)			\n\n			\n				6\n			\n\n		\n		\n\n			\n			    \n				6\n				5\n			\n\n		\n		\n\n							\n			\n			\n				Westbury (Wellingtons)			\n\n			\n				5\n			\n		\n\n					\n	\n\n\n\n			\n			\n		\n	\n			\n\n							\n					\n				\n			\n			\n									Summer League 25 Division Aye\n				\n									Defford Village Hall\n					|\n				\n									19 Jun 2025\n											19:50\n												\n\n			\n		\n		\n	\n	\n		\n\n							\n			\n			\n				Ripple (Rooks)			\n\n			\n				3\n			\n\n		\n		\n\n			\n			    \n				3\n				14\n			\n\n		\n		\n\n							\n			\n			\n				Longhope (Foxes)			\n\n			\n				14\n			\n		\n\n					\n	\n\n\n\n			\n			\n		\n	\n			\n\n							\n					\n				\n			\n			\n									Summer League 25 Division Aye\n				\n									Defford Village Hall\n					|\n				\n									19 Jun 2025\n											19:50\n												\n\n			\n		\n		\n	\n	\n		\n\n							\n			\n			\n				Westbury (Wellingtons)			\n\n			\n				5\n			\n\n		\n		\n\n			\n			    \n				5\n				5\n			\n\n		\n		\n\n							\n			\n			\n				Defford (Diamonds)			\n\n			\n				5\n			\n		\n\n					\n	\n\n\n\n			\n			\n		\n	\n			\n\n							\n					\n				\n			\n			\n									Summer League 25 Division Aye\n				\n									Defford Village Hall\n					|\n				\n									19 Jun 2025\n											20:55\n												\n\n			\n		\n		\n	\n	\n		\n\n							\n			\n			\n				Ripple (Rooks)			\n\n			\n				6\n			\n\n		\n		\n\n			\n			    \n				6\n				4\n			\n\n		\n		\n\n							\n			\n			\n				Westbury (Wellingtons)			\n\n			\n				4\n			\n		\n\n					\n	\n\n\n\n			\n			\n		\n	\n			\n\n							\n					\n				\n			\n			\n									Summer League 25 Division Aye\n				\n									Defford Village Hall\n					|\n				\n									19 Jun 2025\n											20:55\n												\n\n			\n		\n		\n	\n	\n		\n\n							\n			\n			\n				Defford (Diamonds)			\n\n			\n				19\n			\n\n		\n		\n\n			\n			    \n				19\n				2\n			\n\n		\n		\n\n							\n			\n			\n				Longhope (Foxes)			\n\n			\n				2
URL:/event/summer-league-defford-4/
LOCATION:Defford Village Hall\, Harpley Road\, Worcester\, WR8 9BL
CATEGORIES:Summer
END:VEVENT
BEGIN:VEVENT
DTSTART;TZID=Europe/London:20250623T190000
DTEND;TZID=Europe/London:20250623T210000
DTSTAMP:20260420T061115
CREATED:20250425T155827Z
LAST-MODIFIED:20250821T232231Z
UID:10000294-1750705200-1750712400@gsmba.uk
SUMMARY:GSMBA: Management Committee Meeting
DESCRIPTION:GLOUCESTERSHIRE SHORT MAT BOWLING ASSOCIATION \nMANAGEMENT COMMITTEE MEETING \nTo be held on Monday 23 June 2025 at 7.00pm \nat \nKingsway Community Centre\, Thatcham Avenue\, Quedgeley GL2 2GS \nAGENDA \nAPOLOGIES \nMinutes of previous meeting on 04 November 2024 (circulated with agenda) \nMatters arising from minutes. \nReports \na. Secretary (including correspondence) \nb. Treasurer \nc. Membership Secretary \nd. Competition Secretary \ne. League Secretary \nf. County Team Captain \nAOB not requiring advance notice to the Committee \nDate of next meeting
URL:/event/gsmba-management-committee-meeting-2-2/
LOCATION:Kingsway Community Centre\, Thatcham Avenue\, Quedgeley\, Gloucester\, GL2 2GS
CATEGORIES:GSMBA Committee
END:VEVENT
BEGIN:VEVENT
DTSTART;TZID=Europe/London:20250624T190000
DTEND;TZID=Europe/London:20250624T214000
DTSTAMP:20260420T061115
CREATED:20250218T003140Z
LAST-MODIFIED:20250312T211108Z
UID:10000281-1750791600-1750801200@gsmba.uk
SUMMARY:Summer League @ Wotton Hall
DESCRIPTION:Wotton Hall\, Defford (Sapphires)\, Kingsway (Swans)\, Yorkley (Canaries) \n	\n\n		\n\n			\n			\n		\n	\n			\n\n							\n					\n				\n			\n			\n									Summer League 25 Division Bee\n				\n									Wotton Hall Social Club\n					|\n				\n									24 Jun 2025\n											19:00\n												\n\n			\n		\n		\n	\n	\n		\n\n							\n			\n			\n				Wotton Hall			\n\n			\n				8\n			\n\n		\n		\n\n			\n			    \n				8\n				3\n			\n\n		\n		\n\n							\n			\n			\n				Defford (Sapphires)			\n\n			\n				3\n			\n		\n\n					\n	\n\n\n\n			\n			\n		\n	\n			\n\n							\n					\n				\n			\n			\n									Summer League 25 Division Bee\n				\n									Wotton Hall Social Club\n					|\n				\n									24 Jun 2025\n											19:00\n												\n\n			\n		\n		\n	\n	\n		\n\n							\n			\n			\n				Kingsway (Swans)			\n\n			\n				10\n			\n\n		\n		\n\n			\n			    \n				10\n				3\n			\n\n		\n		\n\n							\n			\n			\n				Yorkley (Canaries)			\n\n			\n				3\n			\n		\n\n					\n	\n\n\n\n			\n			\n		\n	\n			\n\n							\n					\n				\n			\n			\n									Summer League 25 Division Bee\n				\n									Wotton Hall Social Club\n					|\n				\n									24 Jun 2025\n											19:50\n												\n\n			\n		\n		\n	\n	\n		\n\n							\n			\n			\n				Defford (Sapphires)			\n\n			\n				1\n			\n\n		\n		\n\n			\n			    \n				1\n				7\n			\n\n		\n		\n\n							\n			\n			\n				Kingsway (Swans)			\n\n			\n				7\n			\n		\n\n					\n	\n\n\n\n			\n			\n		\n	\n			\n\n							\n					\n				\n			\n			\n									Summer League 25 Division Bee\n				\n									Wotton Hall Social Club\n					|\n				\n									24 Jun 2025\n											19:50\n												\n\n			\n		\n		\n	\n	\n		\n\n							\n			\n			\n				Yorkley (Canaries)			\n\n			\n				8\n			\n\n		\n		\n\n			\n			    \n				8\n				8\n			\n\n		\n		\n\n							\n			\n			\n				Wotton Hall			\n\n			\n				8\n			\n		\n\n					\n	\n\n\n\n			\n			\n		\n	\n			\n\n							\n					\n				\n			\n			\n									Summer League 25 Division Bee\n				\n									Wotton Hall Social Club\n					|\n				\n									24 Jun 2025\n											20:55\n												\n\n			\n		\n		\n	\n	\n		\n\n							\n			\n			\n				Defford (Sapphires)			\n\n			\n				6\n			\n\n		\n		\n\n			\n			    \n				6\n				5\n			\n\n		\n		\n\n							\n			\n			\n				Yorkley (Canaries)			\n\n			\n				5\n			\n		\n\n					\n	\n\n\n\n			\n			\n		\n	\n			\n\n							\n					\n				\n			\n			\n									Summer League 25 Division Bee\n				\n									Wotton Hall Social Club\n					|\n				\n									24 Jun 2025\n											20:55\n												\n\n			\n		\n		\n	\n	\n		\n\n							\n			\n			\n				Wotton Hall			\n\n			\n				3\n			\n\n		\n		\n\n			\n			    \n				3\n				7\n			\n\n		\n		\n\n							\n			\n			\n				Kingsway (Swans)			\n\n			\n				7
URL:/event/summer-league-wotton-hall-4/
LOCATION:Wotton Hall Social Club\, 138 Barnwood Road\, Gloucester\, GL4 3JS
CATEGORIES:Summer
END:VEVENT
END:VCALENDAR