BEGIN:VCALENDAR
VERSION:2.0
PRODID:-//GSMBA - ECPv6.11.1//NONSGML v1.0//EN
CALSCALE:GREGORIAN
METHOD:PUBLISH
X-ORIGINAL-URL:https://gsmba.uk
X-WR-CALDESC:Events for GSMBA
REFRESH-INTERVAL;VALUE=DURATION:PT1H
X-Robots-Tag:noindex
X-PUBLISHED-TTL:PT1H
BEGIN:VTIMEZONE
TZID:Europe/London
BEGIN:DAYLIGHT
TZOFFSETFROM:+0000
TZOFFSETTO:+0100
TZNAME:BST
DTSTART:20270328T010000
END:DAYLIGHT
BEGIN:STANDARD
TZOFFSETFROM:+0100
TZOFFSETTO:+0000
TZNAME:GMT
DTSTART:20271031T010000
END:STANDARD
END:VTIMEZONE
BEGIN:VEVENT
DTSTART;TZID=Europe/London:20270109T080000
DTEND;TZID=Europe/London:20270110T170000
DTSTAMP:20260420T025609
CREATED:20260209T232739Z
LAST-MODIFIED:20260209T232739Z
UID:10000332-1799481600-1799600400@gsmba.uk
SUMMARY:British Open
DESCRIPTION:Players will be in groups of 5 or 6. \nThe top 2 players from each group will qualify for the main Cup. \nThird and Fourth placed players will qualify for the Plate. \nThe remaining players will qualify for the Shield. \nRegistration is from 7.45am-8.45am Practice is allowed from 8am-8.45am. Play commences at 9am. \nGroup games will be played on Saturday and Sunday morning with the knock-out stages following on Sunday afternoon.
URL:/event/british-open-3/
LOCATION:Leicester Indoor Bowls & Social Club\, 80 Slater St\, Leicester\, LE3 5AS
CATEGORIES:SMPT
ATTACH;FMTTYPE=image/png:/wp-content/uploads/2024/04/smpt-logo.png
END:VEVENT
BEGIN:VEVENT
DTSTART;TZID=Europe/London:20270220T080000
DTEND;TZID=Europe/London:20270221T170000
DTSTAMP:20260420T025609
CREATED:20260209T232911Z
LAST-MODIFIED:20260209T232911Z
UID:10000333-1803110400-1803229200@gsmba.uk
SUMMARY:English Masters
DESCRIPTION:Players will be in groups of 5 or 6. \nThe top 2 players from each group will qualify for the main Cup. \nThird and Fourth placed players will qualify for the Plate. \nThe remaining players will qualify for the Shield. \nRegistration is from 7.45am-8.45am Practice is allowed from 8am-8.45am. Play commences at 9am. \nGroup games will be played on Saturday and Sunday morning with the knock-out stages following on Sunday afternoon.
URL:/event/english-masters-4/
LOCATION:Falcon Bowling and Social Club\, Channels Dr\, Broomfield\, Chelmsford\, CM3 3FB
CATEGORIES:SMPT
ATTACH;FMTTYPE=image/png:/wp-content/uploads/2024/04/smpt-logo.png
END:VEVENT
END:VCALENDAR