BEGIN:VCALENDAR
VERSION:2.0
PRODID:-//GSMBA - ECPv6.11.1//NONSGML v1.0//EN
CALSCALE:GREGORIAN
METHOD:PUBLISH
X-WR-CALNAME:GSMBA
X-ORIGINAL-URL:https://gsmba.uk
X-WR-CALDESC:Events for GSMBA
REFRESH-INTERVAL;VALUE=DURATION:PT1H
X-Robots-Tag:noindex
X-PUBLISHED-TTL:PT1H
BEGIN:VTIMEZONE
TZID:Europe/London
BEGIN:DAYLIGHT
TZOFFSETFROM:+0000
TZOFFSETTO:+0100
TZNAME:BST
DTSTART:20220327T010000
END:DAYLIGHT
BEGIN:STANDARD
TZOFFSETFROM:+0100
TZOFFSETTO:+0000
TZNAME:GMT
DTSTART:20221030T010000
END:STANDARD
END:VTIMEZONE
BEGIN:VEVENT
DTSTART;TZID=Europe/London:20221002T100000
DTEND;TZID=Europe/London:20221002T170000
DTSTAMP:20260425T151055
CREATED:20221031T191232Z
LAST-MODIFIED:20221031T193652Z
UID:10000019-1664704800-1664730000@gsmba.uk
SUMMARY:ICC Worcestershire
DESCRIPTION:
URL:/event/icc-worcestershire/
LOCATION:Bromsgrove Indoor Bowls Club\, Austin Road\, Charford Bromsgrove\, B60 3PT
CATEGORIES:Inter County Cup
END:VEVENT
BEGIN:VEVENT
DTSTART;VALUE=DATE:20221001
DTEND;VALUE=DATE:20221002
DTSTAMP:20260425T151055
CREATED:20221031T183932Z
LAST-MODIFIED:20221031T210536Z
UID:10000006-1664582400-1664668799@gsmba.uk
SUMMARY:ESMBA Open Singles
DESCRIPTION:Open Singles  \n\n\n\nOpen to all ESMBA registered playersFour top Quality competitions at Four different venuesWinners invited to represent England at World Championships in Aberdeen 18th & 19th MarchPrize money for the winners\, runners up and Plate Winners(£10 per player)
URL:/event/esmba-open-singles/
LOCATION:Solihul Indoor Bowling Club\, Brick Kiln Lane\, Solihull\, B91 3LE
CATEGORIES:ESMBA Open
END:VEVENT
BEGIN:VEVENT
DTSTART;TZID=Europe/London:20220926T190000
DTEND;TZID=Europe/London:20220926T190000
DTSTAMP:20260425T151055
CREATED:20221031T184344Z
LAST-MODIFIED:20221031T184344Z
UID:10000008-1664218800-1664218800@gsmba.uk
SUMMARY:GSMBA Committee
DESCRIPTION:
URL:/event/gsmba-committee/
LOCATION:Kingsway Community Centre\, Thatcham Avenue\, Quedgeley\, Gloucester\, GL2 2GS
CATEGORIES:GSMBA Committee
END:VEVENT
BEGIN:VEVENT
DTSTART;VALUE=DATE:20220925
DTEND;VALUE=DATE:20220926
DTSTAMP:20260425T151055
CREATED:20221031T195317Z
LAST-MODIFIED:20240527T093306Z
UID:10000038-1664064000-1664150399@gsmba.uk
SUMMARY:County Team Practice
DESCRIPTION:Pre-season County Players Team Practice
URL:/event/county-team-practice/
LOCATION:Churchdown Community Centre\, Parton Road\, Churchdown\, GL3 2JH
CATEGORIES:Inter County Cup
END:VEVENT
BEGIN:VEVENT
DTSTART;VALUE=DATE:20220917
DTEND;VALUE=DATE:20220918
DTSTAMP:20260425T151055
CREATED:20221031T184146Z
LAST-MODIFIED:20250821T075922Z
UID:10000007-1663372800-1663459199@gsmba.uk
SUMMARY:ESMBA Open Fours
DESCRIPTION:Open Fours \n\n\n\nOpen to all ESMBA registered playersFour top Quality competitions at Four different venuesWinners invited to represent England at World Championships in Aberdeen 18th & 19th MarchPrize money for the winners\, runners up and Plate Winners(£40 per four) \n\nMarch IBC\, March Cambridgshire
URL:/event/esmba-open-fours/
CATEGORIES:ESMBA Open
ATTACH;FMTTYPE=image/png:/wp-content/uploads/2024/07/output-onlinepngtools-29.png
END:VEVENT
BEGIN:VEVENT
DTSTART;TZID=Europe/London:20220913T184500
DTEND;TZID=Europe/London:20220913T184500
DTSTAMP:20260425T151055
CREATED:20221031T173748Z
LAST-MODIFIED:20221031T195151Z
UID:10000001-1663094700-1663094700@gsmba.uk
SUMMARY:Summer League
DESCRIPTION:FINAL \n\n\n\nKingswayYorkley KestrelsWestbury LancastersWestbury Hurricanes
URL:/event/summer-league-final/
LOCATION:Wotton Hall Social Club\, 138 Barnwood Road\, Gloucester\, GL4 3JS
CATEGORIES:Summer
END:VEVENT
BEGIN:VEVENT
DTSTART;TZID=Europe/London:20220908T190000
DTEND;TZID=Europe/London:20220908T190000
DTSTAMP:20260425T151055
CREATED:20221031T180700Z
LAST-MODIFIED:20221031T180928Z
UID:10000002-1662663600-1662663600@gsmba.uk
SUMMARY:Summer League
DESCRIPTION:Play-Off \n\n\n\nWestbury HurricanesYorkley FalconsLonghopeYorkley Merlins (Eliminator winners)
URL:/event/summer-league-play-off/
LOCATION:Ripple Parish Hall\, School Lane\, Ripple\, Tewkesbury\, GL20 6EU
CATEGORIES:Summer
END:VEVENT
BEGIN:VEVENT
DTSTART;TZID=Europe/London:20220906T184500
DTEND;TZID=Europe/London:20220906T184500
DTSTAMP:20260425T151055
CREATED:20221031T180850Z
LAST-MODIFIED:20221031T181114Z
UID:10000003-1662489900-1662489900@gsmba.uk
SUMMARY:Summer League
DESCRIPTION:Eliminator \n\n\n\nWestbury WellingtonsRipple RavensForest of DeanYorkley Merlins
URL:/event/summer-league-eliminator/
LOCATION:Yorkley Community Centre\, Bailey Hill\, Yorkley\, Gloucester\, GL15 4RS
CATEGORIES:Summer
END:VEVENT
BEGIN:VEVENT
DTSTART;VALUE=DATE:20220903
DTEND;VALUE=DATE:20220904
DTSTAMP:20260425T151055
CREATED:20221031T195053Z
LAST-MODIFIED:20250821T075140Z
UID:10000037-1662163200-1662249599@gsmba.uk
SUMMARY:ESMBA Open Pairs
DESCRIPTION:Open Pairs \n\n\n\nOpen to all ESMBA registered playersFour top Quality competitions at Four different venuesWinners invited to represent England at World Championships in Aberdeen 18th & 19th MarchPrize money for the winners\, runners up and Plate Winners(£20 per pair) \n\nMote Park IBC\, Mainstone Kent
URL:/event/esmba-open-pairs/
CATEGORIES:ESMBA Open
ATTACH;FMTTYPE=image/png:/wp-content/uploads/2024/07/output-onlinepngtools-29.png
END:VEVENT
END:VCALENDAR