BEGIN:VCALENDAR
VERSION:2.0
PRODID:-//GSMBA - ECPv6.11.1//NONSGML v1.0//EN
CALSCALE:GREGORIAN
METHOD:PUBLISH
X-WR-CALNAME:GSMBA
X-ORIGINAL-URL:https://gsmba.uk
X-WR-CALDESC:Events for GSMBA
REFRESH-INTERVAL;VALUE=DURATION:PT1H
X-Robots-Tag:noindex
X-PUBLISHED-TTL:PT1H
BEGIN:VTIMEZONE
TZID:Europe/London
BEGIN:DAYLIGHT
TZOFFSETFROM:+0000
TZOFFSETTO:+0100
TZNAME:BST
DTSTART:20220327T010000
END:DAYLIGHT
BEGIN:STANDARD
TZOFFSETFROM:+0100
TZOFFSETTO:+0000
TZNAME:GMT
DTSTART:20221030T010000
END:STANDARD
BEGIN:DAYLIGHT
TZOFFSETFROM:+0000
TZOFFSETTO:+0100
TZNAME:BST
DTSTART:20230326T010000
END:DAYLIGHT
BEGIN:STANDARD
TZOFFSETFROM:+0100
TZOFFSETTO:+0000
TZNAME:GMT
DTSTART:20231029T010000
END:STANDARD
END:VTIMEZONE
BEGIN:VEVENT
DTSTART;VALUE=DATE:20230204
DTEND;VALUE=DATE:20230205
DTSTAMP:20260425T130657
CREATED:20221031T184645Z
LAST-MODIFIED:20221031T184922Z
UID:10000009-1675468800-1675555199@gsmba.uk
SUMMARY:County Mixed Fours
DESCRIPTION:
URL:/event/county-mixed-fours/
LOCATION:Churchdown Community Centre\, Parton Road\, Churchdown\, GL3 2JH
CATEGORIES:County/Nationals
END:VEVENT
BEGIN:VEVENT
DTSTART;VALUE=DATE:20230128
DTEND;VALUE=DATE:20230129
DTSTAMP:20260425T130657
CREATED:20221031T184835Z
LAST-MODIFIED:20221031T184940Z
UID:10000010-1674864000-1674950399@gsmba.uk
SUMMARY:County Fours
DESCRIPTION:
URL:/event/county-fours/
LOCATION:Churchdown Community Centre\, Parton Road\, Churchdown\, GL3 2JH
CATEGORIES:County/Nationals
END:VEVENT
BEGIN:VEVENT
DTSTART;VALUE=DATE:20230122
DTEND;VALUE=DATE:20230123
DTSTAMP:20260425T130657
CREATED:20221031T185049Z
LAST-MODIFIED:20221031T185049Z
UID:10000011-1674345600-1674431999@gsmba.uk
SUMMARY:County Over 55s Pairs
DESCRIPTION:
URL:/event/county-over-55s-pairs/
LOCATION:Churchdown Community Centre\, Parton Road\, Churchdown\, GL3 2JH
CATEGORIES:County/Nationals
END:VEVENT
BEGIN:VEVENT
DTSTART;TZID=Europe/London:20230115T093000
DTEND;TZID=Europe/London:20230115T170000
DTSTAMP:20260425T130657
CREATED:20221031T194448Z
LAST-MODIFIED:20221031T200834Z
UID:10000035-1673775000-1673802000@gsmba.uk
SUMMARY:Two Shires Trophy
DESCRIPTION:
URL:/event/two-shires-trophy/
LOCATION:Churchdown Community Centre\, Parton Road\, Churchdown\, GL3 2JH
CATEGORIES:Two Shires Trophy
END:VEVENT
BEGIN:VEVENT
DTSTART;TZID=Europe/London:20230115T091500
DTEND;TZID=Europe/London:20230115T153000
DTSTAMP:20260425T130657
CREATED:20230112T221940Z
LAST-MODIFIED:20230112T223915Z
UID:10000041-1673774100-1673796600@gsmba.uk
SUMMARY:Gloucestershire SMBA Men v Ladies
DESCRIPTION:Mens Team\nLadies Team\n\n\n\nMats\nInitial\nSurname\nMats\nInitial\nSurname\n\n\nSingles 1\n1 & 4\nG\nEwers\n1 & 3\nJ\nJennings\n\n\nSingles 2\n2 & 3\nD\nMoss\n2 & 4\nJ\nHetherington\n\n\n\n\n\n\n\n\n\n\n\nPairs 1\n3 & 2\nM\nSparrow\n3 & 1\nK\nOates\n\n\n\n\nP\nJennings\n\nJ\nCarter\n\n\nPairs 2\n4 & 1\nN\nTappin\n4 & 2\nL\nOrr\n\n\n\n\nP\nMurphy\n\nA\nHyde\n\n\n\n\n\n\n\n\n\n\n\nTriples 1\n1 & 4\nD\nYendole\n1 & 3\nY\nJones\n\n\n\n\nD\nGreening\n\nA\nGayther\n\n\n\n\nT\nWheeler\n\nV\nTaggart\n\n\nTriples 2\n2 & 3\nR\nArthur\n2 & 4\nS\nTeale\n\n\n\n\nR\nPearson\n\nJ\nChandler\n\n\n\n\nK\nWard\n\nA\nRayner\n\n\nTriples 3\n3 & 2\nR\nTaggart\n3 & 1\nC\nEnglish\n\n\n\n\nJ\nOates\n\nA\nSlim\n\n\n\n\nC\nBaldwin\n\nV\nBaldwin
URL:/event/gloucestershire-smba-men-v-ladies/
LOCATION:Churchdown Community Centre\, Parton Road\, Churchdown\, GL3 2JH
CATEGORIES:Friendly,Inter County Cup
END:VEVENT
BEGIN:VEVENT
DTSTART;VALUE=DATE:20230114
DTEND;VALUE=DATE:20230115
DTSTAMP:20260425T130657
CREATED:20221031T183747Z
LAST-MODIFIED:20221031T210417Z
UID:10000005-1673654400-1673740799@gsmba.uk
SUMMARY:ESMBA Open Triples
DESCRIPTION:Open Triples \n\n\n\nOpen to all ESMBA registered playersFour top Quality competitions at Four different venuesWinners invited to represent England at World Championships in Aberdeen 18th & 19th MarchPrize money for the winners\, runners up and Plate Winners(£30 per triple)
URL:/event/esmba-open-triples/
LOCATION:The Dorset Bowls Resort\, Hyde\, Bere Regis Nr Wareham\, Dorset\, BH20 7NT
CATEGORIES:ESMBA Open
END:VEVENT
BEGIN:VEVENT
DTSTART;TZID=Europe/London:20230108T093000
DTEND;TZID=Europe/London:20230108T170000
DTSTAMP:20260425T130657
CREATED:20221031T192410Z
LAST-MODIFIED:20221031T200805Z
UID:10000024-1673170200-1673197200@gsmba.uk
SUMMARY:ICC Herefordshire
DESCRIPTION:
URL:/event/icc-herefordshire-2/
LOCATION:Churchdown Community Centre\, Parton Road\, Churchdown\, GL3 2JH
CATEGORIES:Inter County Cup
END:VEVENT
BEGIN:VEVENT
DTSTART;VALUE=DATE:20221218
DTEND;VALUE=DATE:20221219
DTSTAMP:20260425T130657
CREATED:20221031T195514Z
LAST-MODIFIED:20240527T093300Z
UID:10000039-1671321600-1671407999@gsmba.uk
SUMMARY:County Teams Christmas Event
DESCRIPTION:Churchdown are laying on a buffet lunch ????????????for us so numbers required. Also Santa needs to check his naughty and nice list just in case some of you may have switched sides. ???????? \nChris\nCounty Captain
URL:/event/county-teams-christmas-event/
LOCATION:Churchdown Community Centre\, Parton Road\, Churchdown\, GL3 2JH
CATEGORIES:Inter County Cup
END:VEVENT
BEGIN:VEVENT
DTSTART;TZID=Europe/London:20221211T093000
DTEND;TZID=Europe/London:20221211T093000
DTSTAMP:20260425T130657
CREATED:20221031T192040Z
LAST-MODIFIED:20221031T200740Z
UID:10000022-1670751000-1670751000@gsmba.uk
SUMMARY:ICC Cheshire
DESCRIPTION:
URL:/event/icc-cheshire-2/
LOCATION:Churchdown Community Centre\, Parton Road\, Churchdown\, GL3 2JH
CATEGORIES:Inter County Cup
END:VEVENT
BEGIN:VEVENT
DTSTART;VALUE=DATE:20221203
DTEND;VALUE=DATE:20221204
DTSTAMP:20260425T130657
CREATED:20221031T185237Z
LAST-MODIFIED:20221031T212024Z
UID:10000012-1670025600-1670111999@gsmba.uk
SUMMARY:County Triples
DESCRIPTION:
URL:/event/county-triples/
LOCATION:Churchdown Community Centre\, Parton Road\, Churchdown\, GL3 2JH
CATEGORIES:County/Nationals
END:VEVENT
BEGIN:VEVENT
DTSTART;TZID=Europe/London:20221126T100000
DTEND;TZID=Europe/London:20221126T100000
DTSTAMP:20260425T130657
CREATED:20221031T192304Z
LAST-MODIFIED:20221031T200920Z
UID:10000023-1669456800-1669456800@gsmba.uk
SUMMARY:ICC Herefordshire
DESCRIPTION:
URL:/event/icc-herefordshire/
LOCATION:Larruperz Centre\, Grammar School Close Ross-on-Wye\, HR9 7QD
CATEGORIES:Inter County Cup
END:VEVENT
BEGIN:VEVENT
DTSTART;TZID=Europe/London:20221113T100000
DTEND;TZID=Europe/London:20221113T100000
DTSTAMP:20260425T130657
CREATED:20221031T191547Z
LAST-MODIFIED:20221031T200854Z
UID:10000021-1668333600-1668333600@gsmba.uk
SUMMARY:ICC Cheshire
DESCRIPTION:
URL:/event/icc-cheshire/
LOCATION:Winnington Park Recreation Club\, Park Road\, Winnington\, CW8 4EB
CATEGORIES:Inter County Cup
END:VEVENT
BEGIN:VEVENT
DTSTART;TZID=Europe/London:20221105T093000
DTEND;TZID=Europe/London:20221105T093000
DTSTAMP:20260425T130657
CREATED:20221031T194358Z
LAST-MODIFIED:20221031T200712Z
UID:10000034-1667640600-1667640600@gsmba.uk
SUMMARY:Bill Mackay Cup
DESCRIPTION:
URL:/event/bill-mackay-cup-2/
LOCATION:Churchdown Community Centre\, Parton Road\, Churchdown\, GL3 2JH
CATEGORIES:Bill Mackay Cup
END:VEVENT
BEGIN:VEVENT
DTSTART;VALUE=DATE:20221030
DTEND;VALUE=DATE:20221031
DTSTAMP:20260425T130657
CREATED:20221031T185336Z
LAST-MODIFIED:20221031T185336Z
UID:10000013-1667088000-1667174399@gsmba.uk
SUMMARY:County Pairs
DESCRIPTION:
URL:/event/county-pairs/
LOCATION:Churchdown Community Centre\, Parton Road\, Churchdown\, GL3 2JH
CATEGORIES:County/Nationals
END:VEVENT
BEGIN:VEVENT
DTSTART;TZID=Europe/London:20221023T100000
DTEND;TZID=Europe/London:20221023T170000
DTSTAMP:20260425T130657
CREATED:20221031T193357Z
LAST-MODIFIED:20221031T193738Z
UID:10000032-1666519200-1666544400@gsmba.uk
SUMMARY:Brunell Cup
DESCRIPTION:
URL:/event/brunell-cup-2/
LOCATION:Bristol Indoor Bowls Club\, South Liberty Lane\, Bedminster Bristol\, BS3 2TY
CATEGORIES:Brunell Cup
END:VEVENT
BEGIN:VEVENT
DTSTART;TZID=Europe/London:20221015T100000
DTEND;TZID=Europe/London:20221015T170000
DTSTAMP:20260425T130657
CREATED:20221031T193217Z
LAST-MODIFIED:20221031T193941Z
UID:10000031-1665828000-1665853200@gsmba.uk
SUMMARY:Brunell Cup
DESCRIPTION:
URL:/event/brunell-cup/
LOCATION:Churchdown Community Centre\, Parton Road\, Churchdown\, GL3 2JH
CATEGORIES:Brunell Cup
END:VEVENT
BEGIN:VEVENT
DTSTART;VALUE=DATE:20221009
DTEND;VALUE=DATE:20221010
DTSTAMP:20260425T130657
CREATED:20221031T185448Z
LAST-MODIFIED:20221031T185448Z
UID:10000014-1665273600-1665359999@gsmba.uk
SUMMARY:County Singles
DESCRIPTION:
URL:/event/county-singles/
LOCATION:Churchdown Community Centre\, Parton Road\, Churchdown\, GL3 2JH
CATEGORIES:County/Nationals
END:VEVENT
BEGIN:VEVENT
DTSTART;TZID=Europe/London:20221008T100000
DTEND;TZID=Europe/London:20221008T170000
DTSTAMP:20260425T130657
CREATED:20221031T191406Z
LAST-MODIFIED:20221031T191726Z
UID:10000020-1665223200-1665248400@gsmba.uk
SUMMARY:ICC Worcestershire
DESCRIPTION:
URL:/event/icc-worcestershire-2/
LOCATION:Churchdown Community Centre\, Parton Road\, Churchdown\, GL3 2JH
CATEGORIES:Inter County Cup
END:VEVENT
BEGIN:VEVENT
DTSTART;TZID=Europe/London:20221002T100000
DTEND;TZID=Europe/London:20221002T170000
DTSTAMP:20260425T130657
CREATED:20221031T191232Z
LAST-MODIFIED:20221031T193652Z
UID:10000019-1664704800-1664730000@gsmba.uk
SUMMARY:ICC Worcestershire
DESCRIPTION:
URL:/event/icc-worcestershire/
LOCATION:Bromsgrove Indoor Bowls Club\, Austin Road\, Charford Bromsgrove\, B60 3PT
CATEGORIES:Inter County Cup
END:VEVENT
BEGIN:VEVENT
DTSTART;VALUE=DATE:20221001
DTEND;VALUE=DATE:20221002
DTSTAMP:20260425T130657
CREATED:20221031T183932Z
LAST-MODIFIED:20221031T210536Z
UID:10000006-1664582400-1664668799@gsmba.uk
SUMMARY:ESMBA Open Singles
DESCRIPTION:Open Singles  \n\n\n\nOpen to all ESMBA registered playersFour top Quality competitions at Four different venuesWinners invited to represent England at World Championships in Aberdeen 18th & 19th MarchPrize money for the winners\, runners up and Plate Winners(£10 per player)
URL:/event/esmba-open-singles/
LOCATION:Solihul Indoor Bowling Club\, Brick Kiln Lane\, Solihull\, B91 3LE
CATEGORIES:ESMBA Open
END:VEVENT
BEGIN:VEVENT
DTSTART;TZID=Europe/London:20220926T190000
DTEND;TZID=Europe/London:20220926T190000
DTSTAMP:20260425T130657
CREATED:20221031T184344Z
LAST-MODIFIED:20221031T184344Z
UID:10000008-1664218800-1664218800@gsmba.uk
SUMMARY:GSMBA Committee
DESCRIPTION:
URL:/event/gsmba-committee/
LOCATION:Kingsway Community Centre\, Thatcham Avenue\, Quedgeley\, Gloucester\, GL2 2GS
CATEGORIES:GSMBA Committee
END:VEVENT
BEGIN:VEVENT
DTSTART;VALUE=DATE:20220925
DTEND;VALUE=DATE:20220926
DTSTAMP:20260425T130657
CREATED:20221031T195317Z
LAST-MODIFIED:20240527T093306Z
UID:10000038-1664064000-1664150399@gsmba.uk
SUMMARY:County Team Practice
DESCRIPTION:Pre-season County Players Team Practice
URL:/event/county-team-practice/
LOCATION:Churchdown Community Centre\, Parton Road\, Churchdown\, GL3 2JH
CATEGORIES:Inter County Cup
END:VEVENT
BEGIN:VEVENT
DTSTART;VALUE=DATE:20220917
DTEND;VALUE=DATE:20220918
DTSTAMP:20260425T130657
CREATED:20221031T184146Z
LAST-MODIFIED:20250821T075922Z
UID:10000007-1663372800-1663459199@gsmba.uk
SUMMARY:ESMBA Open Fours
DESCRIPTION:Open Fours \n\n\n\nOpen to all ESMBA registered playersFour top Quality competitions at Four different venuesWinners invited to represent England at World Championships in Aberdeen 18th & 19th MarchPrize money for the winners\, runners up and Plate Winners(£40 per four) \n\nMarch IBC\, March Cambridgshire
URL:/event/esmba-open-fours/
CATEGORIES:ESMBA Open
ATTACH;FMTTYPE=image/png:/wp-content/uploads/2024/07/output-onlinepngtools-29.png
END:VEVENT
BEGIN:VEVENT
DTSTART;TZID=Europe/London:20220913T184500
DTEND;TZID=Europe/London:20220913T184500
DTSTAMP:20260425T130657
CREATED:20221031T173748Z
LAST-MODIFIED:20221031T195151Z
UID:10000001-1663094700-1663094700@gsmba.uk
SUMMARY:Summer League
DESCRIPTION:FINAL \n\n\n\nKingswayYorkley KestrelsWestbury LancastersWestbury Hurricanes
URL:/event/summer-league-final/
LOCATION:Wotton Hall Social Club\, 138 Barnwood Road\, Gloucester\, GL4 3JS
CATEGORIES:Summer
END:VEVENT
BEGIN:VEVENT
DTSTART;TZID=Europe/London:20220908T190000
DTEND;TZID=Europe/London:20220908T190000
DTSTAMP:20260425T130657
CREATED:20221031T180700Z
LAST-MODIFIED:20221031T180928Z
UID:10000002-1662663600-1662663600@gsmba.uk
SUMMARY:Summer League
DESCRIPTION:Play-Off \n\n\n\nWestbury HurricanesYorkley FalconsLonghopeYorkley Merlins (Eliminator winners)
URL:/event/summer-league-play-off/
LOCATION:Ripple Parish Hall\, School Lane\, Ripple\, Tewkesbury\, GL20 6EU
CATEGORIES:Summer
END:VEVENT
BEGIN:VEVENT
DTSTART;TZID=Europe/London:20220906T184500
DTEND;TZID=Europe/London:20220906T184500
DTSTAMP:20260425T130657
CREATED:20221031T180850Z
LAST-MODIFIED:20221031T181114Z
UID:10000003-1662489900-1662489900@gsmba.uk
SUMMARY:Summer League
DESCRIPTION:Eliminator \n\n\n\nWestbury WellingtonsRipple RavensForest of DeanYorkley Merlins
URL:/event/summer-league-eliminator/
LOCATION:Yorkley Community Centre\, Bailey Hill\, Yorkley\, Gloucester\, GL15 4RS
CATEGORIES:Summer
END:VEVENT
BEGIN:VEVENT
DTSTART;VALUE=DATE:20220903
DTEND;VALUE=DATE:20220904
DTSTAMP:20260425T130657
CREATED:20221031T195053Z
LAST-MODIFIED:20250821T075140Z
UID:10000037-1662163200-1662249599@gsmba.uk
SUMMARY:ESMBA Open Pairs
DESCRIPTION:Open Pairs \n\n\n\nOpen to all ESMBA registered playersFour top Quality competitions at Four different venuesWinners invited to represent England at World Championships in Aberdeen 18th & 19th MarchPrize money for the winners\, runners up and Plate Winners(£20 per pair) \n\nMote Park IBC\, Mainstone Kent
URL:/event/esmba-open-pairs/
CATEGORIES:ESMBA Open
ATTACH;FMTTYPE=image/png:/wp-content/uploads/2024/07/output-onlinepngtools-29.png
END:VEVENT
END:VCALENDAR