BEGIN:VCALENDAR
VERSION:2.0
PRODID:-//GSMBA - ECPv6.11.1//NONSGML v1.0//EN
CALSCALE:GREGORIAN
METHOD:PUBLISH
X-WR-CALNAME:GSMBA
X-ORIGINAL-URL:https://gsmba.uk
X-WR-CALDESC:Events for GSMBA
REFRESH-INTERVAL;VALUE=DURATION:PT1H
X-Robots-Tag:noindex
X-PUBLISHED-TTL:PT1H
BEGIN:VTIMEZONE
TZID:Europe/London
BEGIN:DAYLIGHT
TZOFFSETFROM:+0000
TZOFFSETTO:+0100
TZNAME:BST
DTSTART:20230326T010000
END:DAYLIGHT
BEGIN:STANDARD
TZOFFSETFROM:+0100
TZOFFSETTO:+0000
TZNAME:GMT
DTSTART:20231029T010000
END:STANDARD
END:VTIMEZONE
BEGIN:VEVENT
DTSTART;VALUE=DATE:20230318
DTEND;VALUE=DATE:20230320
DTSTAMP:20260420T212137
CREATED:20221031T183233Z
LAST-MODIFIED:20230116T170342Z
UID:1650-1679097600-1679270399@gsmba.uk
SUMMARY:World Championships
DESCRIPTION:Singles: Alex Kley\, Edward Sawbridge \nPairs: (Chris Willies\, Gary Best)\, (Michael Doorey\, Jody Frampton) \nTriples: (Adam Easthope\, Nathan Caines\, Josh Hale)\, (Craig Strong\, Jon Pitcher\, Ross Dunkley) \nFours: (Paul Pomery\, Tom Perris\, James Smith\, Sam Harvey)\, (Danny Hogben\, AJ Brown\, Ryan Knight\, Adam Smith)
URL:/event/world-championships/
LOCATION:Aberdeen Indoor Bowling Club\, Summerhill Road Aberdeen AB15 6EE
CATEGORIES:World Championship
END:VEVENT
END:VCALENDAR