BEGIN:VCALENDAR
VERSION:2.0
PRODID:-//GSMBA - ECPv6.11.1//NONSGML v1.0//EN
CALSCALE:GREGORIAN
METHOD:PUBLISH
X-WR-CALNAME:GSMBA
X-ORIGINAL-URL:https://gsmba.uk
X-WR-CALDESC:Events for GSMBA
REFRESH-INTERVAL;VALUE=DURATION:PT1H
X-Robots-Tag:noindex
X-PUBLISHED-TTL:PT1H
BEGIN:VTIMEZONE
TZID:Europe/London
BEGIN:DAYLIGHT
TZOFFSETFROM:+0000
TZOFFSETTO:+0100
TZNAME:BST
DTSTART:20230326T010000
END:DAYLIGHT
BEGIN:STANDARD
TZOFFSETFROM:+0100
TZOFFSETTO:+0000
TZNAME:GMT
DTSTART:20231029T010000
END:STANDARD
END:VTIMEZONE
BEGIN:VEVENT
DTSTART;VALUE=DATE:20230826
DTEND;VALUE=DATE:20230828
DTSTAMP:20260425T045635
CREATED:20230505T151749Z
LAST-MODIFIED:20230914T073413Z
UID:2429-1693008000-1693180799@gsmba.uk
SUMMARY:UK Open
DESCRIPTION:The UK Open was first played in 2012 in Guildford before moving to Bromsgrove in 2013. 2017 saw the tournament move again\, this time to Chelmsford. \nIt is traditionally the first ranking event of the season. \nFormat\n\nPlayers will be in groups of 5 or 6.\nThe top 2 players from each group will qualify for the main Cup.\nThird and Fourth placed players will qualify for the Plate.\nThe remaining players will qualify for the Shield.\nSaturday: Registration is from 7.45am-8.45am.\nPractice is allowed from 8am-8.45am and play commences at 9am on both days.\nGroup games will be played on Saturday and Sunday morning with the knock-out stages following on Sunday afternoon.\nPlayers will be required to mark up to 3 games during the group stage and a knockout game.
URL:/event/uk-open/
LOCATION:Falcon Bowling and Social Club\, Channels Dr\, Broomfield\, Chelmsford\, CM3 3FB
CATEGORIES:Open Tournament,SMPT
END:VEVENT
END:VCALENDAR