BEGIN:VCALENDAR
VERSION:2.0
PRODID:-//GSMBA - ECPv6.11.1//NONSGML v1.0//EN
CALSCALE:GREGORIAN
METHOD:PUBLISH
X-WR-CALNAME:GSMBA
X-ORIGINAL-URL:https://gsmba.uk
X-WR-CALDESC:Events for GSMBA
REFRESH-INTERVAL;VALUE=DURATION:PT1H
X-Robots-Tag:noindex
X-PUBLISHED-TTL:PT1H
BEGIN:VTIMEZONE
TZID:Europe/London
BEGIN:DAYLIGHT
TZOFFSETFROM:+0000
TZOFFSETTO:+0100
TZNAME:BST
DTSTART:20250330T010000
END:DAYLIGHT
BEGIN:STANDARD
TZOFFSETFROM:+0100
TZOFFSETTO:+0000
TZNAME:GMT
DTSTART:20251026T010000
END:STANDARD
END:VTIMEZONE
BEGIN:VEVENT
DTSTART;TZID=Europe/London:20250415T190000
DTEND;TZID=Europe/London:20250415T214000
DTSTAMP:20260420T081859
CREATED:20250218T003110Z
LAST-MODIFIED:20250312T210935Z
UID:5078-1744743600-1744753200@gsmba.uk
SUMMARY:Summer League @ Wotton Hall
DESCRIPTION:Wotton Hall\, Kingsway (Swans)\, Ripple (Ravens)\, Forest of Dean (Stags) \n	\n\n		\n\n			\n			\n		\n	\n			\n\n							\n					\n				\n			\n			\n									Summer League 25 Division Bee\n				\n									Wotton Hall Social Club\n					|\n				\n									15 Apr 2025\n											19:00\n												\n\n			\n		\n		\n	\n	\n		\n\n							\n			\n			\n				Wotton Hall			\n\n			\n				3\n			\n\n		\n		\n\n			\n			    \n				3\n				11\n			\n\n		\n		\n\n							\n			\n			\n				Kingsway (Swans)			\n\n			\n				11\n			\n		\n\n					\n	\n\n\n\n			\n			\n		\n	\n			\n\n							\n					\n				\n			\n			\n									Summer League 25 Division Bee\n				\n									Wotton Hall Social Club\n					|\n				\n									15 Apr 2025\n											19:00\n												\n\n			\n		\n		\n	\n	\n		\n\n							\n			\n			\n				Ripple (Ravens)			\n\n			\n				6\n			\n\n		\n		\n\n			\n			    \n				6\n				14\n			\n\n		\n		\n\n							\n			\n			\n				Forest of Dean (Stags)			\n\n			\n				14\n			\n		\n\n					\n	\n\n\n\n			\n			\n		\n	\n			\n\n							\n					\n				\n			\n			\n									Summer League 25 Division Bee\n				\n									Wotton Hall Social Club\n					|\n				\n									15 Apr 2025\n											19:50\n												\n\n			\n		\n		\n	\n	\n		\n\n							\n			\n			\n				Kingsway (Swans)			\n\n			\n				13\n			\n\n		\n		\n\n			\n			    \n				13\n				5\n			\n\n		\n		\n\n							\n			\n			\n				Ripple (Ravens)			\n\n			\n				5\n			\n		\n\n					\n	\n\n\n\n			\n			\n		\n	\n			\n\n							\n					\n				\n			\n			\n									Summer League 25 Division Bee\n				\n									Wotton Hall Social Club\n					|\n				\n									15 Apr 2025\n											19:50\n												\n\n			\n		\n		\n	\n	\n		\n\n							\n			\n			\n				Forest of Dean (Stags)			\n\n			\n				7\n			\n\n		\n		\n\n			\n			    \n				7\n				5\n			\n\n		\n		\n\n							\n			\n			\n				Wotton Hall			\n\n			\n				5\n			\n		\n\n					\n	\n\n\n\n			\n			\n		\n	\n			\n\n							\n					\n				\n			\n			\n									Summer League 25 Division Bee\n				\n									Wotton Hall Social Club\n					|\n				\n									15 Apr 2025\n											20:55\n												\n\n			\n		\n		\n	\n	\n		\n\n							\n			\n			\n				Kingsway (Swans)			\n\n			\n				7\n			\n\n		\n		\n\n			\n			    \n				7\n				3\n			\n\n		\n		\n\n							\n			\n			\n				Forest of Dean (Stags)			\n\n			\n				3\n			\n		\n\n					\n	\n\n\n\n			\n			\n		\n	\n			\n\n							\n					\n				\n			\n			\n									Summer League 25 Division Bee\n				\n									Wotton Hall Social Club\n					|\n				\n									15 Apr 2025\n											20:55\n												\n\n			\n		\n		\n	\n	\n		\n\n							\n			\n			\n				Wotton Hall			\n\n			\n				6\n			\n\n		\n		\n\n			\n			    \n				6\n				4\n			\n\n		\n		\n\n							\n			\n			\n				Ripple (Ravens)			\n\n			\n				4
URL:/event/summer-league-wotton-hall-3/
LOCATION:Wotton Hall Social Club\, 138 Barnwood Road\, Gloucester\, GL4 3JS
CATEGORIES:Summer
END:VEVENT
END:VCALENDAR