BEGIN:VCALENDAR
VERSION:2.0
PRODID:-//GSMBA - ECPv6.11.1//NONSGML v1.0//EN
CALSCALE:GREGORIAN
METHOD:PUBLISH
X-WR-CALNAME:GSMBA
X-ORIGINAL-URL:https://gsmba.uk
X-WR-CALDESC:Events for GSMBA
REFRESH-INTERVAL;VALUE=DURATION:PT1H
X-Robots-Tag:noindex
X-PUBLISHED-TTL:PT1H
BEGIN:VTIMEZONE
TZID:Europe/London
BEGIN:DAYLIGHT
TZOFFSETFROM:+0000
TZOFFSETTO:+0100
TZNAME:BST
DTSTART:20230326T010000
END:DAYLIGHT
BEGIN:STANDARD
TZOFFSETFROM:+0100
TZOFFSETTO:+0000
TZNAME:GMT
DTSTART:20231029T010000
END:STANDARD
END:VTIMEZONE
BEGIN:VEVENT
DTSTART;TZID=Europe/London:20230816T190000
DTEND;TZID=Europe/London:20230816T214500
DTSTAMP:20260425T050335
CREATED:20230324T215748Z
LAST-MODIFIED:20230410T200512Z
UID:2226-1692212400-1692222300@gsmba.uk
SUMMARY:Summer League @Westbury
DESCRIPTION:Division A \n\n	\n\n		\n\n	\n			\n\n			\n			\n									Summer League 23 Division A\n				\n									Westbury on Severn Parish Hall\n					|\n				\n									16 Aug 2023\n											19:00\n												\n\n			\n		\n		\n	\n	\n		\n\n							\n			\n			\n				Wotton Hall (Javelins)			\n\n			\n				4\n			\n\n		\n		\n\n			\n			    \n				4\n				0\n			\n\n		\n		\n\n							\n			\n			\n				Ripple (Rooks)			\n\n			\n				0\n			\n		\n\n					\n	\n\n\n\n	\n			\n\n			\n			\n									Summer League 23 Division A\n				\n									Westbury on Severn Parish Hall\n					|\n				\n									16 Aug 2023\n											19:00\n												\n\n			\n		\n		\n	\n	\n		\n\n							\n			\n			\n				Westbury (Hurricanes)			\n\n			\n				4\n			\n\n		\n		\n\n			\n			    \n				4\n				0\n			\n\n		\n		\n\n							\n			\n			\n				Westbury (Wellingtons)			\n\n			\n				0\n			\n		\n\n					\n	\n\n\n\n	\n			\n\n			\n			\n									Summer League 23 Division A\n				\n									Westbury on Severn Parish Hall\n					|\n				\n									16 Aug 2023\n											19:50\n												\n\n			\n		\n		\n	\n	\n		\n\n							\n			\n			\n				Westbury (Hurricanes)			\n\n			\n				4\n			\n\n		\n		\n\n			\n			    \n				4\n				0\n			\n\n		\n		\n\n							\n			\n			\n				Ripple (Rooks)			\n\n			\n				0\n			\n		\n\n					\n	\n\n\n\n	\n			\n\n			\n			\n									Summer League 23 Division A\n				\n									Westbury on Severn Parish Hall\n					|\n				\n									16 Aug 2023\n											19:50\n												\n\n			\n		\n		\n	\n	\n		\n\n							\n			\n			\n				Westbury (Wellingtons)			\n\n			\n				4\n			\n\n		\n		\n\n			\n			    \n				4\n				0\n			\n\n		\n		\n\n							\n			\n			\n				Wotton Hall (Javelins)			\n\n			\n				0\n			\n		\n\n					\n	\n\n\n\n	\n			\n\n			\n			\n									Summer League 23 Division A\n				\n									Westbury on Severn Parish Hall\n					|\n				\n									16 Aug 2023\n											20:55\n												\n\n			\n		\n		\n	\n	\n		\n\n							\n			\n			\n				Ripple (Rooks)			\n\n			\n				4\n			\n\n		\n		\n\n			\n			    \n				4\n				0\n			\n\n		\n		\n\n							\n			\n			\n				Westbury (Wellingtons)			\n\n			\n				0\n			\n		\n\n					\n	\n\n\n\n	\n			\n\n			\n			\n									Summer League 23 Division A\n				\n									Westbury on Severn Parish Hall\n					|\n				\n									16 Aug 2023\n											20:55\n												\n\n			\n		\n		\n	\n	\n		\n\n							\n			\n			\n				Wotton Hall (Javelins)			\n\n			\n				0\n			\n\n		\n		\n\n			\n			    \n				0\n				4\n			\n\n		\n		\n\n							\n			\n			\n				Westbury (Hurricanes)			\n\n			\n				4
URL:/event/summer-league-westbury-4/
LOCATION:Westbury on Severn Parish Hall\, Rodley Road\, Westbury-on-Severn\, Gloucester GL14 1PF
CATEGORIES:Summer
END:VEVENT
END:VCALENDAR