BEGIN:VCALENDAR
VERSION:2.0
PRODID:-//GSMBA - ECPv6.11.1//NONSGML v1.0//EN
CALSCALE:GREGORIAN
METHOD:PUBLISH
X-WR-CALNAME:GSMBA
X-ORIGINAL-URL:https://gsmba.uk
X-WR-CALDESC:Events for GSMBA
REFRESH-INTERVAL;VALUE=DURATION:PT1H
X-Robots-Tag:noindex
X-PUBLISHED-TTL:PT1H
BEGIN:VTIMEZONE
TZID:Europe/London
BEGIN:DAYLIGHT
TZOFFSETFROM:+0000
TZOFFSETTO:+0100
TZNAME:BST
DTSTART:20250330T010000
END:DAYLIGHT
BEGIN:STANDARD
TZOFFSETFROM:+0100
TZOFFSETTO:+0000
TZNAME:GMT
DTSTART:20251026T010000
END:STANDARD
END:VTIMEZONE
BEGIN:VEVENT
DTSTART;TZID=Europe/London:20250918T190000
DTEND;TZID=Europe/London:20250918T190000
DTSTAMP:20260422T093546
CREATED:20250821T071338Z
LAST-MODIFIED:20250918T232051Z
UID:5671-1758222000-1758222000@gsmba.uk
SUMMARY:Summer League: Semi Finals
DESCRIPTION:Revised Date … POSTPONED due to Bereavement \nYorkley (Kestrels)\, Kingsways (Swans) plus two play-off winners\nWestbury (Wellingtons) and Yorkley (Canaries) \nA packed Wotton Hall Social Club saw supporters filling both sides of the venue\, creating a lively atmosphere. The evening’s matches were all but decided after the first two games\, with Yorkley (Kestrels) and Kingsway (Swans) securing victories. These wins mean they now progress to face Defford (Diamonds) and Yorkley (Falcons) at Ripple on 02 October. \nA big thank you goes to Wotton Hall for hosting\, and for providing teas and refreshments. There was plenty of friendly chat about the upcoming league\, the County Championships at Kingsway\, and the eagerly anticipated Knockout Cup draw. \nTo round off the evening\, Gary raised £80 for Cancer Care Supporters – a fantastic effort for a great cause.
URL:/event/summer-league-semi-finals/
LOCATION:Wotton Hall Social Club\, 138 Barnwood Road\, Gloucester\, GL4 3JS
CATEGORIES:Summer
ATTACH;FMTTYPE=image/png:/wp-content/uploads/2024/09/Summer-league-e1755705151357.png
END:VEVENT
END:VCALENDAR