BEGIN:VCALENDAR
VERSION:2.0
PRODID:-//GSMBA - ECPv6.11.1//NONSGML v1.0//EN
CALSCALE:GREGORIAN
METHOD:PUBLISH
X-WR-CALNAME:GSMBA
X-ORIGINAL-URL:https://gsmba.uk
X-WR-CALDESC:Events for GSMBA
REFRESH-INTERVAL;VALUE=DURATION:PT1H
X-Robots-Tag:noindex
X-PUBLISHED-TTL:PT1H
BEGIN:VTIMEZONE
TZID:Europe/London
BEGIN:DAYLIGHT
TZOFFSETFROM:+0000
TZOFFSETTO:+0100
TZNAME:BST
DTSTART:20250330T010000
END:DAYLIGHT
BEGIN:STANDARD
TZOFFSETFROM:+0100
TZOFFSETTO:+0000
TZNAME:GMT
DTSTART:20251026T010000
END:STANDARD
END:VTIMEZONE
BEGIN:VEVENT
DTSTART;TZID=Europe/London:20250515T190000
DTEND;TZID=Europe/London:20250515T214000
DTSTAMP:20260420T064031
CREATED:20250218T003038Z
LAST-MODIFIED:20250326T211103Z
UID:5060-1747335600-1747345200@gsmba.uk
SUMMARY:Summer League @ Ripple
DESCRIPTION:Ripple (Rooks)\, Huntley (Oaks)\, Kingsway (Cygnets)\, Yorkley (Kestrels) \n	\n\n		\n\n			\n			\n		\n	\n			\n\n							\n					\n				\n			\n			\n									Summer League 25 Division Aye\n				\n									Ripple Parish Hall\n					|\n				\n									15 May 2025\n											19:00\n												\n\n			\n		\n		\n	\n	\n		\n\n							\n			\n			\n				Ripple (Rooks)			\n\n			\n				16\n			\n\n		\n		\n\n			\n			    \n				16\n				0\n			\n\n		\n		\n\n							\n			\n			\n				Huntley (Oaks)			\n\n			\n				0\n			\n		\n\n					\n	\n\n\n\n			\n			\n		\n	\n			\n\n							\n					\n				\n			\n			\n									Summer League 25 Division Aye\n				\n									Ripple Parish Hall\n					|\n				\n									15 May 2025\n											19:00\n												\n\n			\n		\n		\n	\n	\n		\n\n							\n			\n			\n				Kingsway (Cygnets)			\n\n			\n				1\n			\n\n		\n		\n\n			\n			    \n				1\n				9\n			\n\n		\n		\n\n							\n			\n			\n				Yorkley (Kestrels)			\n\n			\n				9\n			\n		\n\n					\n	\n\n\n\n			\n			\n		\n	\n			\n\n							\n					\n				\n			\n			\n									Summer League 25 Division Aye\n				\n									Ripple Parish Hall\n					|\n				\n									15 May 2025\n											19:50\n												\n\n			\n		\n		\n	\n	\n		\n\n							\n			\n			\n				Huntley (Oaks)			\n\n			\n				10\n			\n\n		\n		\n\n			\n			    \n				10\n				8\n			\n\n		\n		\n\n							\n			\n			\n				Kingsway (Cygnets)			\n\n			\n				8\n			\n		\n\n					\n	\n\n\n\n			\n			\n		\n	\n			\n\n							\n					\n				\n			\n			\n									Summer League 25 Division Aye\n				\n									Ripple Parish Hall\n					|\n				\n									15 May 2025\n											19:50\n												\n\n			\n		\n		\n	\n	\n		\n\n							\n			\n			\n				Yorkley (Kestrels)			\n\n			\n				5\n			\n\n		\n		\n\n			\n			    \n				5\n				5\n			\n\n		\n		\n\n							\n			\n			\n				Ripple (Rooks)			\n\n			\n				5\n			\n		\n\n					\n	\n\n\n\n			\n			\n		\n	\n			\n\n							\n					\n				\n			\n			\n									Summer League 25 Division Aye\n				\n									Ripple Parish Hall\n					|\n				\n									15 May 2025\n											20:55\n												\n\n			\n		\n		\n	\n	\n		\n\n							\n			\n			\n				Huntley (Oaks)			\n\n			\n				1\n			\n\n		\n		\n\n			\n			    \n				1\n				15\n			\n\n		\n		\n\n							\n			\n			\n				Yorkley (Kestrels)			\n\n			\n				15\n			\n		\n\n					\n	\n\n\n\n			\n			\n		\n	\n			\n\n							\n					\n				\n			\n			\n									Summer League 25 Division Aye\n				\n									Ripple Parish Hall\n					|\n				\n									15 May 2025\n											20:55\n												\n\n			\n		\n		\n	\n	\n		\n\n							\n			\n			\n				Ripple (Rooks)			\n\n			\n				4\n			\n\n		\n		\n\n			\n			    \n				4\n				5\n			\n\n		\n		\n\n							\n			\n			\n				Kingsway (Cygnets)			\n\n			\n				5
URL:/event/summer-league-ripple-5/
LOCATION:Ripple Parish Hall\, School Lane\, Ripple\, Tewkesbury\, GL20 6EU
CATEGORIES:Summer
END:VEVENT
END:VCALENDAR