BEGIN:VCALENDAR
VERSION:2.0
PRODID:-//GSMBA - ECPv6.11.1//NONSGML v1.0//EN
CALSCALE:GREGORIAN
METHOD:PUBLISH
X-WR-CALNAME:GSMBA
X-ORIGINAL-URL:https://gsmba.uk
X-WR-CALDESC:Events for GSMBA
REFRESH-INTERVAL;VALUE=DURATION:PT1H
X-Robots-Tag:noindex
X-PUBLISHED-TTL:PT1H
BEGIN:VTIMEZONE
TZID:Europe/London
BEGIN:DAYLIGHT
TZOFFSETFROM:+0000
TZOFFSETTO:+0100
TZNAME:BST
DTSTART:20230326T010000
END:DAYLIGHT
BEGIN:STANDARD
TZOFFSETFROM:+0100
TZOFFSETTO:+0000
TZNAME:GMT
DTSTART:20231029T010000
END:STANDARD
END:VTIMEZONE
BEGIN:VEVENT
DTSTART;TZID=Europe/London:20230830T191500
DTEND;TZID=Europe/London:20230830T220000
DTSTAMP:20260425T044545
CREATED:20230324T215816Z
LAST-MODIFIED:20230410T200734Z
UID:2228-1693422900-1693432800@gsmba.uk
SUMMARY:Summer League @Kingsway
DESCRIPTION:Division A \n\n	\n\n		\n\n	\n			\n\n			\n			\n									Summer League 23 Division A\n				\n									Kingsway Community Centre\n					|\n				\n									30 Aug 2023\n											19:15\n												\n\n			\n		\n		\n	\n	\n		\n\n							\n			\n			\n				Yorkley 'A'			\n\n			\n				4\n			\n\n		\n		\n\n			\n			    \n				4\n				0\n			\n\n		\n		\n\n							\n			\n			\n				Yorkley (Merlins)			\n\n			\n				0\n			\n		\n\n					\n	\n\n\n\n	\n			\n\n			\n			\n									Summer League 23 Division A\n				\n									Kingsway Community Centre\n					|\n				\n									30 Aug 2023\n											19:15\n												\n\n			\n		\n		\n	\n	\n		\n\n							\n			\n			\n				Kingsway (Swans)			\n\n			\n				5\n			\n\n		\n		\n\n			\n			    \n				5\n				0\n			\n\n		\n		\n\n			\n			\n				Longhope (Badgers)			\n\n			\n				0\n			\n		\n\n					\n	\n\n\n\n	\n			\n\n			\n			\n									Summer League 23 Division A\n				\n									Kingsway Community Centre\n					|\n				\n									30 Aug 2023\n											20:05\n												\n\n			\n		\n		\n	\n	\n		\n\n							\n			\n			\n				Kingsway (Swans)			\n\n			\n				4\n			\n\n		\n		\n\n			\n			    \n				4\n				0\n			\n\n		\n		\n\n							\n			\n			\n				Yorkley (Merlins)			\n\n			\n				0\n			\n		\n\n					\n	\n\n\n\n	\n			\n\n			\n			\n									Summer League 23 Division A\n				\n									Kingsway Community Centre\n					|\n				\n									30 Aug 2023\n											20:05\n												\n\n			\n		\n		\n	\n	\n		\n\n			\n			\n				Longhope (Badgers)			\n\n			\n				0\n			\n\n		\n		\n\n			\n			    \n				0\n				4\n			\n\n		\n		\n\n							\n			\n			\n				Yorkley 'A'			\n\n			\n				4\n			\n		\n\n					\n	\n\n\n\n	\n			\n\n			\n			\n									Summer League 23 Division A\n				\n									Kingsway Community Centre\n					|\n				\n									30 Aug 2023\n											21:10\n												\n\n			\n		\n		\n	\n	\n		\n\n							\n			\n			\n				Yorkley (Merlins)			\n\n			\n				2\n			\n\n		\n		\n\n			\n			    \n				2\n				2\n			\n\n		\n		\n\n			\n			\n				Longhope (Badgers)			\n\n			\n				2\n			\n		\n\n					\n	\n\n\n\n	\n			\n\n			\n			\n									Summer League 23 Division A\n				\n									Kingsway Community Centre\n					|\n				\n									30 Aug 2023\n											21:10\n												\n\n			\n		\n		\n	\n	\n		\n\n							\n			\n			\n				Yorkley 'A'			\n\n			\n				4\n			\n\n		\n		\n\n			\n			    \n				4\n				0\n			\n\n		\n		\n\n							\n			\n			\n				Kingsway (Swans)			\n\n			\n				0
URL:/event/summer-league-kingsway-2/
LOCATION:Kingsway Community Centre\, Thatcham Avenue\, Quedgeley\, Gloucester\, GL2 2GS
CATEGORIES:Summer
END:VEVENT
END:VCALENDAR