BEGIN:VCALENDAR
VERSION:2.0
PRODID:-//GSMBA - ECPv6.11.1//NONSGML v1.0//EN
CALSCALE:GREGORIAN
METHOD:PUBLISH
X-WR-CALNAME:GSMBA
X-ORIGINAL-URL:https://gsmba.uk
X-WR-CALDESC:Events for GSMBA
REFRESH-INTERVAL;VALUE=DURATION:PT1H
X-Robots-Tag:noindex
X-PUBLISHED-TTL:PT1H
BEGIN:VTIMEZONE
TZID:Europe/London
BEGIN:DAYLIGHT
TZOFFSETFROM:+0000
TZOFFSETTO:+0100
TZNAME:BST
DTSTART:20240331T010000
END:DAYLIGHT
BEGIN:STANDARD
TZOFFSETFROM:+0100
TZOFFSETTO:+0000
TZNAME:GMT
DTSTART:20241027T010000
END:STANDARD
END:VTIMEZONE
BEGIN:VEVENT
DTSTART;TZID=Europe/London:20240413T083000
DTEND;TZID=Europe/London:20240413T170000
DTSTAMP:20260424T172719
CREATED:20230913T212038Z
LAST-MODIFIED:20230913T212038Z
UID:2731-1712997000-1713027600@gsmba.uk
SUMMARY:National 4s
DESCRIPTION:
URL:/event/national-4s/
LOCATION:Melton & District Indoor Bowls Club\, Bowling Green\, Leicester Rd\, Melton Mowbray LE13 0LR
CATEGORIES:County/Nationals
END:VEVENT
END:VCALENDAR