BEGIN:VCALENDAR
VERSION:2.0
PRODID:-//GSMBA - ECPv6.11.1//NONSGML v1.0//EN
CALSCALE:GREGORIAN
METHOD:PUBLISH
X-WR-CALNAME:GSMBA
X-ORIGINAL-URL:https://gsmba.uk
X-WR-CALDESC:Events for GSMBA
REFRESH-INTERVAL;VALUE=DURATION:PT1H
X-Robots-Tag:noindex
X-PUBLISHED-TTL:PT1H
BEGIN:VTIMEZONE
TZID:Europe/London
BEGIN:DAYLIGHT
TZOFFSETFROM:+0000
TZOFFSETTO:+0100
TZNAME:BST
DTSTART:20240331T010000
END:DAYLIGHT
BEGIN:STANDARD
TZOFFSETFROM:+0100
TZOFFSETTO:+0000
TZNAME:GMT
DTSTART:20241027T010000
END:STANDARD
END:VTIMEZONE
BEGIN:VEVENT
DTSTART;TZID=Europe/London:20241104T190000
DTEND;TZID=Europe/London:20241104T203000
DTSTAMP:20260423T114013
CREATED:20241031T075348Z
LAST-MODIFIED:20241031T075801Z
UID:4496-1730746800-1730752200@gsmba.uk
SUMMARY:GSMBA: Management Committee Meeting
DESCRIPTION:Apologies\nMinutes of previous meeting (circulated with agenda)\nA revised copy of the Constitution is also attached\nMatters arising from minutes.\nReports\na. Secretary (including correspondence)\nb. Treasurer\nc. Membership Secretary\nd. Competition Secretary\ne. League Secretary\nf. County Team Captain\nProposed Amendments to the Constitution\nAOB not requiring advance notice to the Committee\nDate of next meeting
URL:/event/gsmba-management-committee-meeting-2/
LOCATION:Kingsway Community Centre\, Thatcham Avenue\, Quedgeley\, Gloucester\, GL2 2GS
CATEGORIES:GSMBA Committee
END:VEVENT
END:VCALENDAR