BEGIN:VCALENDAR
VERSION:2.0
PRODID:-//GSMBA - ECPv6.11.1//NONSGML v1.0//EN
CALSCALE:GREGORIAN
METHOD:PUBLISH
X-WR-CALNAME:GSMBA
X-ORIGINAL-URL:https://gsmba.uk
X-WR-CALDESC:Events for GSMBA
REFRESH-INTERVAL;VALUE=DURATION:PT1H
X-Robots-Tag:noindex
X-PUBLISHED-TTL:PT1H
BEGIN:VTIMEZONE
TZID:Europe/London
BEGIN:DAYLIGHT
TZOFFSETFROM:+0000
TZOFFSETTO:+0100
TZNAME:BST
DTSTART:20220327T010000
END:DAYLIGHT
BEGIN:STANDARD
TZOFFSETFROM:+0100
TZOFFSETTO:+0000
TZNAME:GMT
DTSTART:20221030T010000
END:STANDARD
END:VTIMEZONE
BEGIN:VEVENT
DTSTART;VALUE=DATE:20220917
DTEND;VALUE=DATE:20220918
DTSTAMP:20260423T170607
CREATED:20221031T184146Z
LAST-MODIFIED:20250821T075922Z
UID:1657-1663372800-1663459199@gsmba.uk
SUMMARY:ESMBA Open Fours
DESCRIPTION:Open Fours \n\n\n\nOpen to all ESMBA registered playersFour top Quality competitions at Four different venuesWinners invited to represent England at World Championships in Aberdeen 18th & 19th MarchPrize money for the winners\, runners up and Plate Winners(£40 per four) \n\nMarch IBC\, March Cambridgshire
URL:/event/esmba-open-fours/
CATEGORIES:ESMBA Open
ATTACH;FMTTYPE=image/png:/wp-content/uploads/2024/07/output-onlinepngtools-29.png
END:VEVENT
END:VCALENDAR