BEGIN:VCALENDAR
VERSION:2.0
PRODID:-//GSMBA - ECPv6.11.1//NONSGML v1.0//EN
CALSCALE:GREGORIAN
METHOD:PUBLISH
X-WR-CALNAME:GSMBA
X-ORIGINAL-URL:https://gsmba.uk
X-WR-CALDESC:Events for GSMBA
REFRESH-INTERVAL;VALUE=DURATION:PT1H
X-Robots-Tag:noindex
X-PUBLISHED-TTL:PT1H
BEGIN:VTIMEZONE
TZID:Europe/London
BEGIN:DAYLIGHT
TZOFFSETFROM:+0000
TZOFFSETTO:+0100
TZNAME:BST
DTSTART:20240331T010000
END:DAYLIGHT
BEGIN:STANDARD
TZOFFSETFROM:+0100
TZOFFSETTO:+0000
TZNAME:GMT
DTSTART:20241027T010000
END:STANDARD
END:VTIMEZONE
BEGIN:VEVENT
DTSTART;TZID=Europe/London:20240619T191500
DTEND;TZID=Europe/London:20240619T214500
DTSTAMP:20260420T133758
CREATED:20240328T223451Z
LAST-MODIFIED:20240328T223451Z
UID:3516-1718824500-1718833500@gsmba.uk
SUMMARY:Division B @ Kingsway
DESCRIPTION:Kingsway (Swans)\, Westbury on Severn (Lancasters)\, Longhope (Foxes)\, Yorkley (Falcons)  \n	\n\n		\n\n			\n			\n		\n	\n			\n\n							\n					\n				\n			\n			\n									Summer League 24 Division B\n				\n									Kingsway Community Centre\n					|\n				\n									19 Jun 2024\n											19:00\n												\n\n			\n		\n		\n	\n	\n		\n\n							\n			\n			\n				Kingsway (Swans)			\n\n			\n				10\n			\n\n		\n		\n\n			\n			    \n				10\n				4\n			\n\n		\n		\n\n							\n			\n			\n				Westbury (Lancasters)			\n\n			\n				4\n			\n		\n\n					\n	\n\n\n\n			\n			\n		\n	\n			\n\n							\n					\n				\n			\n			\n									Summer League 24 Division B\n				\n									Kingsway Community Centre\n					|\n				\n									19 Jun 2024\n											19:00\n												\n\n			\n		\n		\n	\n	\n		\n\n							\n			\n			\n				Longhope (Foxes)			\n\n			\n				4\n			\n\n		\n		\n\n			\n			    \n				4\n				8\n			\n\n		\n		\n\n							\n			\n			\n				Yorkley (Falcons)			\n\n			\n				8\n			\n		\n\n					\n	\n\n\n\n			\n			\n		\n	\n			\n\n							\n					\n				\n			\n			\n									Summer League 24 Division B\n				\n									Kingsway Community Centre\n					|\n				\n									19 Jun 2024\n											19:45\n												\n\n			\n		\n		\n	\n	\n		\n\n							\n			\n			\n				Yorkley (Falcons)			\n\n			\n				5\n			\n\n		\n		\n\n			\n			    \n				5\n				5\n			\n\n		\n		\n\n							\n			\n			\n				Kingsway (Swans)			\n\n			\n				5\n			\n		\n\n					\n	\n\n\n\n			\n			\n		\n	\n			\n\n							\n					\n				\n			\n			\n									Summer League 24 Division B\n				\n									Kingsway Community Centre\n					|\n				\n									19 Jun 2024\n											19:45\n												\n\n			\n		\n		\n	\n	\n		\n\n							\n			\n			\n				Longhope (Foxes)			\n\n			\n				0\n			\n\n		\n		\n\n			\n			    \n				0\n				11\n			\n\n		\n		\n\n							\n			\n			\n				Westbury (Lancasters)			\n\n			\n				11\n			\n		\n\n					\n	\n\n\n\n			\n			\n		\n	\n			\n\n							\n					\n				\n			\n			\n									Summer League 24 Division B\n				\n									Kingsway Community Centre\n					|\n				\n									19 Jun 2024\n											20:45\n												\n\n			\n		\n		\n	\n	\n		\n\n							\n			\n			\n				Westbury (Lancasters)			\n\n			\n				8\n			\n\n		\n		\n\n			\n			    \n				8\n				5\n			\n\n		\n		\n\n							\n			\n			\n				Yorkley (Falcons)			\n\n			\n				5\n			\n		\n\n					\n	\n\n\n\n			\n			\n		\n	\n			\n\n							\n					\n				\n			\n			\n									Summer League 24 Division B\n				\n									Kingsway Community Centre\n					|\n				\n									19 Jun 2024\n											20:45\n												\n\n			\n		\n		\n	\n	\n		\n\n							\n			\n			\n				Longhope (Foxes)			\n\n			\n				7\n			\n\n		\n		\n\n			\n			    \n				7\n				3\n			\n\n		\n		\n\n							\n			\n			\n				Kingsway (Swans)			\n\n			\n				3
URL:/event/division-b-kingsway-2/
LOCATION:Kingsway Community Centre\, Thatcham Avenue\, Quedgeley\, Gloucester\, GL2 2GS
CATEGORIES:Summer
END:VEVENT
END:VCALENDAR