BEGIN:VCALENDAR
VERSION:2.0
PRODID:-//GSMBA - ECPv6.11.1//NONSGML v1.0//EN
CALSCALE:GREGORIAN
METHOD:PUBLISH
X-WR-CALNAME:GSMBA
X-ORIGINAL-URL:https://gsmba.uk
X-WR-CALDESC:Events for GSMBA
REFRESH-INTERVAL;VALUE=DURATION:PT1H
X-Robots-Tag:noindex
X-PUBLISHED-TTL:PT1H
BEGIN:VTIMEZONE
TZID:Europe/London
BEGIN:DAYLIGHT
TZOFFSETFROM:+0000
TZOFFSETTO:+0100
TZNAME:BST
DTSTART:20240331T010000
END:DAYLIGHT
BEGIN:STANDARD
TZOFFSETFROM:+0100
TZOFFSETTO:+0000
TZNAME:GMT
DTSTART:20241027T010000
END:STANDARD
END:VTIMEZONE
BEGIN:VEVENT
DTSTART;TZID=Europe/London:20240715T190000
DTEND;TZID=Europe/London:20240715T213000
DTSTAMP:20260422T092635
CREATED:20240328T223453Z
LAST-MODIFIED:20240328T223453Z
UID:3521-1721070000-1721079000@gsmba.uk
SUMMARY:Division B @ FoD
DESCRIPTION:Forest of Dean (Squirrels)\, Longhope (Foxes)\, Yorkley (Falcons)\, Westbury on Severn (Hurricanes)  \n	\n\n		\n\n			\n			\n		\n	\n			\n\n							\n					\n				\n			\n			\n									Summer League 24 Division B\n				\n									Berry Hill Social Club\n					|\n				\n									15 Jul 2024\n											19:00\n												\n\n			\n		\n		\n	\n	\n		\n\n							\n			\n			\n				Forest of Dean (Squirrels)			\n\n			\n				7\n			\n\n		\n		\n\n			\n			    \n				7\n				4\n			\n\n		\n		\n\n							\n			\n			\n				Longhope (Foxes)			\n\n			\n				4\n			\n		\n\n					\n	\n\n\n\n			\n			\n		\n	\n			\n\n							\n					\n				\n			\n			\n									Summer League 24 Division B\n				\n									Berry Hill Social Club\n					|\n				\n									15 Jul 2024\n											19:00\n												\n\n			\n		\n		\n	\n	\n		\n\n							\n			\n			\n				Yorkley (Falcons)			\n\n			\n				10\n			\n\n		\n		\n\n			\n			    \n				10\n				6\n			\n\n		\n		\n\n							\n			\n			\n				Westbury (Hurricanes)			\n\n			\n				6\n			\n		\n\n					\n	\n\n\n\n			\n			\n		\n	\n			\n\n							\n					\n				\n			\n			\n									Summer League 24 Division B\n				\n									Berry Hill Social Club\n					|\n				\n									15 Jul 2024\n											19:45\n												\n\n			\n		\n		\n	\n	\n		\n\n							\n			\n			\n				Westbury (Hurricanes)			\n\n			\n				2\n			\n\n		\n		\n\n			\n			    \n				2\n				7\n			\n\n		\n		\n\n							\n			\n			\n				Forest of Dean (Squirrels)			\n\n			\n				7\n			\n		\n\n					\n	\n\n\n\n			\n			\n		\n	\n			\n\n							\n					\n				\n			\n			\n									Summer League 24 Division B\n				\n									Berry Hill Social Club\n					|\n				\n									15 Jul 2024\n											19:45\n												\n\n			\n		\n		\n	\n	\n		\n\n							\n			\n			\n				Yorkley (Falcons)			\n\n			\n				6\n			\n\n		\n		\n\n			\n			    \n				6\n				4\n			\n\n		\n		\n\n							\n			\n			\n				Longhope (Foxes)			\n\n			\n				4\n			\n		\n\n					\n	\n\n\n\n			\n			\n		\n	\n			\n\n							\n					\n				\n			\n			\n									Summer League 24 Division B\n				\n									Berry Hill Social Club\n					|\n				\n									15 Jul 2024\n											20:45\n												\n\n			\n		\n		\n	\n	\n		\n\n							\n			\n			\n				Longhope (Foxes)			\n\n			\n				8\n			\n\n		\n		\n\n			\n			    \n				8\n				3\n			\n\n		\n		\n\n							\n			\n			\n				Westbury (Hurricanes)			\n\n			\n				3\n			\n		\n\n					\n	\n\n\n\n			\n			\n		\n	\n			\n\n							\n					\n				\n			\n			\n									Summer League 24 Division B\n				\n									Berry Hill Social Club\n					|\n				\n									15 Jul 2024\n											20:45\n												\n\n			\n		\n		\n	\n	\n		\n\n							\n			\n			\n				Yorkley (Falcons)			\n\n			\n				6\n			\n\n		\n		\n\n			\n			    \n				6\n				7\n			\n\n		\n		\n\n							\n			\n			\n				Forest of Dean (Squirrels)			\n\n			\n				7
URL:/event/division-b-fod-2/
LOCATION:Berry Hill Social Club\, Kells Meend\, Berry Hill\, Coleford GL16 7AD
CATEGORIES:Summer
END:VEVENT
END:VCALENDAR