BEGIN:VCALENDAR
VERSION:2.0
PRODID:-//GSMBA - ECPv6.11.1//NONSGML v1.0//EN
CALSCALE:GREGORIAN
METHOD:PUBLISH
X-WR-CALNAME:GSMBA
X-ORIGINAL-URL:https://gsmba.uk
X-WR-CALDESC:Events for GSMBA
REFRESH-INTERVAL;VALUE=DURATION:PT1H
X-Robots-Tag:noindex
X-PUBLISHED-TTL:PT1H
BEGIN:VTIMEZONE
TZID:Europe/London
BEGIN:DAYLIGHT
TZOFFSETFROM:+0000
TZOFFSETTO:+0100
TZNAME:BST
DTSTART:20230326T010000
END:DAYLIGHT
BEGIN:STANDARD
TZOFFSETFROM:+0100
TZOFFSETTO:+0000
TZNAME:GMT
DTSTART:20231029T010000
END:STANDARD
END:VTIMEZONE
BEGIN:VEVENT
DTSTART;TZID=Europe/London:20231125T090000
DTEND;TZID=Europe/London:20231125T170000
DTSTAMP:20260423T114630
CREATED:20230913T211626Z
LAST-MODIFIED:20230913T213333Z
UID:2721-1700902800-1700931600@gsmba.uk
SUMMARY:County Over 55s
DESCRIPTION:To be played at Kingsway Community Centre on 25th November 2023. Start\ntime 9am. Entry fee: £20.00 per PAIR. Entries must include the fee. Closing date\nfor entries: 31st October. \nCounty & Nationals Entry Forms – Over 55s 2023-24
URL:/event/county-over-55s-23/
LOCATION:Kingsway Community Centre\, Thatcham Avenue\, Quedgeley\, Gloucester\, GL2 2GS
CATEGORIES:County/Nationals
END:VEVENT
END:VCALENDAR