BEGIN:VCALENDAR
VERSION:2.0
PRODID:-//GSMBA - ECPv6.11.1//NONSGML v1.0//EN
CALSCALE:GREGORIAN
METHOD:PUBLISH
X-WR-CALNAME:GSMBA
X-ORIGINAL-URL:https://gsmba.uk
X-WR-CALDESC:Events for GSMBA
REFRESH-INTERVAL;VALUE=DURATION:PT1H
X-Robots-Tag:noindex
X-PUBLISHED-TTL:PT1H
BEGIN:VTIMEZONE
TZID:Europe/London
BEGIN:DAYLIGHT
TZOFFSETFROM:+0000
TZOFFSETTO:+0100
TZNAME:BST
DTSTART:20240331T010000
END:DAYLIGHT
BEGIN:STANDARD
TZOFFSETFROM:+0100
TZOFFSETTO:+0000
TZNAME:GMT
DTSTART:20241027T010000
END:STANDARD
END:VTIMEZONE
BEGIN:VEVENT
DTSTART;TZID=Europe/London:20241019T083000
DTEND;TZID=Europe/London:20241019T163000
DTSTAMP:20260420T150100
CREATED:20240131T205841Z
LAST-MODIFIED:20241015T225150Z
UID:3182-1729326600-1729355400@gsmba.uk
SUMMARY:Singles: Championships 2024/25
DESCRIPTION:Please let all your players know that registration\, along with placing of the mats out\, is for 08:30.  Hopefully we can start playing at 09:00.  Tea\, coffee and biscuits will be available all day for a donation of £1 per player\nAny concerns please do not hesitate to contact me \nRegards \nChris Evans\n \n \nESMBA-Singles-EntryDownload\nPlease make sure all entries\, both County Championships and National entries\, are sent to Chris Evans (Competition Organiser) not ESMBA. Costs for entry per discipline per player is £5:00 only. No additional fee for National entries.
URL:/event/county-championships-2024-25-1/
LOCATION:Kingsway Community Centre\, Thatcham Avenue\, Quedgeley\, Gloucester\, GL2 2GS
CATEGORIES:County/Nationals
ATTACH;FMTTYPE=image/png:/wp-content/uploads/2024/01/singles-e1728239982489.png
END:VEVENT
END:VCALENDAR