BEGIN:VCALENDAR
VERSION:2.0
PRODID:-//GSMBA - ECPv6.11.1//NONSGML v1.0//EN
CALSCALE:GREGORIAN
METHOD:PUBLISH
X-WR-CALNAME:GSMBA
X-ORIGINAL-URL:https://gsmba.uk
X-WR-CALDESC:Events for GSMBA
REFRESH-INTERVAL;VALUE=DURATION:PT1H
X-Robots-Tag:noindex
X-PUBLISHED-TTL:PT1H
BEGIN:VTIMEZONE
TZID:Europe/London
BEGIN:DAYLIGHT
TZOFFSETFROM:+0000
TZOFFSETTO:+0100
TZNAME:BST
DTSTART:20240331T010000
END:DAYLIGHT
BEGIN:STANDARD
TZOFFSETFROM:+0100
TZOFFSETTO:+0000
TZNAME:GMT
DTSTART:20241027T010000
END:STANDARD
END:VTIMEZONE
BEGIN:VEVENT
DTSTART;TZID=Europe/London:20240922T080000
DTEND;TZID=Europe/London:20240926T170000
DTSTAMP:20260424T115820
CREATED:20240527T092028Z
LAST-MODIFIED:20240527T092145Z
UID:3784-1726992000-1727370000@gsmba.uk
SUMMARY:Autumn Short Mat Festival 2024
DESCRIPTION:Our Autumn Short Mat Festival is another major event of the short mat calendar. You can choose to stay at either the TLH Derwent or the TLH Toorak Hotel while bowling daily on our indoor arena. We lay up to 16 mats on the arena which gives an excellent playing surface. There is lots of opportunity to bowl both as part of the triples competition as well as the optional pairs competition.
URL:/event/autumn-short-mat-festival-2024/
LOCATION:TLH Leisure Resort\, Belgrave Road\, Torquay\, TQ2 5HS
CATEGORIES:Open Tournament
ATTACH;FMTTYPE=image/png:/wp-content/uploads/2024/05/output-onlinepngtools-3-e1755811731319.png
END:VEVENT
END:VCALENDAR