BEGIN:VCALENDAR
VERSION:2.0
PRODID:-//GSMBA - ECPv6.11.1//NONSGML v1.0//EN
CALSCALE:GREGORIAN
METHOD:PUBLISH
X-WR-CALNAME:GSMBA
X-ORIGINAL-URL:https://gsmba.uk
X-WR-CALDESC:Events for GSMBA
REFRESH-INTERVAL;VALUE=DURATION:PT1H
X-Robots-Tag:noindex
X-PUBLISHED-TTL:PT1H
BEGIN:VTIMEZONE
TZID:Europe/London
BEGIN:DAYLIGHT
TZOFFSETFROM:+0000
TZOFFSETTO:+0100
TZNAME:BST
DTSTART:20230326T010000
END:DAYLIGHT
BEGIN:STANDARD
TZOFFSETFROM:+0100
TZOFFSETTO:+0000
TZNAME:GMT
DTSTART:20231029T010000
END:STANDARD
END:VTIMEZONE
BEGIN:VEVENT
DTSTART;VALUE=DATE:20230414
DTEND;VALUE=DATE:20230415
DTSTAMP:20260420T212023
CREATED:20230330T162355Z
LAST-MODIFIED:20230330T162418Z
UID:2313-1681430400-1681516799@gsmba.uk
SUMMARY:AGM: Nominations for Election of Officers
DESCRIPTION:All officer positions are open to election; to this end the name of any nominee for a position should be advised in writing to the Secretary by Friday 14 April 2023
URL:/event/agm-nominations-for-election-of-officers/
CATEGORIES:GSMBA Committee
END:VEVENT
END:VCALENDAR